Workbook

Sheet Voting Summary
A1: ICCF Congress 2026 Voting Summary
A2: Consolidated proposal results. An em dash indicates that no vote was held.
A4: Approved | B4: =COUNTIF(G9:G43,"Approved") -> 13 | C4: Not Approved | D4: =COUNTIF(G9:G43,"Not Approved") -> 19 | E4: Moot | F4: =COUNTIF(G9:G43,"Moot — Not Voted") -> 2 | G4: Withdrawn | H4: =COUNTIF(G9:G43,"Withdrawn — Not Voted") -> 1
A8: Proposal | B8: Title | C8: For | D8: Against | E8: Abstain | F8: Total Votes | G8: Status | H8: Notes
A9: 2026-040 | B9: Review and Approve the Financial Reports and Plan | C9: ='2026-040'!C58 -> 11 | D9: ='2026-040'!D58 -> 22 | E9: ='2026-040'!E58 -> 20 | F9: =SUM(C9:E9) -> 53 | G9: Not Approved
A10: 2026-041 | B10: Assign a New Budget for Modernising the Website | C10: ='2026-041'!C58 -> 21 | D10: ='2026-041'!D58 -> 17 | E10: ='2026-041'!E58 -> 15 | F10: =SUM(C10:E10) -> 53 | G10: Approved
A11: 2026-042 | B11: Develop a New Chess Board for the ICCF Website | C11: ='2026-042'!C58 -> 22 | D11: ='2026-042'!D58 -> 17 | E11: ='2026-042'!E58 -> 14 | F11: =SUM(C11:E11) -> 53 | G11: Approved
A12: 2026-043 | B12: Transformative Financial Stewardship Initiative | C12: ='2026-043'!C58 -> 10 | D12: ='2026-043'!D58 -> 27 | E12: ='2026-043'!E58 -> 16 | F12: =SUM(C12:E12) -> 53 | G12: Not Approved
A13: 2026-050 | B13: Developing and Using a Tournament Organization Committee | C13: ='2026-050'!C58 -> 9 | D13: ='2026-050'!D58 -> 33 | E13: ='2026-050'!E58 -> 11 | F13: =SUM(C13:E13) -> 53 | G13: Not Approved
A14: 2026-051 | B14: Delete “typically” from ICCF Rules section 3.17.5 | C14: ='2026-051'!C58 -> 43 | D14: ='2026-051'!D58 -> 0 | E14: ='2026-051'!E58 -> 10 | F14: =SUM(C14:E14) -> 53 | G14: Approved
A15: 2026-052 | B15: Duration of Registration Periods for Tournaments Using Direct Entry | C15: ='2026-052'!C58 -> 33 | D15: ='2026-052'!D58 -> 9 | E15: ='2026-052'!E58 -> 11 | F15: =SUM(C15:E15) -> 53 | G15: Approved
A16: 2026-053 | B16: Remove Inconsistency in Ratings Procedure | C16: ='2026-053'!C58 -> 37 | D16: ='2026-053'!D58 -> 4 | E16: ='2026-053'!E58 -> 12 | F16: =SUM(C16:E16) -> 53 | G16: Approved
A17: 2026-054 | B17: Committee to Investigate/Report on Viability for Running Engine Detection Software | C17: ='2026-054'!C58 -> 13 | D17: ='2026-054'!D58 -> 28 | E17: ='2026-054'!E58 -> 12 | F17: =SUM(C17:E17) -> 53 | G17: Not Approved
A18: 2026-055 | B18: New Commissioner Position [Conflicts with 2026-058] | C18: ='2026-055'!C57 -> 11 | D18: ='2026-055'!D57 -> 29 | E18: ='2026-055'!E57 -> 13 | F18: =SUM(C18:E18) -> 53 | G18: Not Approved
A19: 2026-056 | B19: Counting ETL Wins as Half-Points Specifically When It Comes to Earning Title Norms | C19: ='2026-056'!C58 -> 12 | D19: ='2026-056'!D58 -> 30 | E19: ='2026-056'!E58 -> 11 | F19: =SUM(C19:E19) -> 53 | G19: Not Approved
A20: 2026-057 | B20: Create Open Events That Are Unrated and Bar the Use of Chess Engines | C20: ='2026-057'!C58 -> 18 | D20: ='2026-057'!D58 -> 24 | E20: ='2026-057'!E58 -> 11 | F20: =SUM(C20:E20) -> 53 | G20: Not Approved
A21: 2026-058 | B21: ICCF Assistance to Federations Deficient in Serving Their Own Players [Statute Change – 2/3] [Conflicts with 2026-055] | C21: ='2026-058'!C57 -> 11 | D21: ='2026-058'!D57 -> 30 | E21: ='2026-058'!E57 -> 12 | F21: =SUM(C21:E21) -> 53 | G21: Not Approved | H21: Required a two-thirds majority.
A22: 2026-059 | B22: Minimum Number of Tournaments Directed for the ICCF-IA Title | C22: ='2026-059'!C58 -> 20 | D22: ='2026-059'!D58 -> 21 | E22: ='2026-059'!E58 -> 12 | F22: =SUM(C22:E22) -> 53 | G22: Not Approved
A23: 2026-060 | B23: Replacement of National Federation Voting Delegates in Exceptional Personal Circumstances | C23: ='2026-060'!C58 -> 40 | D23: ='2026-060'!D58 -> 2 | E23: ='2026-060'!E58 -> 11 | F23: =SUM(C23:E23) -> 53 | G23: Approved
A24: 2026-061 | B24: New Type of Player Membership | C24: ='2026-061'!C58 -> 15 | D24: ='2026-061'!D58 -> 25 | E24: ='2026-061'!E58 -> 13 | F24: =SUM(C24:E24) -> 53 | G24: Not Approved
A25: 2026-062 | B25: Shorten Standards for Time Controls | C25: ='2026-062'!C58 -> 17 | D25: ='2026-062'!D58 -> 26 | E25: ='2026-062'!E58 -> 10 | F25: =SUM(C25:E25) -> 53 | G25: Not Approved
A26: 2026-065 | B26: Introduction of Blitz Tournaments | C26: ='2026-065'!C57 -> 20 | D26: ='2026-065'!D57 -> 20 | E26: ='2026-065'!E57 -> 13 | F26: =SUM(C26:E26) -> 53 | G26: Not Approved | H26: Tie vote (20–20).
A27: 2026-066 | B27: Format of Blitz Tournaments (Only Considered if 2026-065 is Approved) | C27: — | D27: — | E27: — | F27: — | G27: Moot — Not Voted | H27: Moot because 2026-065 was not approved.
A28: 2026-067 | B28: Creation of a New Position: Chess 960 Officer | C28: ='2026-067'!C58 -> 11 | D28: ='2026-067'!D58 -> 28 | E28: ='2026-067'!E58 -> 14 | F28: =SUM(C28:E28) -> 53 | G28: Not Approved
A29: 2026-068 | B29: Creation of a New Position: Blitz Officer (Only Considered if 2026-065 is Approved) | C29: — | D29: — | E29: — | F29: — | G29: Moot — Not Voted | H29: Moot because 2026-065 was not approved.
A30: 2026-069 | B30: Trial Period for the Rutar Tiebreak System | C30: — | D30: — | E30: — | F30: — | G30: Withdrawn — Not Voted | H30: Withdrawn at the request of the proposer.
A31: 2026-070 | B31: Team Silli System | C31: ='2026-070'!C58 -> 32 | D31: ='2026-070'!D58 -> 5 | E31: ='2026-070'!E58 -> 16 | F31: =SUM(C31:E31) -> 53 | G31: Approved
A32: 2026-071 | B32: Tournament Results and Team Standings | C32: ='2026-071'!C58 -> 30 | D32: ='2026-071'!D58 -> 7 | E32: ='2026-071'!E58 -> 16 | F32: =SUM(C32:E32) -> 53 | G32: Approved
A33: 2026-072 | B33: Optional Use of the PCS System in all Types of ICCF Tournaments | C33: ='2026-072'!C58 -> 24 | D33: ='2026-072'!D58 -> 17 | E33: ='2026-072'!E58 -> 12 | F33: =SUM(C33:E33) -> 53 | G33: Approved
A34: 2026-073 | B34: Adding ‘Overall Points’ to the Prediction Criterion System | C34: ='2026-073'!C58 -> 23 | D34: ='2026-073'!D58 -> 16 | E34: ='2026-073'!E58 -> 14 | F34: =SUM(C34:E34) -> 53 | G34: Approved
A35: 2026-074 | B35: Allow a Limited Trial of Rated and Title Unbalanced Opening Tournaments | C35: ='2026-074'!C58 -> 26 | D35: ='2026-074'!D58 -> 10 | E35: ='2026-074'!E58 -> 17 | F35: =SUM(C35:E35) -> 53 | G35: Approved
A36: 2026-075 | B36: Shorter Triple Block Time Controls | C36: ='2026-075'!C58 -> 23 | D36: ='2026-075'!D58 -> 17 | E36: ='2026-075'!E58 -> 13 | F36: =SUM(C36:E36) -> 53 | G36: Approved
A37: 2026-077 | B37: Lifting the Suspension of the Russian Federation as a Member of ICCF | C37: ='2026-077'!C58 -> 12 | D37: ='2026-077'!D58 -> 26 | E37: ='2026-077'!E58 -> 15 | F37: =SUM(C37:E37) -> 53 | G37: Not Approved
A38: 2026-078 | B38: Lifting the Suspension of the Belarus Federation as a Member of ICCF | C38: ='2026-078'!C58 -> 14 | D38: ='2026-078'!D58 -> 25 | E38: ='2026-078'!E58 -> 14 | F38: =SUM(C38:E38) -> 53 | G38: Not Approved
A39: 2026-080 | B39: Amendments to the Triple Block Time Control System (TBS) | C39: ='2026-080'!C58 -> 7 | D39: ='2026-080'!D58 -> 30 | E39: ='2026-080'!E58 -> 16 | F39: =SUM(C39:E39) -> 53 | G39: Not Approved
A40: 2026-081 | B40: Suspension of ICCF Players Representing Russia | C40: ='2026-081'!C58 -> 4 | D40: ='2026-081'!D58 -> 36 | E40: ='2026-081'!E58 -> 13 | F40: =SUM(C40:E40) -> 53 | G40: Not Approved
A41: 2026-082 | B41: Suspension of ICCF Players Representing Belarus | C41: ='2026-082'!C58 -> 5 | D41: ='2026-082'!D58 -> 32 | E41: ='2026-082'!E58 -> 16 | F41: =SUM(C41:E41) -> 53 | G41: Not Approved
A42: 2026-090 | B42: Offer to Host the 2027 ICCF Congress in Manila, Philippines [Conflicts with 2026-091] | C42: ='2026-090'!C58 -> 16 | D42: ='2026-090'!D58 -> 17 | E42: ='2026-090'!E58 -> 20 | F42: =SUM(C42:E42) -> 53 | G42: Not Approved
A43: 2026-091 | B43: Offer to Host the 2027 ICCF Congress in Plzeň, Czech Republic [Conflicts with 2026-090] | C43: ='2026-091'!C58 -> 28 | D43: ='2026-091'!D58 -> 8 | E43: ='2026-091'!E58 -> 17 | F43: =SUM(C43:E43) -> 53 | G43: Approved

Sheet 2026-040
A1: 2026-040 Review and Approve the Financial Reports and Plan | B1: 2026-040 Review and Approve the Financial Reports and Plan | C1: 2026-040 Review and Approve the Financial Reports and Plan | D1: 2026-040 Review and Approve the Financial Reports and Plan | E1: 2026-040 Review and Approve the Financial Reports and Plan | F1: 2026-040 Review and Approve the Financial Reports and Plan
A2: Code | B2: Member Federation | C2: For | D2: Against | E2: Abstain | F2: Voting Member
A3: CRO | B3: Croatia | C3: 1 | F3: Ivec, Ivan
A4: POR | B4: Portugal | D4: 1 | F4: Martins, Sérgio A.
A5: WLS | B5: Wales | D5: 1 | F5: Lockwood, Austin
A6: CZE | B6: Czechia | D6: 1 | F6: Mrkvička, Filip
A7: FIN | B7: Finland | D7: 1 | F7: Sundqvist, Christer
A8: ITA | B8: Italy | E8: 1 | F8: Ruggeri Laderchi, Giorgio
A9: PER | B9: Peru | E9: 1 | F9: Acevedo Villalba, Angel
A10: IND | B10: India | D10: 1 | F10: Chatterjee, Ambar
A11: ESP | B11: Spain | E11: 1 | F11: de Andrés Senra, Sergio Iván
A12: AUS | B12: Australia | D12: 1 | F12: Gray, Garvin
A13: SUI | B13: Switzerland | D13: 1 | F13: Baumgartner, Ulrich
A14: RSA | B14: South Africa | C14: 1 | F14: Knol, Everdinand
A15: JPN | B15: Japan | E15: 1 | F15: Hayashi, Koji
A16: NED | B16: Netherlands | D16: 1 | F16: Jansen, Joop
A17: CHI | B17: Chile | C17: 1 | F17: Toro Solís de Ovando, Guillermo F.
A18: TUR | B18: Türkiye | C18: 1 | F18: Kural, Aziz Serhat
A19: IRL | B19: Ireland | C19: 1 | F19: Salter, David
A20: HUN | B20: Hungary | C20: 1 | F20: Csiba, Tibor
A21: GRE | B21: Greece | C21: 1 | F21: Arbis, Fotis
A22: ISR | B22: Israel | E22: 1 | F22: Dothan, Yoav
A23: INA | B23: Indonesia | E23: 1 | F23: Sitorus, Yosua
A24: GER | B24: Germany | D24: 1 | F24: Scheiba, Manfred
A25: LAT | B25: Latvia | E25: 1 | F25: Gaujens, Artis
A26: BUL | B26: Bulgaria | E26: 1 | F26: Marinov, Petyo
A27: SWE | B27: Sweden | D27: 1 | F27: Söderberg, Per
A28: ENG | B28: England | C28: 1 | F28: Beckett, Phillip J.
A29: NOR | B29: Norway | D29: 1 | F29: Løvås, Roger
A30: CUB | B30: Cuba | D30: 1 | F30: Menéndez Rodríguez, Giraldo
A31: POL | B31: Poland | D31: 1 | F31: Wojnar, Mariusz
A32: AUT | B32: Austria | E32: 1 | F32: Hamarat, Tunc
A33: DEN | B33: Denmark | C33: 1 | F33: Ottesen, Søren Rud
A34: BRA | B34: Brazil | D34: 1 | F34: Neves, Bianor de Oliveira
A35: ECU | B35: Ecuador | E35: 1 | F35: Bjazevic, Pavao
A36: ROU | B36: Romania | D36: 1 | F36: Andreica-Navruc, Sebastian
A37: CAN | B37: Canada | D37: 1 | F37: Demian, Valer-Eugen
A38: SLO | B38: Slovenia | D38: 1 | F38: Šemrl, Marjan
A39: MEX | B39: Mexico | C39: 1 | F39: Mercader Martínez, Juan Gustavo
A40: FRA | B40: France | E40: 1 | F40: Ruch, Eric
...

Sheet 2026-041
A1: 2026-041 Assign a New Budget for Modernising the Website | B1: 2026-041 Assign a New Budget for Modernising the Website | C1: 2026-041 Assign a New Budget for Modernising the Website | D1: 2026-041 Assign a New Budget for Modernising the Website | E1: 2026-041 Assign a New Budget for Modernising the Website | F1: 2026-041 Assign a New Budget for Modernising the Website
A2: Code | B2: Member Federation | C2: For | D2: Against | E2: Abstain | F2: Voting Member
A3: AUS | B3: Australia | C3: 1 | F3: Gray, Garvin
A4: HUN | B4: Hungary | C4: 1 | F4: Csiba, Tibor
A5: JPN | B5: Japan | E5: 1 | F5: Hayashi, Koji
A6: ECU | B6: Ecuador | E6: 1 | F6: Bjazevic, Pavao
A7: IND | B7: India | D7: 1 | F7: Chatterjee, Ambar
A8: SWE | B8: Sweden | D8: 1 | F8: Söderberg, Per
A9: GRE | B9: Greece | C9: 1 | F9: Arbis, Fotis
A10: NZL | B10: New Zealand | C10: 1 | F10: Freeman, Michael Roy
A11: TUR | B11: Türkiye | C11: 1 | F11: Kural, Aziz Serhat
A12: ISL | B12: Iceland | D12: 1 | F12: Necchi, Sandro
A13: ENG | B13: England | C13: 1 | F13: Beckett, Phillip J.
A14: NCA | B14: Nicaragua | E14: 1 | F14: Bendaña Guerrero, Guy José
A15: SVK | B15: Slovakia | D15: 1 | F15: Gaži, Miroslav
A16: FIN | B16: Finland | D16: 1 | F16: Sundqvist, Christer
A17: CAN | B17: Canada | D17: 1 | F17: Demian, Valer-Eugen
A18: POL | B18: Poland | D18: 1 | F18: Wojnar, Mariusz
A19: CRO | B19: Croatia | C19: 1 | F19: Ivec, Ivan
A20: PHI | B20: Philippines | C20: 1 | F20: Simplina, Arthur
A21: USA | B21: U.S.A. | C21: 1 | F21: Bokar, Jason
A22: WLS | B22: Wales | C22: 1 | F22: Lockwood, Austin
A23: NOR | B23: Norway | D23: 1 | F23: Løvås, Roger
A24: BUL | B24: Bulgaria | D24: 1 | F24: Marinov, Petyo
A25: FRA | B25: France | C25: 1 | F25: Ruch, Eric
A26: SUI | B26: Switzerland | D26: 1 | F26: Baumgartner, Ulrich
A27: ISR | B27: Israel | E27: 1 | F27: Dothan, Yoav
A28: BRA | B28: Brazil | D28: 1 | F28: Neves, Bianor de Oliveira
A29: SCO | B29: Scotland | C29: 1 | F29: MacMillen, Andrew N.
A30: ESP | B30: Spain | E30: 1 | F30: de Andrés Senra, Sergio Iván
A31: INA | B31: Indonesia | E31: 1 | F31: Sitorus, Yosua
A32: RSA | B32: South Africa | C32: 1 | F32: Knol, Everdinand
A33: ITA | B33: Italy | E33: 1 | F33: Ruggeri Laderchi, Giorgio
A34: PER | B34: Peru | D34: 1 | F34: Acevedo Villalba, Angel
A35: UKR | B35: Ukraine | E35: 1 | F35: Horodyskyi, Oleh
A36: LUX | B36: Luxembourg | E36: 1 | F36: Klauner, Thed
A37: PAN | B37: Panama | E37: 1 | F37: Rösch M., Hermann V.
A38: AUT | B38: Austria | C38: 1 | F38: Hamarat, Tunc
A39: IRL | B39: Ireland | C39: 1 | F39: Salter, David
A40: MEX | B40: Mexico | C40: 1 | F40: Mercader Martínez, Juan Gustavo
...

Sheet 2026-042
A1: 2026-042 Develop a New Chess Board for the ICCF Website | B1: 2026-042 Develop a New Chess Board for the ICCF Website | C1: 2026-042 Develop a New Chess Board for the ICCF Website | D1: 2026-042 Develop a New Chess Board for the ICCF Website | E1: 2026-042 Develop a New Chess Board for the ICCF Website | F1: 2026-042 Develop a New Chess Board for the ICCF Website
A2: Code | B2: Member Federation | C2: For | D2: Against | E2: Abstain | F2: Voting Member
A3: PER | B3: Peru | D3: 1 | F3: Acevedo Villalba, Angel
A4: GRE | B4: Greece | C4: 1 | F4: Arbis, Fotis
A5: NCA | B5: Nicaragua | E5: 1 | F5: Bendaña Guerrero, Guy José
A6: CRO | B6: Croatia | C6: 1 | F6: Ivec, Ivan
A7: POR | B7: Portugal | D7: 1 | F7: Martins, Sérgio A.
A8: CAN | B8: Canada | D8: 1 | F8: Demian, Valer-Eugen
A9: NZL | B9: New Zealand | D9: 1 | F9: Freeman, Michael Roy
A10: BUL | B10: Bulgaria | C10: 1 | F10: Marinov, Petyo
A11: CHI | B11: Chile | D11: 1 | F11: Toro Solís de Ovando, Guillermo F.
A12: USA | B12: U.S.A. | C12: 1 | F12: Bokar, Jason
A13: AUS | B13: Australia | C13: 1 | F13: Gray, Garvin
A14: EST | B14: Estonia | E14: 1 | F14: Kuusik, Jüri
A15: ROU | B15: Romania | C15: 1 | F15: Andreica-Navruc, Sebastian
A16: DEN | B16: Denmark | C16: 1 | F16: Ottesen, Søren Rud
A17: HUN | B17: Hungary | C17: 1 | F17: Csiba, Tibor
A18: PHI | B18: Philippines | C18: 1 | F18: Simplina, Arthur
A19: RSA | B19: South Africa | C19: 1 | F19: Knol, Everdinand
A20: POL | B20: Poland | D20: 1 | F20: Wojnar, Mariusz
A21: ESP | B21: Spain | E21: 1 | F21: de Andrés Senra, Sergio Iván
A22: BRA | B22: Brazil | D22: 1 | F22: Neves, Bianor de Oliveira
A23: SCO | B23: Scotland | C23: 1 | F23: MacMillen, Andrew N.
A24: BEL | B24: Belgium | E24: 1 | F24: Clement, Paul
A25: WLS | B25: Wales | C25: 1 | F25: Lockwood, Austin
A26: GUA | B26: Guatemala | E26: 1 | F26: Blanco Gramajo, César Augusto
A27: ARG | B27: Argentina | E27: 1 | F27: Gonçalves, Claudio Javier
A28: FIN | B28: Finland | D28: 1 | F28: Sundqvist, Christer
A29: JPN | B29: Japan | C29: 1 | F29: Hayashi, Koji
A30: ITA | B30: Italy | E30: 1 | F30: Ruggeri Laderchi, Giorgio
A31: AUT | B31: Austria | C31: 1 | F31: Hamarat, Tunc
A32: GER | B32: Germany | E32: 1 | F32: Scheiba, Manfred
A33: INA | B33: Indonesia | E33: 1 | F33: Sitorus, Yosua
A34: ISL | B34: Iceland | D34: 1 | F34: Necchi, Sandro
A35: UKR | B35: Ukraine | E35: 1 | F35: Horodyskyi, Oleh
A36: LAT | B36: Latvia | C36: 1 | F36: Gaujens, Artis
A37: SWE | B37: Sweden | C37: 1 | F37: Söderberg, Per
A38: IRL | B38: Ireland | C38: 1 | F38: Salter, David
A39: NOR | B39: Norway | D39: 1 | F39: Løvås, Roger
A40: CUB | B40: Cuba | D40: 1 | F40: Menéndez Rodríguez, Giraldo
...

Sheet 2026-043
A1: 2026-043 Transformative Financial Stewardship Initiative | B1: 2026-043 Transformative Financial Stewardship Initiative | C1: 2026-043 Transformative Financial Stewardship Initiative | D1: 2026-043 Transformative Financial Stewardship Initiative | E1: 2026-043 Transformative Financial Stewardship Initiative | F1: 2026-043 Transformative Financial Stewardship Initiative
A2: Code | B2: Member Federation | C2: For | D2: Against | E2: Abstain | F2: Voting Member
A3: FIN | B3: Finland | D3: 1 | F3: Sundqvist, Christer
A4: IRL | B4: Ireland | C4: 1 | F4: Salter, David
A5: BEL | B5: Belgium | D5: 1 | F5: Clement, Paul
A6: IND | B6: India | D6: 1 | F6: Chatterjee, Ambar
A7: CAN | B7: Canada | D7: 1 | F7: Demian, Valer-Eugen
A8: CZE | B8: Czechia | D8: 1 | F8: Mrkvička, Filip
A9: NCA | B9: Nicaragua | E9: 1 | F9: Bendaña Guerrero, Guy José
A10: HUN | B10: Hungary | C10: 1 | F10: Csiba, Tibor
A11: INA | B11: Indonesia | E11: 1 | F11: Sitorus, Yosua
A12: ISR | B12: Israel | E12: 1 | F12: Dothan, Yoav
A13: SVK | B13: Slovakia | D13: 1 | F13: Gaži, Miroslav
A14: CUB | B14: Cuba | D14: 1 | F14: Menéndez Rodríguez, Giraldo
A15: EST | B15: Estonia | E15: 1 | F15: Kuusik, Jüri
A16: ISL | B16: Iceland | D16: 1 | F16: Necchi, Sandro
A17: NED | B17: Netherlands | D17: 1 | F17: Jansen, Joop
A18: ESP | B18: Spain | E18: 1 | F18: de Andrés Senra, Sergio Iván
A19: UKR | B19: Ukraine | E19: 1 | F19: Horodyskyi, Oleh
A20: SLO | B20: Slovenia | C20: 1 | F20: Šemrl, Marjan
A21: BUL | B21: Bulgaria | D21: 1 | F21: Marinov, Petyo
A22: SCO | B22: Scotland | D22: 1 | F22: MacMillen, Andrew N.
A23: PAN | B23: Panama | E23: 1 | F23: Rösch M., Hermann V.
A24: ITA | B24: Italy | E24: 1 | F24: Ruggeri Laderchi, Giorgio
A25: DEN | B25: Denmark | E25: 1 | F25: Ottesen, Søren Rud
A26: SUI | B26: Switzerland | D26: 1 | F26: Baumgartner, Ulrich
A27: AUT | B27: Austria | E27: 1 | F27: Hamarat, Tunc
A28: LAT | B28: Latvia | E28: 1 | F28: Gaujens, Artis
A29: CRO | B29: Croatia | D29: 1 | F29: Ivec, Ivan
A30: AUS | B30: Australia | D30: 1 | F30: Gray, Garvin
A31: NZL | B31: New Zealand | D31: 1 | F31: Freeman, Michael Roy
A32: USA | B32: U.S.A. | D32: 1 | F32: Bokar, Jason
A33: RSA | B33: South Africa | C33: 1 | F33: Knol, Everdinand
A34: GUA | B34: Guatemala | E34: 1 | F34: Blanco Gramajo, César Augusto
A35: WLS | B35: Wales | D35: 1 | F35: Lockwood, Austin
A36: LUX | B36: Luxembourg | E36: 1 | F36: Klauner, Thed
A37: CHI | B37: Chile | C37: 1 | F37: Toro Solís de Ovando, Guillermo F.
A38: POR | B38: Portugal | D38: 1 | F38: Martins, Sérgio A.
A39: BRA | B39: Brazil | D39: 1 | F39: Neves, Bianor de Oliveira
A40: LTU | B40: Lithuania | D40: 1 | F40: Chocenka, Dmitrijus
...

Sheet 2026-050
A1: 2026-050 Developing and Using a Tournament Organization Committee | B1: 2026-050 Developing and Using a Tournament Organization Committee | C1: 2026-050 Developing and Using a Tournament Organization Committee | D1: 2026-050 Developing and Using a Tournament Organization Committee | E1: 2026-050 Developing and Using a Tournament Organization Committee | F1: 2026-050 Developing and Using a Tournament Organization Committee
A2: Code | B2: Member Federation | C2: For | D2: Against | E2: Abstain | F2: Voting Member
A3: RSA | B3: South Africa | C3: 1 | F3: Knol, Everdinand
A4: LUX | B4: Luxembourg | E4: 1 | F4: Klauner, Thed
A5: NOR | B5: Norway | D5: 1 | F5: Løvås, Roger
A6: HUN | B6: Hungary | D6: 1 | F6: Csiba, Tibor
A7: UKR | B7: Ukraine | D7: 1 | F7: Horodyskyi, Oleh
A8: SUI | B8: Switzerland | D8: 1 | F8: Baumgartner, Ulrich
A9: CRO | B9: Croatia | D9: 1 | F9: Ivec, Ivan
A10: PER | B10: Peru | D10: 1 | F10: Acevedo Villalba, Angel
A11: INA | B11: Indonesia | E11: 1 | F11: Sitorus, Yosua
A12: POR | B12: Portugal | D12: 1 | F12: Martins, Sérgio A.
A13: BRA | B13: Brazil | D13: 1 | F13: Neves, Bianor de Oliveira
A14: ROU | B14: Romania | D14: 1 | F14: Andreica-Navruc, Sebastian
A15: WLS | B15: Wales | C15: 1 | F15: Lockwood, Austin
A16: IRL | B16: Ireland | D16: 1 | F16: Salter, David
A17: USA | B17: U.S.A. | D17: 1 | F17: Bokar, Jason
A18: ITA | B18: Italy | E18: 1 | F18: Ruggeri Laderchi, Giorgio
A19: POL | B19: Poland | D19: 1 | F19: Wojnar, Mariusz
A20: IND | B20: India | C20: 1 | F20: Chatterjee, Ambar
A21: FRA | B21: France | C21: 1 | F21: Ruch, Eric
A22: EST | B22: Estonia | E22: 1 | F22: Kuusik, Jüri
A23: PAN | B23: Panama | E23: 1 | F23: Rösch M., Hermann V.
A24: NZL | B24: New Zealand | D24: 1 | F24: Freeman, Michael Roy
A25: ESP | B25: Spain | E25: 1 | F25: de Andrés Senra, Sergio Iván
A26: BUL | B26: Bulgaria | D26: 1 | F26: Marinov, Petyo
A27: CUB | B27: Cuba | D27: 1 | F27: Menéndez Rodríguez, Giraldo
A28: CHI | B28: Chile | C28: 1 | F28: Toro Solís de Ovando, Guillermo F.
A29: LAT | B29: Latvia | E29: 1 | F29: Gaujens, Artis
A30: NED | B30: Netherlands | D30: 1 | F30: Jansen, Joop
A31: SCO | B31: Scotland | D31: 1 | F31: MacMillen, Andrew N.
A32: CZE | B32: Czechia | D32: 1 | F32: Mrkvička, Filip
A33: GUA | B33: Guatemala | D33: 1 | F33: Blanco Gramajo, César Augusto
A34: CAN | B34: Canada | D34: 1 | F34: Demian, Valer-Eugen
A35: TUR | B35: Türkiye | D35: 1 | F35: Kural, Aziz Serhat
A36: GER | B36: Germany | D36: 1 | F36: Scheiba, Manfred
A37: ARG | B37: Argentina | E37: 1 | F37: Gonçalves, Claudio Javier
A38: NCA | B38: Nicaragua | E38: 1 | F38: Bendaña Guerrero, Guy José
A39: PHI | B39: Philippines | C39: 1 | F39: Simplina, Arthur
A40: LTU | B40: Lithuania | D40: 1 | F40: Chocenka, Dmitrijus
...

Sheet 2026-051
A1: 2026-051 Delete "typically" from ICCF Rules section 3.17.5 | B1: 2026-051 Delete "typically" from ICCF Rules section 3.17.5 | C1: 2026-051 Delete "typically" from ICCF Rules section 3.17.5 | D1: 2026-051 Delete "typically" from ICCF Rules section 3.17.5 | E1: 2026-051 Delete "typically" from ICCF Rules section 3.17.5 | F1: 2026-051 Delete "typically" from ICCF Rules section 3.17.5
A2: Code | B2: Member Federation | C2: For | D2: Against | E2: Abstain | F2: Voting Member
A3: FIN | B3: Finland | C3: 1 | F3: Sundqvist, Christer
A4: AUS | B4: Australia | C4: 1 | F4: Gray, Garvin
A5: CHI | B5: Chile | C5: 1 | F5: Toro Solís de Ovando, Guillermo F.
A6: CRO | B6: Croatia | C6: 1 | F6: Ivec, Ivan
A7: GUA | B7: Guatemala | C7: 1 | F7: Blanco Gramajo, César Augusto
A8: BUL | B8: Bulgaria | C8: 1 | F8: Marinov, Petyo
A9: IRL | B9: Ireland | C9: 1 | F9: Salter, David
A10: AUT | B10: Austria | C10: 1 | F10: Hamarat, Tunc
A11: IND | B11: India | C11: 1 | F11: Chatterjee, Ambar
A12: BEL | B12: Belgium | C12: 1 | F12: Clement, Paul
A13: MEX | B13: Mexico | C13: 1 | F13: Mercader Martínez, Juan Gustavo
A14: SCO | B14: Scotland | C14: 1 | F14: MacMillen, Andrew N.
... A17: ENG | B17: England | C17: 1 | F17: Beckett, Phillip J.
A18: NCA | B18: Nicaragua | E18: 1 | F18: Bendaña Guerrero, Guy José
A19: CAN | B19: Canada | C19: 1 | F19: Demian, Valer-Eugen
A20: POL | B20: Poland | C20: 1 | F20: Wojnar, Mariusz
A21: USA | B21: U.S.A. | C21: 1 | F21: Bokar, Jason
A22: GRE | B22: Greece | C22: 1 | F22: Arbis, Fotis
A23: WLS | B23: Wales | C23: 1 | F23: Lockwood, Austin
A24: RSA | B24: South Africa | C24: 1 | F24: Knol, Everdinand
A25: PER | B25: Peru | C25: 1 | F25: Acevedo Villalba, Angel
A26: FRA | B26: France | C26: 1 | F26: Ruch, Eric
A27: CZE | B27: Czechia | C27: 1 | F27: Mrkvička, Filip
A28: SVK | B28: Slovakia | C28: 1 | F28: Gaži, Miroslav
A29: TUR | B29: Türkiye | C29: 1 | F29: Kural, Aziz Serhat
A30: NOR | B30: Norway | C30: 1 | F30: Løvås, Roger
... A32: LAT | B32: Latvia | C32: 1 | F32: Gaujens, Artis
A33: EST | B33: Estonia | E33: 1 | F33: Kuusik, Jüri
A34: HUN | B34: Hungary | C34: 1 | F34: Csiba, Tibor
A35: ITA | B35: Italy | E35: 1 | F35: Ruggeri Laderchi, Giorgio
A36: DEN | B36: Denmark | C36: 1 | F36: Ottesen, Søren Rud
A37: SWE | B37: Sweden | C37: 1 | F37: Söderberg, Per
A38: ESP | B38: Spain | E38: 1 | F38: de Andrés Senra, Sergio Iván
A39: UKR | B39: Ukraine | C39: 1 | F39: Horodyskyi, Oleh
A40: LTU | B40: Lithuania | C40: 1 | F40: Chocenka, Dmitrijus
A41: INA | B41: Indonesia | E41: 1 | F41: Sitorus, Yosua
A42: NED | B42: Netherlands | C42: 1 | F42: Jansen, Joop
A43: GER | B43: Germany | C43: 1 | F43: Scheiba, Manfred
...

Sheet 2026-052
A1: 2026-052 Duration of Registration Periods for Tournaments Using Direct Entry | B1: 2026-052 Duration of Registration Periods for Tournaments Using Direct Entry | C1: 2026-052 Duration of Registration Periods for Tournaments Using Direct Entry | D1: 2026-052 Duration of Registration Periods for Tournaments Using Direct Entry | E1: 2026-052 Duration of Registration Periods for Tournaments Using Direct Entry | F1: 2026-052 Duration of Registration Periods for Tournaments Using Direct Entry
A2: Code | B2: Member Federation | C2: For | D2: Against | E2: Abstain | F2: Voting Member
A3: ECU | B3: Ecuador | E3: 1 | F3: Bjazevic, Pavao
A4: GER | B4: Germany | E4: 1 | F4: Scheiba, Manfred
A5: FRA | B5: France | C5: 1 | F5: Ruch, Eric
A6: CAN | B6: Canada | C6: 1 | F6: Demian, Valer-Eugen
A7: FIN | B7: Finland | C7: 1 | F7: Sundqvist, Christer
A8: AUS | B8: Australia | C8: 1 | F8: Gray, Garvin
A9: TUR | B9: Türkiye | C9: 1 | F9: Kural, Aziz Serhat
A10: ITA | B10: Italy | E10: 1 | F10: Ruggeri Laderchi, Giorgio
A11: NED | B11: Netherlands | D11: 1 | F11: Jansen, Joop
A12: LUX | B12: Luxembourg | E12: 1 | F12: Klauner, Thed
A13: LTU | B13: Lithuania | D13: 1 | F13: Chocenka, Dmitrijus
A14: BEL | B14: Belgium | C14: 1 | F14: Clement, Paul
A15: HUN | B15: Hungary | C15: 1 | F15: Csiba, Tibor
A16: CRO | B16: Croatia | C16: 1 | F16: Ivec, Ivan
A17: WLS | B17: Wales | C17: 1 | F17: Lockwood, Austin
A18: LAT | B18: Latvia | C18: 1 | F18: Gaujens, Artis
A19: MEX | B19: Mexico | C19: 1 | F19: Mercader Martínez, Juan Gustavo
A20: ISR | B20: Israel | E20: 1 | F20: Dothan, Yoav
A21: NCA | B21: Nicaragua | E21: 1 | F21: Bendaña Guerrero, Guy José
A22: GUA | B22: Guatemala | C22: 1 | F22: Blanco Gramajo, César Augusto
A23: RSA | B23: South Africa | C23: 1 | F23: Knol, Everdinand
A24: ISL | B24: Iceland | D24: 1 | F24: Necchi, Sandro
A25: SUI | B25: Switzerland | D25: 1 | F25: Baumgartner, Ulrich
A26: NOR | B26: Norway | C26: 1 | F26: Løvås, Roger
A27: NZL | B27: New Zealand | C27: 1 | F27: Freeman, Michael Roy
A28: SWE | B28: Sweden | D28: 1 | F28: Söderberg, Per
A29: CHI | B29: Chile | C29: 1 | F29: Toro Solís de Ovando, Guillermo F.
A30: IND | B30: India | C30: 1 | F30: Chatterjee, Ambar
A31: UKR | B31: Ukraine | C31: 1 | F31: Horodyskyi, Oleh
A32: ROU | B32: Romania | C32: 1 | F32: Andreica-Navruc, Sebastian
A33: PER | B33: Peru | C33: 1 | F33: Acevedo Villalba, Angel
A34: BUL | B34: Bulgaria | C34: 1 | F34: Marinov, Petyo
A35: CZE | B35: Czechia | C35: 1 | F35: Mrkvička, Filip
A36: IRL | B36: Ireland | C36: 1 | F36: Salter, David
A37: SCO | B37: Scotland | C37: 1 | F37: MacMillen, Andrew N.
A38: BRA | B38: Brazil | C38: 1 | F38: Neves, Bianor de Oliveira
A39: JPN | B39: Japan | D39: 1 | F39: Hayashi, Koji
A40: CUB | B40: Cuba | C40: 1 | F40: Menéndez Rodríguez, Giraldo
...

Sheet 2026-053
A1: 2026-053 Remove Inconsistency in Ratings Procedure | B1: 2026-053 Remove Inconsistency in Ratings Procedure | C1: 2026-053 Remove Inconsistency in Ratings Procedure | D1: 2026-053 Remove Inconsistency in Ratings Procedure | E1: 2026-053 Remove Inconsistency in Ratings Procedure | F1: 2026-053 Remove Inconsistency in Ratings Procedure
A2: Code | B2: Member Federation | C2: For | D2: Against | E2: Abstain | F2: Voting Member
A3: GUA | B3: Guatemala | C3: 1 | F3: Blanco Gramajo, César Augusto
A4: GRE | B4: Greece | C4: 1 | F4: Arbis, Fotis
A5: CUB | B5: Cuba | C5: 1 | F5: Menéndez Rodríguez, Giraldo
A6: SVK | B6: Slovakia | C6: 1 | F6: Gaži, Miroslav
A7: MEX | B7: Mexico | C7: 1 | F7: Mercader Martínez, Juan Gustavo
A8: HUN | B8: Hungary | C8: 1 | F8: Csiba, Tibor
A9: CHI | B9: Chile | C9: 1 | F9: Toro Solís de Ovando, Guillermo F.
A10: CZE | B10: Czechia | C10: 1 | F10: Mrkvička, Filip
A11: NED | B11: Netherlands | C11: 1 | F11: Jansen, Joop
A12: INA | B12: Indonesia | E12: 1 | F12: Sitorus, Yosua
A13: LTU | B13: Lithuania | C13: 1 | F13: Chocenka, Dmitrijus
A14: IND | B14: India | C14: 1 | F14: Chatterjee, Ambar
A15: BEL | B15: Belgium | C15: 1 | F15: Clement, Paul
A16: BRA | B16: Brazil | C16: 1 | F16: Neves, Bianor de Oliveira
A17: SWE | B17: Sweden | C17: 1 | F17: Söderberg, Per
A18: ROU | B18: Romania | C18: 1 | F18: Andreica-Navruc, Sebastian
A19: NZL | B19: New Zealand | C19: 1 | F19: Freeman, Michael Roy
A20: GER | B20: Germany | C20: 1 | F20: Scheiba, Manfred
A21: TUR | B21: Türkiye | D21: 1 | F21: Kural, Aziz Serhat
A22: FIN | B22: Finland | C22: 1 | F22: Sundqvist, Christer
A23: ECU | B23: Ecuador | E23: 1 | F23: Bjazevic, Pavao
A24: PER | B24: Peru | C24: 1 | F24: Acevedo Villalba, Angel
A25: ITA | B25: Italy | E25: 1 | F25: Ruggeri Laderchi, Giorgio
A26: UKR | B26: Ukraine | C26: 1 | F26: Horodyskyi, Oleh
A27: CRO | B27: Croatia | D27: 1 | F27: Ivec, Ivan
A28: AUT | B28: Austria | D28: 1 | F28: Hamarat, Tunc
A29: POL | B29: Poland | C29: 1 | F29: Wojnar, Mariusz
A30: ENG | B30: England | C30: 1 | F30: Beckett, Phillip J.
A31: IRL | B31: Ireland | C31: 1 | F31: Salter, David
A32: CAN | B32: Canada | C32: 1 | F32: Demian, Valer-Eugen
A33: RSA | B33: South Africa | C33: 1 | F33: Knol, Everdinand
A34: NOR | B34: Norway | C34: 1 | F34: Løvås, Roger
A35: ISL | B35: Iceland | D35: 1 | F35: Necchi, Sandro
A36: AUS | B36: Australia | C36: 1 | F36: Gray, Garvin
A37: DEN | B37: Denmark | C37: 1 | F37: Ottesen, Søren Rud
A38: LUX | B38: Luxembourg | E38: 1 | F38: Klauner, Thed
A39: ESP | B39: Spain | E39: 1 | F39: de Andrés Senra, Sergio Iván
A40: SCO | B40: Scotland | C40: 1 | F40: MacMillen, Andrew N.
...

Sheet 2026-054
A1: 2026-054 Committee to Investigate/Report on Viability for Running Engine Detection Software | B1: 2026-054 Committee to Investigate/Report on Viability for Running Engine Detection Software | C1: 2026-054 Committee to Investigate/Report on Viability for Running Engine Detection Software | D1: 2026-054 Committee to Investigate/Report on Viability for Running Engine Detection Software | E1: 2026-054 Committee to Investigate/Report on Viability for Running Engine Detection Software | F1: 2026-054 Committee to Investigate/Report on Viability for Running Engine Detection Software
A2: Code | B2: Member Federation | C2: For | D2: Against | E2: Abstain | F2: Voting Member
A3: POR | B3: Portugal | D3: 1 | F3: Martins, Sérgio A.
A4: TUR | B4: Türkiye | D4: 1 | F4: Kural, Aziz Serhat
A5: JPN | B5: Japan | C5: 1 | F5: Hayashi, Koji
A6: ARG | B6: Argentina | E6: 1 | F6: Gonçalves, Claudio Javier
A7: GRE | B7: Greece | D7: 1 | F7: Arbis, Fotis
A8: AUT | B8: Austria | D8: 1 | F8: Hamarat, Tunc
A9: NCA | B9: Nicaragua | E9: 1 | F9: Bendaña Guerrero, Guy José
A10: LAT | B10: Latvia | C10: 1 | F10: Gaujens, Artis
A11: CHI | B11: Chile | C11: 1 | F11: Toro Solís de Ovando, Guillermo F.
A12: PAN | B12: Panama | E12: 1 | F12: Rösch M., Hermann V.
A13: MEX | B13: Mexico | D13: 1 | F13: Mercader Martínez, Juan Gustavo
A14: IND | B14: India | C14: 1 | F14: Chatterjee, Ambar
A15: SUI | B15: Switzerland | D15: 1 | F15: Baumgartner, Ulrich
A16: IRL | B16: Ireland | C16: 1 | F16: Salter, David
A17: BRA | B17: Brazil | D17: 1 | F17: Neves, Bianor de Oliveira
A18: NED | B18: Netherlands | D18: 1 | F18: Jansen, Joop
A19: GER | B19: Germany | E19: 1 | F19: Scheiba, Manfred
A20: HUN | B20: Hungary | D20: 1 | F20: Csiba, Tibor
A21: AUS | B21: Australia | D21: 1 | F21: Gray, Garvin
A22: CRO | B22: Croatia | D22: 1 | F22: Ivec, Ivan
A23: ECU | B23: Ecuador | E23: 1 | F23: Bjazevic, Pavao
A24: DEN | B24: Denmark | C24: 1 | F24: Ottesen, Søren Rud
A25: ISL | B25: Iceland | D25: 1 | F25: Necchi, Sandro
A26: BEL | B26: Belgium | D26: 1 | F26: Clement, Paul
A27: NOR | B27: Norway | D27: 1 | F27: Løvås, Roger
A28: SVK | B28: Slovakia | D28: 1 | F28: Gaži, Miroslav
A29: CAN | B29: Canada | D29: 1 | F29: Demian, Valer-Eugen
A30: CZE | B30: Czechia | D30: 1 | F30: Mrkvička, Filip
A31: SLO | B31: Slovenia | D31: 1 | F31: Šemrl, Marjan
A32: ISR | B32: Israel | E32: 1 | F32: Dothan, Yoav
A33: LUX | B33: Luxembourg | E33: 1 | F33: Klauner, Thed
A34: SWE | B34: Sweden | D34: 1 | F34: Söderberg, Per
A35: POL | B35: Poland | D35: 1 | F35: Wojnar, Mariusz
A36: USA | B36: U.S.A. | C36: 1 | F36: Bokar, Jason
A37: BUL | B37: Bulgaria | E37: 1 | F37: Marinov, Petyo
A38: NZL | B38: New Zealand | C38: 1 | F38: Freeman, Michael Roy
A39: WLS | B39: Wales | C39: 1 | F39: Lockwood, Austin
A40: ENG | B40: England | C40: 1 | F40: Beckett, Phillip J.
...

Sheet 2026-055
A1: 2026-055 New Commissioner Position [Conflicts with 2026-058] | B1: 2026-055 New Commissioner Position [Conflicts with 2026-058] | C1: 2026-055 New Commissioner Position [Conflicts with 2026-058] | D1: 2026-055 New Commissioner Position [Conflicts with 2026-058] | E1: 2026-055 New Commissioner Position [Conflicts with 2026-058] | F1: 2026-055 New Commissioner Position [Conflicts with 2026-058]
A2: Code | B2: Member Federation | C2: For | D2: Against | E2: Abstain | F2: Voting Member
A3: LTU | B3: Lithuania | D3: 1 | F3: Chocenka, Dmitrijus
A4: BUL | B4: Bulgaria | D4: 1 | F4: Marinov, Petyo
A5: EST | B5: Estonia | E5: 1 | F5: Kuusik, Jüri
A6: WLS | B6: Wales | C6: 1 | F6: Lockwood, Austin
A7: AUS | B7: Australia | D7: 1 | F7: Gray, Garvin
A8: HUN | B8: Hungary | E8: 1 | F8: Csiba, Tibor
A9: MEX | B9: Mexico | C9: 1 | F9: Mercader Martínez, Juan Gustavo
A10: UKR | B10: Ukraine | D10: 1 | F10: Horodyskyi, Oleh
A11: RSA | B11: South Africa | C11: 1 | F11: Knol, Everdinand
A12: CZE | B12: Czechia | D12: 1 | F12: Mrkvička, Filip
A13: FIN | B13: Finland | C13: 1 | F13: Sundqvist, Christer
A14: ROU | B14: Romania | D14: 1 | F14: Andreica-Navruc, Sebastian
A15: IND | B15: India | C15: 1 | F15: Chatterjee, Ambar
A16: LAT | B16: Latvia | D16: 1 | F16: Gaujens, Artis
A17: ITA | B17: Italy | E17: 1 | F17: Ruggeri Laderchi, Giorgio
A18: GUA | B18: Guatemala | D18: 1 | F18: Blanco Gramajo, César Augusto
A19: GER | B19: Germany | D19: 1 | F19: Scheiba, Manfred
A20: ECU | B20: Ecuador | E20: 1 | F20: Bjazevic, Pavao
A21: CHI | B21: Chile | C21: 1 | F21: Toro Solís de Ovando, Guillermo F.
A22: ISR | B22: Israel | E22: 1 | F22: Dothan, Yoav
A23: POR | B23: Portugal | D23: 1 | F23: Martins, Sérgio A.
A24: LUX | B24: Luxembourg | E24: 1 | F24: Klauner, Thed
A25: PAN | B25: Panama | E25: 1 | F25: Rösch M., Hermann V.
A26: CUB | B26: Cuba | D26: 1 | F26: Menéndez Rodríguez, Giraldo
A27: ESP | B27: Spain | E27: 1 | F27: de Andrés Senra, Sergio Iván
A28: NOR | B28: Norway | D28: 1 | F28: Løvås, Roger
A29: BRA | B29: Brazil | D29: 1 | F29: Neves, Bianor de Oliveira
A30: SWE | B30: Sweden | D30: 1 | F30: Söderberg, Per
A31: NZL | B31: New Zealand | C31: 1 | F31: Freeman, Michael Roy
A32: BEL | B32: Belgium | E32: 1 | F32: Clement, Paul
A33: SCO | B33: Scotland | D33: 1 | F33: MacMillen, Andrew N.
A34: DEN | B34: Denmark | D34: 1 | F34: Ottesen, Søren Rud
A35: FRA | B35: France | D35: 1 | F35: Ruch, Eric
A36: USA | B36: U.S.A. | D36: 1 | F36: Bokar, Jason
A37: JPN | B37: Japan | D37: 1 | F37: Hayashi, Koji
A38: ENG | B38: England | D38: 1 | F38: Beckett, Phillip J.
A39: AUT | B39: Austria | D39: 1 | F39: Hamarat, Tunc
A40: PHI | B40: Philippines | D40: 1 | F40: Simplina, Arthur
...

Sheet 2026-056
A1: 2026-056 Counting ETL Wins as Half-Points Specifically When It Comes to Earning Title Norms | B1: 2026-056 Counting ETL Wins as Half-Points Specifically When It Comes to Earning Title Norms | C1: 2026-056 Counting ETL Wins as Half-Points Specifically When It Comes to Earning Title Norms | D1: 2026-056 Counting ETL Wins as Half-Points Specifically When It Comes to Earning Title Norms | E1: 2026-056 Counting ETL Wins as Half-Points Specifically When It Comes to Earning Title Norms | F1: 2026-056 Counting ETL Wins as Half-Points Specifically When It Comes to Earning Title Norms
A2: Code | B2: Member Federation | C2: For | D2: Against | E2: Abstain | F2: Voting Member
A3: UKR | B3: Ukraine | D3: 1 | F3: Horodyskyi, Oleh
A4: SLO | B4: Slovenia | D4: 1 | F4: Šemrl, Marjan
A5: POL | B5: Poland | D5: 1 | F5: Wojnar, Mariusz
A6: EST | B6: Estonia | E6: 1 | F6: Kuusik, Jüri
A7: ISL | B7: Iceland | D7: 1 | F7: Necchi, Sandro
A8: WLS | B8: Wales | C8: 1 | F8: Lockwood, Austin
A9: NCA | B9: Nicaragua | E9: 1 | F9: Bendaña Guerrero, Guy José
A10: NED | B10: Netherlands | D10: 1 | F10: Jansen, Joop
A11: HUN | B11: Hungary | D11: 1 | F11: Csiba, Tibor
A12: ESP | B12: Spain | E12: 1 | F12: de Andrés Senra, Sergio Iván
A13: SWE | B13: Sweden | D13: 1 | F13: Söderberg, Per
A14: IND | B14: India | D14: 1 | F14: Chatterjee, Ambar
A15: INA | B15: Indonesia | E15: 1 | F15: Sitorus, Yosua
A16: SVK | B16: Slovakia | D16: 1 | F16: Gaži, Miroslav
A17: ARG | B17: Argentina | E17: 1 | F17: Gonçalves, Claudio Javier
A18: JPN | B18: Japan | D18: 1 | F18: Hayashi, Koji
A19: SCO | B19: Scotland | D19: 1 | F19: MacMillen, Andrew N.
A20: MEX | B20: Mexico | D20: 1 | F20: Mercader Martínez, Juan Gustavo
A21: NZL | B21: New Zealand | D21: 1 | F21: Freeman, Michael Roy
A22: CHI | B22: Chile | C22: 1 | F22: Toro Solís de Ovando, Guillermo F.
A23: ISR | B23: Israel | E23: 1 | F23: Dothan, Yoav
A24: RSA | B24: South Africa | D24: 1 | F24: Knol, Everdinand
A25: BEL | B25: Belgium | E25: 1 | F25: Clement, Paul
A26: AUS | B26: Australia | D26: 1 | F26: Gray, Garvin
A27: CAN | B27: Canada | D27: 1 | F27: Demian, Valer-Eugen
A28: TUR | B28: Türkiye | D28: 1 | F28: Kural, Aziz Serhat
A29: FIN | B29: Finland | C29: 1 | F29: Sundqvist, Christer
A30: NOR | B30: Norway | C30: 1 | F30: Løvås, Roger
A31: CZE | B31: Czechia | D31: 1 | F31: Mrkvička, Filip
A32: POR | B32: Portugal | D32: 1 | F32: Martins, Sérgio A.
A33: DEN | B33: Denmark | C33: 1 | F33: Ottesen, Søren Rud
A34: PER | B34: Peru | C34: 1 | F34: Acevedo Villalba, Angel
A35: CRO | B35: Croatia | D35: 1 | F35: Ivec, Ivan
A36: FRA | B36: France | D36: 1 | F36: Ruch, Eric
A37: SUI | B37: Switzerland | D37: 1 | F37: Baumgartner, Ulrich
A38: GRE | B38: Greece | C38: 1 | F38: Arbis, Fotis
A39: ECU | B39: Ecuador | E39: 1 | F39: Bjazevic, Pavao
A40: LAT | B40: Latvia | C40: 1 | F40: Gaujens, Artis
...

Sheet 2026-057
A1: 2026-057 Create Open Events That Are Unrated and Bar the Use of Chess Engines | B1: 2026-057 Create Open Events That Are Unrated and Bar the Use of Chess Engines | C1: 2026-057 Create Open Events That Are Unrated and Bar the Use of Chess Engines | D1: 2026-057 Create Open Events That Are Unrated and Bar the Use of Chess Engines | E1: 2026-057 Create Open Events That Are Unrated and Bar the Use of Chess Engines | F1: 2026-057 Create Open Events That Are Unrated and Bar the Use of Chess Engines
A2: Code | B2: Member Federation | C2: For | D2: Against | E2: Abstain | F2: Voting Member
A3: GER | B3: Germany | E3: 1 | F3: Scheiba, Manfred
A4: BRA | B4: Brazil | D4: 1 | F4: Neves, Bianor de Oliveira
A5: WLS | B5: Wales | D5: 1 | F5: Lockwood, Austin
A6: PER | B6: Peru | D6: 1 | F6: Acevedo Villalba, Angel
A7: SLO | B7: Slovenia | C7: 1 | F7: Šemrl, Marjan
A8: INA | B8: Indonesia | E8: 1 | F8: Sitorus, Yosua
A9: BEL | B9: Belgium | D9: 1 | F9: Clement, Paul
A10: SCO | B10: Scotland | D10: 1 | F10: MacMillen, Andrew N.
A11: FRA | B11: France | C11: 1 | F11: Ruch, Eric
A12: SVK | B12: Slovakia | D12: 1 | F12: Gaži, Miroslav
A13: SWE | B13: Sweden | C13: 1 | F13: Söderberg, Per
A14: RSA | B14: South Africa | D14: 1 | F14: Knol, Everdinand
A15: CRO | B15: Croatia | D15: 1 | F15: Ivec, Ivan
A16: GUA | B16: Guatemala | D16: 1 | F16: Blanco Gramajo, César Augusto
A17: HUN | B17: Hungary | C17: 1 | F17: Csiba, Tibor
A18: PAN | B18: Panama | E18: 1 | F18: Rösch M., Hermann V.
A19: AUT | B19: Austria | D19: 1 | F19: Hamarat, Tunc
A20: PHI | B20: Philippines | C20: 1 | F20: Simplina, Arthur
A21: ARG | B21: Argentina | E21: 1 | F21: Gonçalves, Claudio Javier
A22: POR | B22: Portugal | D22: 1 | F22: Martins, Sérgio A.
A23: FIN | B23: Finland | D23: 1 | F23: Sundqvist, Christer
A24: CZE | B24: Czechia | C24: 1 | F24: Mrkvička, Filip
A25: UKR | B25: Ukraine | D25: 1 | F25: Horodyskyi, Oleh
A26: BUL | B26: Bulgaria | C26: 1 | F26: Marinov, Petyo
A27: NOR | B27: Norway | C27: 1 | F27: Løvås, Roger
A28: ECU | B28: Ecuador | E28: 1 | F28: Bjazevic, Pavao
A29: ESP | B29: Spain | E29: 1 | F29: de Andrés Senra, Sergio Iván
A30: TUR | B30: Türkiye | D30: 1 | F30: Kural, Aziz Serhat
A31: JPN | B31: Japan | C31: 1 | F31: Hayashi, Koji
A32: MEX | B32: Mexico | C32: 1 | F32: Mercader Martínez, Juan Gustavo
A33: CAN | B33: Canada | D33: 1 | F33: Demian, Valer-Eugen
A34: CUB | B34: Cuba | D34: 1 | F34: Menéndez Rodríguez, Giraldo
A35: DEN | B35: Denmark | D35: 1 | F35: Ottesen, Søren Rud
A36: LUX | B36: Luxembourg | E36: 1 | F36: Klauner, Thed
A37: NZL | B37: New Zealand | C37: 1 | F37: Freeman, Michael Roy
A38: ENG | B38: England | C38: 1 | F38: Beckett, Phillip J.
A39: NCA | B39: Nicaragua | E39: 1 | F39: Bendaña Guerrero, Guy José
A40: AUS | B40: Australia | D40: 1 | F40: Gray, Garvin
...

Sheet 2026-058
A1: 2026-058 ICCF Assistance to Federations Deficient in Serving Their Own Players [Statute Change - 2/3] [Conflicts with 2026-055] | B1: 2026-058 ICCF Assistance to Federations Deficient in Serving Their Own Players [Statute Change - 2/3] [Conflicts with 2026-055] | C1: 2026-058 ICCF Assistance to Federations Deficient in Serving Their Own Players [Statute Change - 2/3] [Conflicts with 2026-055] | D1: 2026-058 ICCF Assistance to Federations Deficient in Serving Their Own Players [Statute Change - 2/3] [Conflicts with 2026-055] | E1: 2026-058 ICCF Assistance to Federations Deficient in Serving Their Own Players [Statute Change - 2/3] [Conflicts with 2026-055] | F1: 2026-058 ICCF Assistance to Federations Deficient in Serving Their Own Players [Statute Change - 2/3] [Conflicts with 2026-055]
A2: Code | B2: Member Federation | C2: For | D2: Against | E2: Abstain | F2: Voting Member
A3: TUR | B3: Türkiye | D3: 1 | F3: Kural, Aziz Serhat
A4: PHI | B4: Philippines | C4: 1 | F4: Simplina, Arthur
A5: EST | B5: Estonia | E5: 1 | F5: Kuusik, Jüri
A6: ITA | B6: Italy | E6: 1 | F6: Ruggeri Laderchi, Giorgio
A7: GER | B7: Germany | D7: 1 | F7: Scheiba, Manfred
A8: ROU | B8: Romania | C8: 1 | F8: Andreica-Navruc, Sebastian
A9: BRA | B9: Brazil | D9: 1 | F9: Neves, Bianor de Oliveira
A10: SLO | B10: Slovenia | D10: 1 | F10: Šemrl, Marjan
A11: JPN | B11: Japan | D11: 1 | F11: Hayashi, Koji
A12: NED | B12: Netherlands | D12: 1 | F12: Jansen, Joop
A13: LTU | B13: Lithuania | D13: 1 | F13: Chocenka, Dmitrijus
A14: BEL | B14: Belgium | D14: 1 | F14: Clement, Paul
A15: NOR | B15: Norway | D15: 1 | F15: Løvås, Roger
A16: PAN | B16: Panama | E16: 1 | F16: Rösch M., Hermann V.
A17: GRE | B17: Greece | C17: 1 | F17: Arbis, Fotis
A18: CRO | B18: Croatia | D18: 1 | F18: Ivec, Ivan
A19: POR | B19: Portugal | D19: 1 | F19: Martins, Sérgio A.
A20: CZE | B20: Czechia | D20: 1 | F20: Mrkvička, Filip
A21: MEX | B21: Mexico | D21: 1 | F21: Mercader Martínez, Juan Gustavo
A22: SVK | B22: Slovakia | C22: 1 | F22: Gaži, Miroslav
A23: FRA | B23: France | C23: 1 | F23: Ruch, Eric
A24: AUT | B24: Austria | D24: 1 | F24: Hamarat, Tunc
A25: ESP | B25: Spain | E25: 1 | F25: de Andrés Senra, Sergio Iván
A26: ENG | B26: England | D26: 1 | F26: Beckett, Phillip J.
A27: CHI | B27: Chile | C27: 1 | F27: Toro Solís de Ovando, Guillermo F.
A28: ARG | B28: Argentina | E28: 1 | F28: Gonçalves, Claudio Javier
A29: GUA | B29: Guatemala | D29: 1 | F29: Blanco Gramajo, César Augusto
A30: LAT | B30: Latvia | D30: 1 | F30: Gaujens, Artis
A31: NZL | B31: New Zealand | D31: 1 | F31: Freeman, Michael Roy
A32: HUN | B32: Hungary | E32: 1 | F32: Csiba, Tibor
A33: IRL | B33: Ireland | C33: 1 | F33: Salter, David
A34: WLS | B34: Wales | D34: 1 | F34: Lockwood, Austin
A35: CAN | B35: Canada | D35: 1 | F35: Demian, Valer-Eugen
A36: USA | B36: U.S.A. | C36: 1 | F36: Bokar, Jason
A37: NCA | B37: Nicaragua | E37: 1 | F37: Bendaña Guerrero, Guy José
A38: DEN | B38: Denmark | C38: 1 | F38: Ottesen, Søren Rud
A39: UKR | B39: Ukraine | D39: 1 | F39: Horodyskyi, Oleh
A40: SWE | B40: Sweden | C40: 1 | F40: Söderberg, Per
...

Sheet 2026-059
A1: 2026-059 Minimum Number of Tournaments Directed for the ICCF-IA Title | B1: 2026-059 Minimum Number of Tournaments Directed for the ICCF-IA Title | C1: 2026-059 Minimum Number of Tournaments Directed for the ICCF-IA Title | D1: 2026-059 Minimum Number of Tournaments Directed for the ICCF-IA Title | E1: 2026-059 Minimum Number of Tournaments Directed for the ICCF-IA Title | F1: 2026-059 Minimum Number of Tournaments Directed for the ICCF-IA Title
A2: Code | B2: Member Federation | C2: For | D2: Against | E2: Abstain | F2: Voting Member
A3: DEN | B3: Denmark | C3: 1 | F3: Ottesen, Søren Rud
A4: ESP | B4: Spain | E4: 1 | F4: de Andrés Senra, Sergio Iván
A5: PER | B5: Peru | C5: 1 | F5: Acevedo Villalba, Angel
A6: FRA | B6: France | C6: 1 | F6: Ruch, Eric
A7: LAT | B7: Latvia | C7: 1 | F7: Gaujens, Artis
A8: AUT | B8: Austria | D8: 1 | F8: Hamarat, Tunc
A9: POR | B9: Portugal | C9: 1 | F9: Martins, Sérgio A.
A10: BUL | B10: Bulgaria | D10: 1 | F10: Marinov, Petyo
A11: ECU | B11: Ecuador | E11: 1 | F11: Bjazevic, Pavao
A12: BRA | B12: Brazil | D12: 1 | F12: Neves, Bianor de Oliveira
A13: ROU | B13: Romania | C13: 1 | F13: Andreica-Navruc, Sebastian
A14: CZE | B14: Czechia | D14: 1 | F14: Mrkvička, Filip
A15: AUS | B15: Australia | D15: 1 | F15: Gray, Garvin
A16: BEL | B16: Belgium | D16: 1 | F16: Clement, Paul
A17: NZL | B17: New Zealand | D17: 1 | F17: Freeman, Michael Roy
A18: WLS | B18: Wales | C18: 1 | F18: Lockwood, Austin
A19: SCO | B19: Scotland | C19: 1 | F19: MacMillen, Andrew N.
A20: EST | B20: Estonia | E20: 1 | F20: Kuusik, Jüri
A21: PAN | B21: Panama | E21: 1 | F21: Rösch M., Hermann V.
A22: CUB | B22: Cuba | C22: 1 | F22: Menéndez Rodríguez, Giraldo
A23: SVK | B23: Slovakia | D23: 1 | F23: Gaži, Miroslav
A24: CRO | B24: Croatia | D24: 1 | F24: Ivec, Ivan
A25: ITA | B25: Italy | E25: 1 | F25: Ruggeri Laderchi, Giorgio
A26: TUR | B26: Türkiye | D26: 1 | F26: Kural, Aziz Serhat
A27: POL | B27: Poland | D27: 1 | F27: Wojnar, Mariusz
A28: IND | B28: India | C28: 1 | F28: Chatterjee, Ambar
A29: ISR | B29: Israel | E29: 1 | F29: Dothan, Yoav
A30: CAN | B30: Canada | D30: 1 | F30: Demian, Valer-Eugen
A31: MEX | B31: Mexico | C31: 1 | F31: Mercader Martínez, Juan Gustavo
A32: LUX | B32: Luxembourg | E32: 1 | F32: Klauner, Thed
A33: SWE | B33: Sweden | D33: 1 | F33: Söderberg, Per
A34: SLO | B34: Slovenia | E34: 1 | F34: Šemrl, Marjan
A35: INA | B35: Indonesia | E35: 1 | F35: Sitorus, Yosua
A36: NOR | B36: Norway | C36: 1 | F36: Løvås, Roger
A37: CHI | B37: Chile | C37: 1 | F37: Toro Solís de Ovando, Guillermo F.
A38: IRL | B38: Ireland | C38: 1 | F38: Salter, David
A39: ARG | B39: Argentina | E39: 1 | F39: Gonçalves, Claudio Javier
A40: GRE | B40: Greece | C40: 1 | F40: Arbis, Fotis
...

Sheet 2026-060
A1: 2026-060 Replacement of National Federation Voting Delegates in Exceptional Personal Circumstances | B1: 2026-060 Replacement of National Federation Voting Delegates in Exceptional Personal Circumstances | C1: 2026-060 Replacement of National Federation Voting Delegates in Exceptional Personal Circumstances | D1: 2026-060 Replacement of National Federation Voting Delegates in Exceptional Personal Circumstances | E1: 2026-060 Replacement of National Federation Voting Delegates in Exceptional Personal Circumstances | F1: 2026-060 Replacement of National Federation Voting Delegates in Exceptional Personal Circumstances
A2: Code | B2: Member Federation | C2: For | D2: Against | E2: Abstain | F2: Voting Member
A3: FRA | B3: France | C3: 1 | F3: Ruch, Eric
A4: CHI | B4: Chile | C4: 1 | F4: Toro Solís de Ovando, Guillermo F.
A5: WLS | B5: Wales | C5: 1 | F5: Lockwood, Austin
A6: SUI | B6: Switzerland | C6: 1 | F6: Baumgartner, Ulrich
A7: ISL | B7: Iceland | C7: 1 | F7: Necchi, Sandro
A8: NZL | B8: New Zealand | C8: 1 | F8: Freeman, Michael Roy
A9: CAN | B9: Canada | C9: 1 | F9: Demian, Valer-Eugen
A10: POR | B10: Portugal | C10: 1 | F10: Martins, Sérgio A.
A11: GUA | B11: Guatemala | C11: 1 | F11: Blanco Gramajo, César Augusto
A12: ESP | B12: Spain | E12: 1 | F12: de Andrés Senra, Sergio Iván
A13: LUX | B13: Luxembourg | E13: 1 | F13: Klauner, Thed
A14: AUS | B14: Australia | D14: 1 | F14: Gray, Garvin
A15: NCA | B15: Nicaragua | E15: 1 | F15: Bendaña Guerrero, Guy José
A16: CRO | B16: Croatia | C16: 1 | F16: Ivec, Ivan
A17: SCO | B17: Scotland | C17: 1 | F17: MacMillen, Andrew N.
A18: DEN | B18: Denmark | C18: 1 | F18: Ottesen, Søren Rud
A19: NOR | B19: Norway | C19: 1 | F19: Løvås, Roger
A20: TUR | B20: Türkiye | D20: 1 | F20: Kural, Aziz Serhat
A21: INA | B21: Indonesia | E21: 1 | F21: Sitorus, Yosua
A22: CZE | B22: Czechia | C22: 1 | F22: Mrkvička, Filip
A23: PHI | B23: Philippines | C23: 1 | F23: Simplina, Arthur
A24: LAT | B24: Latvia | C24: 1 | F24: Gaujens, Artis
A25: ITA | B25: Italy | E25: 1 | F25: Ruggeri Laderchi, Giorgio
A26: ECU | B26: Ecuador | E26: 1 | F26: Bjazevic, Pavao
A27: BRA | B27: Brazil | C27: 1 | F27: Neves, Bianor de Oliveira
A28: AUT | B28: Austria | C28: 1 | F28: Hamarat, Tunc
A29: NED | B29: Netherlands | C29: 1 | F29: Jansen, Joop
A30: RSA | B30: South Africa | C30: 1 | F30: Knol, Everdinand
A31: CUB | B31: Cuba | C31: 1 | F31: Menéndez Rodríguez, Giraldo
A32: ISR | B32: Israel | E32: 1 | F32: Dothan, Yoav
A33: BEL | B33: Belgium | C33: 1 | F33: Clement, Paul
A34: ROU | B34: Romania | C34: 1 | F34: Andreica-Navruc, Sebastian
A35: USA | B35: U.S.A. | C35: 1 | F35: Bokar, Jason
A36: LTU | B36: Lithuania | C36: 1 | F36: Chocenka, Dmitrijus
A37: SWE | B37: Sweden | C37: 1 | F37: Söderberg, Per
A38: GER | B38: Germany | C38: 1 | F38: Scheiba, Manfred
A39: FIN | B39: Finland | C39: 1 | F39: Sundqvist, Christer
A40: HUN | B40: Hungary | E40: 1 | F40: Csiba, Tibor
...

Sheet 2026-061
A1: 2026-061 New Type of Player Membership | B1: 2026-061 New Type of Player Membership | C1: 2026-061 New Type of Player Membership | D1: 2026-061 New Type of Player Membership | E1: 2026-061 New Type of Player Membership | F1: 2026-061 New Type of Player Membership
A2: Code | B2: Member Federation | C2: For | D2: Against | E2: Abstain | F2: Voting Member
A3: GUA | B3: Guatemala | E3: 1 | F3: Blanco Gramajo, César Augusto
A4: WLS | B4: Wales | C4: 1 | F4: Lockwood, Austin
A5: FIN | B5: Finland | D5: 1 | F5: Sundqvist, Christer
A6: USA | B6: U.S.A. | C6: 1 | F6: Bokar, Jason
A7: JPN | B7: Japan | C7: 1 | F7: Hayashi, Koji
A8: PHI | B8: Philippines | C8: 1 | F8: Simplina, Arthur
A9: NZL | B9: New Zealand | D9: 1 | F9: Freeman, Michael Roy
A10: CRO | B10: Croatia | D10: 1 | F10: Ivec, Ivan
A11: CHI | B11: Chile | C11: 1 | F11: Toro Solís de Ovando, Guillermo F.
A12: TUR | B12: Türkiye | D12: 1 | F12: Kural, Aziz Serhat
A13: SWE | B13: Sweden | D13: 1 | F13: Söderberg, Per
A14: MEX | B14: Mexico | D14: 1 | F14: Mercader Martínez, Juan Gustavo
A15: BEL | B15: Belgium | E15: 1 | F15: Clement, Paul
A16: RSA | B16: South Africa | C16: 1 | F16: Knol, Everdinand
A17: NOR | B17: Norway | D17: 1 | F17: Løvås, Roger
A18: ENG | B18: England | C18: 1 | F18: Beckett, Phillip J.
A19: GER | B19: Germany | D19: 1 | F19: Scheiba, Manfred
A20: AUT | B20: Austria | D20: 1 | F20: Hamarat, Tunc
A21: FRA | B21: France | C21: 1 | F21: Ruch, Eric
A22: IND | B22: India | C22: 1 | F22: Chatterjee, Ambar
A23: IRL | B23: Ireland | C23: 1 | F23: Salter, David
A24: CZE | B24: Czechia | D24: 1 | F24: Mrkvička, Filip
A25: ITA | B25: Italy | E25: 1 | F25: Ruggeri Laderchi, Giorgio
A26: HUN | B26: Hungary | C26: 1 | F26: Csiba, Tibor
A27: INA | B27: Indonesia | E27: 1 | F27: Sitorus, Yosua
A28: SVK | B28: Slovakia | C28: 1 | F28: Gaži, Miroslav
A29: ECU | B29: Ecuador | E29: 1 | F29: Bjazevic, Pavao
A30: BRA | B30: Brazil | C30: 1 | F30: Neves, Bianor de Oliveira
A31: PAN | B31: Panama | E31: 1 | F31: Rösch M., Hermann V.
A32: ROU | B32: Romania | D32: 1 | F32: Andreica-Navruc, Sebastian
A33: LUX | B33: Luxembourg | E33: 1 | F33: Klauner, Thed
A34: SLO | B34: Slovenia | D34: 1 | F34: Šemrl, Marjan
A35: GRE | B35: Greece | C35: 1 | F35: Arbis, Fotis
A36: ISR | B36: Israel | E36: 1 | F36: Dothan, Yoav
A37: POL | B37: Poland | D37: 1 | F37: Wojnar, Mariusz
A38: LAT | B38: Latvia | D38: 1 | F38: Gaujens, Artis
A39: NED | B39: Netherlands | D39: 1 | F39: Jansen, Joop
A40: LTU | B40: Lithuania | D40: 1 | F40: Chocenka, Dmitrijus
...

Sheet 2026-062
A1: 2026-062 Shorten Standards for Time Controls | B1: 2026-062 Shorten Standards for Time Controls | C1: 2026-062 Shorten Standards for Time Controls | D1: 2026-062 Shorten Standards for Time Controls | E1: 2026-062 Shorten Standards for Time Controls | F1: 2026-062 Shorten Standards for Time Controls
A2: Code | B2: Member Federation | C2: For | D2: Against | E2: Abstain | F2: Voting Member
A3: BEL | B3: Belgium | D3: 1 | F3: Clement, Paul
A4: ISR | B4: Israel | E4: 1 | F4: Dothan, Yoav
A5: BRA | B5: Brazil | C5: 1 | F5: Neves, Bianor de Oliveira
A6: CAN | B6: Canada | D6: 1 | F6: Demian, Valer-Eugen
A7: ECU | B7: Ecuador | E7: 1 | F7: Bjazevic, Pavao
A8: ITA | B8: Italy | E8: 1 | F8: Ruggeri Laderchi, Giorgio
A9: DEN | B9: Denmark | C9: 1 | F9: Ottesen, Søren Rud
A10: PAN | B10: Panama | E10: 1 | F10: Rösch M., Hermann V.
A11: WLS | B11: Wales | D11: 1 | F11: Lockwood, Austin
A12: NCA | B12: Nicaragua | E12: 1 | F12: Bendaña Guerrero, Guy José
A13: TUR | B13: Türkiye | D13: 1 | F13: Kural, Aziz Serhat
A14: PHI | B14: Philippines | D14: 1 | F14: Simplina, Arthur
A15: CZE | B15: Czechia | D15: 1 | F15: Mrkvička, Filip
A16: ROU | B16: Romania | C16: 1 | F16: Andreica-Navruc, Sebastian
A17: SUI | B17: Switzerland | D17: 1 | F17: Baumgartner, Ulrich
A18: NZL | B18: New Zealand | D18: 1 | F18: Freeman, Michael Roy
A19: LAT | B19: Latvia | D19: 1 | F19: Gaujens, Artis
A20: HUN | B20: Hungary | D20: 1 | F20: Csiba, Tibor
A21: ISL | B21: Iceland | C21: 1 | F21: Necchi, Sandro
A22: NOR | B22: Norway | D22: 1 | F22: Løvås, Roger
A23: NED | B23: Netherlands | D23: 1 | F23: Jansen, Joop
A24: GUA | B24: Guatemala | D24: 1 | F24: Blanco Gramajo, César Augusto
A25: ESP | B25: Spain | E25: 1 | F25: de Andrés Senra, Sergio Iván
A26: LTU | B26: Lithuania | C26: 1 | F26: Chocenka, Dmitrijus
A27: CHI | B27: Chile | D27: 1 | F27: Toro Solís de Ovando, Guillermo F.
A28: EST | B28: Estonia | E28: 1 | F28: Kuusik, Jüri
A29: AUS | B29: Australia | D29: 1 | F29: Gray, Garvin
A30: LUX | B30: Luxembourg | E30: 1 | F30: Klauner, Thed
A31: IRL | B31: Ireland | C31: 1 | F31: Salter, David
A32: GRE | B32: Greece | C32: 1 | F32: Arbis, Fotis
A33: CRO | B33: Croatia | D33: 1 | F33: Ivec, Ivan
A34: SWE | B34: Sweden | D34: 1 | F34: Söderberg, Per
A35: INA | B35: Indonesia | E35: 1 | F35: Sitorus, Yosua
A36: AUT | B36: Austria | D36: 1 | F36: Hamarat, Tunc
A37: CUB | B37: Cuba | C37: 1 | F37: Menéndez Rodríguez, Giraldo
A38: ARG | B38: Argentina | E38: 1 | F38: Gonçalves, Claudio Javier
A39: POL | B39: Poland | D39: 1 | F39: Wojnar, Mariusz
A40: POR | B40: Portugal | D40: 1 | F40: Martins, Sérgio A.
...

Sheet 2026-065
A1: 2026-065 Introduction of Blitz Tournaments | B1: 2026-065 Introduction of Blitz Tournaments | C1: 2026-065 Introduction of Blitz Tournaments | D1: 2026-065 Introduction of Blitz Tournaments | E1: 2026-065 Introduction of Blitz Tournaments | F1: 2026-065 Introduction of Blitz Tournaments
A2: Code | B2: Member Federation | C2: For | D2: Against | E2: Abstain | F2: Voting Member
A3: POR | B3: Portugal | D3: 1 | F3: Martins, Sérgio A.
A4: GRE | B4: Greece | C4: 1 | F4: Arbis, Fotis
A5: WLS | B5: Wales | D5: 1 | F5: Lockwood, Austin
A6: ENG | B6: England | C6: 1 | F6: Beckett, Phillip J.
A7: BRA | B7: Brazil | D7: 1 | F7: Neves, Bianor de Oliveira
A8: USA | B8: U.S.A. | D8: 1 | F8: Bokar, Jason
A9: IND | B9: India | C9: 1 | F9: Chatterjee, Ambar
A10: AUT | B10: Austria | C10: 1 | F10: Hamarat, Tunc
A11: INA | B11: Indonesia | E11: 1 | F11: Sitorus, Yosua
A12: LAT | B12: Latvia | C12: 1 | F12: Gaujens, Artis
A13: FRA | B13: France | D13: 1 | F13: Ruch, Eric
A14: TUR | B14: Türkiye | D14: 1 | F14: Kural, Aziz Serhat
A15: JPN | B15: Japan | C15: 1 | F15: Hayashi, Koji
A16: SLO | B16: Slovenia | D16: 1 | F16: Šemrl, Marjan
A17: PAN | B17: Panama | E17: 1 | F17: Rösch M., Hermann V.
A18: GUA | B18: Guatemala | E18: 1 | F18: Blanco Gramajo, César Augusto
A19: ROU | B19: Romania | D19: 1 | F19: Andreica-Navruc, Sebastian
A20: NZL | B20: New Zealand | D20: 1 | F20: Freeman, Michael Roy
A21: SCO | B21: Scotland | D21: 1 | F21: MacMillen, Andrew N.
A22: ISL | B22: Iceland | C22: 1 | F22: Necchi, Sandro
A23: EST | B23: Estonia | E23: 1 | F23: Kuusik, Jüri
A24: IRL | B24: Ireland | C24: 1 | F24: Salter, David
A25: BEL | B25: Belgium | D25: 1 | F25: Clement, Paul
A26: UKR | B26: Ukraine | D26: 1 | F26: Horodyskyi, Oleh
A27: CZE | B27: Czechia | D27: 1 | F27: Mrkvička, Filip
A28: ARG | B28: Argentina | E28: 1 | F28: Gonçalves, Claudio Javier
A29: FIN | B29: Finland | C29: 1 | F29: Sundqvist, Christer
A30: LUX | B30: Luxembourg | E30: 1 | F30: Klauner, Thed
A31: CRO | B31: Croatia | D31: 1 | F31: Ivec, Ivan
A32: CUB | B32: Cuba | C32: 1 | F32: Menéndez Rodríguez, Giraldo
A33: NCA | B33: Nicaragua | E33: 1 | F33: Bendaña Guerrero, Guy José
A34: PER | B34: Peru | C34: 1 | F34: Acevedo Villalba, Angel
A35: ESP | B35: Spain | E35: 1 | F35: de Andrés Senra, Sergio Iván
A36: SUI | B36: Switzerland | C36: 1 | F36: Baumgartner, Ulrich
A37: CHI | B37: Chile | C37: 1 | F37: Toro Solís de Ovando, Guillermo F.
A38: AUS | B38: Australia | D38: 1 | F38: Gray, Garvin
A39: NOR | B39: Norway | C39: 1 | F39: Løvås, Roger
A40: DEN | B40: Denmark | D40: 1 | F40: Ottesen, Søren Rud
...

Sheet 2026-066
A1: 2026-066 Format of Blitz Tournaments (Only Considered if 2026-065 is Approved) | B1: 2026-066 Format of Blitz Tournaments (Only Considered if 2026-065 is Approved) | C1: 2026-066 Format of Blitz Tournaments (Only Considered if 2026-065 is Approved) | D1: 2026-066 Format of Blitz Tournaments (Only Considered if 2026-065 is Approved) | E1: 2026-066 Format of Blitz Tournaments (Only Considered if 2026-065 is Approved) | F1: 2026-066 Format of Blitz Tournaments (Only Considered if 2026-065 is Approved) | G1: 2026-066 Format of Blitz Tournaments (Only Considered if 2026-065 is Approved) | H1: 2026-066 Format of Blitz Tournaments (Only Considered if 2026-065 is Approved)
A2: Code | B2: Member Federation | C2: For | D2: Against | E2: Vote at Congress | F2: Proxy/Designee | G2: Abstain | H2: Voting Member
A4: 2026-065 was not approved. This proposal is moot and not voted upon because 2026-065 was Not approved.

Sheet 2026-067
A1: 2026-067 Creation of a New Position: Chess 960 Officer | B1: 2026-067 Creation of a New Position: Chess 960 Officer | C1: 2026-067 Creation of a New Position: Chess 960 Officer | D1: 2026-067 Creation of a New Position: Chess 960 Officer | E1: 2026-067 Creation of a New Position: Chess 960 Officer | F1: 2026-067 Creation of a New Position: Chess 960 Officer
A2: Code | B2: Member Federation | C2: For | D2: Against | E2: Abstain | F2: Voting Member
A3: POR | B3: Portugal | D3: 1 | F3: Martins, Sérgio A.
A4: FRA | B4: France | D4: 1 | F4: Ruch, Eric
A5: IND | B5: India | C5: 1 | F5: Chatterjee, Ambar
A6: TUR | B6: Türkiye | D6: 1 | F6: Kural, Aziz Serhat
A7: NOR | B7: Norway | D7: 1 | F7: Løvås, Roger
A8: ISR | B8: Israel | E8: 1 | F8: Dothan, Yoav
A9: UKR | B9: Ukraine | D9: 1 | F9: Horodyskyi, Oleh
A10: INA | B10: Indonesia | E10: 1 | F10: Sitorus, Yosua
A11: FIN | B11: Finland | C11: 1 | F11: Sundqvist, Christer
A12: ARG | B12: Argentina | E12: 1 | F12: Gonçalves, Claudio Javier
A13: PER | B13: Peru | E13: 1 | F13: Acevedo Villalba, Angel
A14: ROU | B14: Romania | C14: 1 | F14: Andreica-Navruc, Sebastian
A15: JPN | B15: Japan | D15: 1 | F15: Hayashi, Koji
A16: CRO | B16: Croatia | D16: 1 | F16: Ivec, Ivan
A17: SWE | B17: Sweden | D17: 1 | F17: Söderberg, Per
A18: LTU | B18: Lithuania | D18: 1 | F18: Chocenka, Dmitrijus
A19: MEX | B19: Mexico | C19: 1 | F19: Mercader Martínez, Juan Gustavo
A20: RSA | B20: South Africa | C20: 1 | F20: Knol, Everdinand
A21: EST | B21: Estonia | E21: 1 | F21: Kuusik, Jüri
