Workbook

Sheet Voting Summary
A1: ICCF Congress 2026 Voting Summary
A2: Consolidated proposal results. An em dash indicates that no vote was held.
A4: Approved | B4: =COUNTIF(G9:G43,"Approved") -> 13 | C4: Not Approved | D4: =COUNTIF(G9:G43,"Not Approved") -> 19 | E4: Moot | F4: =COUNTIF(G9:G43,"Moot — Not Voted") -> 2 | G4: Withdrawn | H4: =COUNTIF(G9:G43,"Withdrawn — Not Voted") -> 1
A8: Proposal | B8: Title | C8: For | D8: Against | E8: Abstain | F8: Total Votes | G8: Status | H8: Notes
A9: 2026-040 | B9: Review and Approve the Financial Reports and Plan | C9: ='2026-040'!C58 -> 11 | D9: ='2026-040'!D58 -> 22 | E9: ='2026-040'!E58 -> 20 | F9: =SUM(C9:E9) -> 53 | G9: Not Approved
A10: 2026-041 | B10: Assign a New Budget for Modernising the Website | C10: ='2026-041'!C58 -> 21 | D10: ='2026-041'!D58 -> 17 | E10: ='2026-041'!E58 -> 15 | F10: =SUM(C10:E10) -> 53 | G10: Approved
A11: 2026-042 | B11: Develop a New Chess Board for the ICCF Website | C11: ='2026-042'!C58 -> 22 | D11: ='2026-042'!D58 -> 17 | E11: ='2026-042'!E58 -> 14 | F11: =SUM(C11:E11) -> 53 | G11: Approved
A12: 2026-043 | B12: Transformative Financial Stewardship Initiative | C12: ='2026-043'!C58 -> 10 | D12: ='2026-043'!D58 -> 27 | E12: ='2026-043'!E58 -> 16 | F12: =SUM(C12:E12) -> 53 | G12: Not Approved
A13: 2026-050 | B13: Developing and Using a Tournament Organization Committee | C13: ='2026-050'!C58 -> 9 | D13: ='2026-050'!D58 -> 33 | E13: ='2026-050'!E58 -> 11 | F13: =SUM(C13:E13) -> 53 | G13: Not Approved
A14: 2026-051 | B14: Delete “typically” from ICCF Rules section 3.17.5 | C14: ='2026-051'!C58 -> 43 | D14: ='2026-051'!D58 -> 0 | E14: ='2026-051'!E58 -> 10 | F14: =SUM(C14:E14) -> 53 | G14: Approved
A15: 2026-052 | B15: Duration of Registration Periods for Tournaments Using Direct Entry | C15: ='2026-052'!C58 -> 33 | D15: ='2026-052'!D58 -> 9 | E15: ='2026-052'!E58 -> 11 | F15: =SUM(C15:E15) -> 53 | G15: Approved
A16: 2026-053 | B16: Remove Inconsistency in Ratings Procedure | C16: ='2026-053'!C58 -> 37 | D16: ='2026-053'!D58 -> 4 | E16: ='2026-053'!E58 -> 12 | F16: =SUM(C16:E16) -> 53 | G16: Approved
A17: 2026-054 | B17: Committee to Investigate/Report on Viability for Running Engine Detection Software | C17: ='2026-054'!C58 -> 13 | D17: ='2026-054'!D58 -> 28 | E17: ='2026-054'!E58 -> 12 | F17: =SUM(C17:E17) -> 53 | G17: Not Approved
A18: 2026-055 | B18: New Commissioner Position [Conflicts with 2026-058] | C18: ='2026-055'!C57 -> 11 | D18: ='2026-055'!D57 -> 29 | E18: ='2026-055'!E57 -> 13 | F18: =SUM(C18:E18) -> 53 | G18: Not Approved
A19: 2026-056 | B19: Counting ETL Wins as Half-Points Specifically When It Comes to Earning Title Norms | C19: ='2026-056'!C58 -> 12 | D19: ='2026-056'!D58 -> 30 | E19: ='2026-056'!E58 -> 11 | F19: =SUM(C19:E19) -> 53 | G19: Not Approved
A20: 2026-057 | B20: Create Open Events That Are Unrated and Bar the Use of Chess Engines | C20: ='2026-057'!C58 -> 18 | D20: ='2026-057'!D58 -> 24 | E20: ='2026-057'!E58 -> 11 | F20: =SUM(C20:E20) -> 53 | G20: Not Approved
A21: 2026-058 | B21: ICCF Assistance to Federations Deficient in Serving Their Own Players [Statute Change – 2/3] [Conflicts with 2026-055] | C21: ='2026-058'!C57 -> 11 | D21: ='2026-058'!D57 -> 30 | E21: ='2026-058'!E57 -> 12 | F21: =SUM(C21:E21) -> 53 | G21: Not Approved | H21: Required a two-thirds majority.
A22: 2026-059 | B22: Minimum Number of Tournaments Directed for the ICCF-IA Title | C22: ='2026-059'!C58 -> 20 | D22: ='2026-059'!D58 -> 21 | E22: ='2026-059'!E58 -> 12 | F22: =SUM(C22:E22) -> 53 | G22: Not Approved
A23: 2026-060 | B23: Replacement of National Federation Voting Delegates in Exceptional Personal Circumstances | C23: ='2026-060'!C58 -> 40 | D23: ='2026-060'!D58 -> 2 | E23: ='2026-060'!E58 -> 11 | F23: =SUM(C23:E23) -> 53 | G23: Approved
A24: 2026-061 | B24: New Type of Player Membership | C24: ='2026-061'!C58 -> 15 | D24: ='2026-061'!D58 -> 25 | E24: ='2026-061'!E58 -> 13 | F24: =SUM(C24:E24) -> 53 | G24: Not Approved
A25: 2026-062 | B25: Shorten Standards for Time Controls | C25: ='2026-062'!C58 -> 17 | D25: ='2026-062'!D58 -> 26 | E25: ='2026-062'!E58 -> 10 | F25: =SUM(C25:E25) -> 53 | G25: Not Approved
A26: 2026-065 | B26: Introduction of Blitz Tournaments | C26: ='2026-065'!C57 -> 20 | D26: ='2026-065'!D57 -> 20 | E26: ='2026-065'!E57 -> 13 | F26: =SUM(C26:E26) -> 53 | G26: Not Approved | H26: Tie vote (20–20).
A27: 2026-066 | B27: Format of Blitz Tournaments (Only Considered if 2026-065 is Approved) | C27: — | D27: — | E27: — | F27: — | G27: Moot — Not Voted | H27: Moot because 2026-065 was not approved.
A28: 2026-067 | B28: Creation of a New Position: Chess 960 Officer | C28: ='2026-067'!C58 -> 11 | D28: ='2026-067'!D58 -> 28 | E28: ='2026-067'!E58 -> 14 | F28: =SUM(C28:E28) -> 53 | G28: Not Approved
A29: 2026-068 | B29: Creation of a New Position: Blitz Officer (Only Considered if 2026-065 is Approved) | C29: — | D29: — | E29: — | F29: — | G29: Moot — Not Voted | H29: Moot because 2026-065 was not approved.
A30: 2026-069 | B30: Trial Period for the Rutar Tiebreak System | C30: — | D30: — | E30: — | F30: — | G30: Withdrawn — Not Voted | H30: Withdrawn at the request of the proposer.
A31: 2026-070 | B31: Team Silli System | C31: ='2026-070'!C58 -> 32 | D31: ='2026-070'!D58 -> 5 | E31: ='2026-070'!E58 -> 16 | F31: =SUM(C31:E31) -> 53 | G31: Approved
A32: 2026-071 | B32: Tournament Results and Team Standings | C32: ='2026-071'!C58 -> 30 | D32: ='2026-071'!D58 -> 7 | E32: ='2026-071'!E58 -> 16 | F32: =SUM(C32:E32) -> 53 | G32: Approved
A33: 2026-072 | B33: Optional Use of the PCS System in all Types of ICCF Tournaments | C33: ='2026-072'!C58 -> 24 | D33: ='2026-072'!D58 -> 17 | E33: ='2026-072'!E58 -> 12 | F33: =SUM(C33:E33) -> 53 | G33: Approved
A34: 2026-073 | B34: Adding ‘Overall Points’ to the Prediction Criterion System | C34: ='2026-073'!C58 -> 23 | D34: ='2026-073'!D58 -> 16 | E34: ='2026-073'!E58 -> 14 | F34: =SUM(C34:E34) -> 53 | G34: Approved
A35: 2026-074 | B35: Allow a Limited Trial of Rated and Title Unbalanced Opening Tournaments | C35: ='2026-074'!C58 -> 26 | D35: ='2026-074'!D58 -> 10 | E35: ='2026-074'!E58 -> 17 | F35: =SUM(C35:E35) -> 53 | G35: Approved
A36: 2026-075 | B36: Shorter Triple Block Time Controls | C36: ='2026-075'!C58 -> 23 | D36: ='2026-075'!D58 -> 17 | E36: ='2026-075'!E58 -> 13 | F36: =SUM(C36:E36) -> 53 | G36: Approved
A37: 2026-077 | B37: Lifting the Suspension of the Russian Federation as a Member of ICCF | C37: ='2026-077'!C58 -> 12 | D37: ='2026-077'!D58 -> 26 | E37: ='2026-077'!E58 -> 15 | F37: =SUM(C37:E37) -> 53 | G37: Not Approved
A38: 2026-078 | B38: Lifting the Suspension of the Belarus Federation as a Member of ICCF | C38: ='2026-078'!C58 -> 14 | D38: ='2026-078'!D58 -> 25 | E38: ='2026-078'!E58 -> 14 | F38: =SUM(C38:E38) -> 53 | G38: Not Approved
A39: 2026-080 | B39: Amendments to the Triple Block Time Control System (TBS) | C39: ='2026-080'!C58 -> 7 | D39: ='2026-080'!D58 -> 30 | E39: ='2026-080'!E58 -> 16 | F39: =SUM(C39:E39) -> 53 | G39: Not Approved
A40: 2026-081 | B40: Suspension of ICCF Players Representing Russia | C40: ='2026-081'!C58 -> 4 | D40: ='2026-081'!D58 -> 36 | E40: ='2026-081'!E58 -> 13 | F40: =SUM(C40:E40) -> 53 | G40: Not Approved
A41: 2026-082 | B41: Suspension of ICCF Players Representing Belarus | C41: ='2026-082'!C58 -> 5 | D41: ='2026-082'!D58 -> 32 | E41: ='2026-082'!E58 -> 16 | F41: =SUM(C41:E41) -> 53 | G41: Not Approved
A42: 2026-090 | B42: Offer to Host the 2027 ICCF Congress in Manila, Philippines [Conflicts with 2026-091] | C42: ='2026-090'!C58 -> 16 | D42: ='2026-090'!D58 -> 17 | E42: ='2026-090'!E58 -> 20 | F42: =SUM(C42:E42) -> 53 | G42: Not Approved
A43: 2026-091 | B43: Offer to Host the 2027 ICCF Congress in Plzeň, Czech Republic [Conflicts with 2026-090] | C43: ='2026-091'!C58 -> 28 | D43: ='2026-091'!D58 -> 8 | E43: ='2026-091'!E58 -> 17 | F43: =SUM(C43:E43) -> 53 | G43: Approved

Sheet 2026-040
A1: 2026-040 Review and Approve the Financial Reports and Plan | B1: 2026-040 Review and Approve the Financial Reports and Plan | C1: 2026-040 Review and Approve the Financial Reports and Plan | D1: 2026-040 Review and Approve the Financial Reports and Plan | E1: 2026-040 Review and Approve the Financial Reports and Plan | F1: 2026-040 Review and Approve the Financial Reports and Plan
A2: Code | B2: Member Federation | C2: For | D2: Against | E2: Abstain | F2: Voting Member
A3: CRO | B3: Croatia | C3: 1 | F3: Ivec, Ivan
A4: POR | B4: Portugal | D4: 1 | F4: Martins, Sérgio A.
A5: WLS | B5: Wales | D5: 1 | F5: Lockwood, Austin
A6: CZE | B6: Czechia | D6: 1 | F6: Mrkvička, Filip
A7: FIN | B7: Finland | D7: 1 | F7: Sundqvist, Christer
A8: ITA | B8: Italy | E8: 1 | F8: Ruggeri Laderchi, Giorgio
A9: PER | B9: Peru | E9: 1 | F9: Acevedo Villalba, Angel
A10: IND | B10: India | D10: 1 | F10: Chatterjee, Ambar
A11: ESP | B11: Spain | E11: 1 | F11: de Andrés Senra, Sergio Iván
A12: AUS | B12: Australia | D12: 1 | F12: Gray, Garvin
A13: SUI | B13: Switzerland | D13: 1 | F13: Baumgartner, Ulrich
A14: RSA | B14: South Africa | C14: 1 | F14: Knol, Everdinand
A15: JPN | B15: Japan | E15: 1 | F15: Hayashi, Koji
A16: NED | B16: Netherlands | D16: 1 | F16: Jansen, Joop
A17: CHI | B17: Chile | C17: 1 | F17: Toro Solís de Ovando, Guillermo F.
A18: TUR | B18: Türkiye | C18: 1 | F18: Kural, Aziz Serhat
A19: IRL | B19: Ireland | C19: 1 | F19: Salter, David
A20: HUN | B20: Hungary | C20: 1 | F20: Csiba, Tibor
A21: GRE | B21: Greece | C21: 1 | F21: Arbis, Fotis
A22: ISR | B22: Israel | E22: 1 | F22: Dothan, Yoav
A23: INA | B23: Indonesia | E23: 1 | F23: Sitorus, Yosua
A24: GER | B24: Germany | D24: 1 | F24: Scheiba, Manfred
A25: LAT | B25: Latvia | E25: 1 | F25: Gaujens, Artis
A26: BUL | B26: Bulgaria | E26: 1 | F26: Marinov, Petyo
A27: SWE | B27: Sweden | D27: 1 | F27: Söderberg, Per
A28: ENG | B28: England | C28: 1 | F28: Beckett, Phillip J.
A29: NOR | B29: Norway | D29: 1 | F29: Løvås, Roger
A30: CUB | B30: Cuba | D30: 1 | F30: Menéndez Rodríguez, Giraldo
A31: POL | B31: Poland | D31: 1 | F31: Wojnar, Mariusz
A32: AUT | B32: Austria | E32: 1 | F32: Hamarat, Tunc
A33: DEN | B33: Denmark | C33: 1 | F33: Ottesen, Søren Rud
A34: BRA | B34: Brazil | D34: 1 | F34: Neves, Bianor de Oliveira
A35: ECU | B35: Ecuador | E35: 1 | F35: Bjazevic, Pavao
A36: ROU | B36: Romania | D36: 1 | F36: Andreica-Navruc, Sebastian
A37: CAN | B37: Canada | D37: 1 | F37: Demian, Valer-Eugen
A38: SLO | B38: Slovenia | D38: 1 | F38: Šemrl, Marjan
A39: MEX | B39: Mexico | C39: 1 | F39: Mercader Martínez, Juan Gustavo
A40: FRA | B40: France | E40: 1 | F40: Ruch, Eric
A41: USA | B41: U.S.A. | D41: 1 | F41: Bokar, Jason
A42: NCA | B42: Nicaragua | E42: 1 | F42: Bendaña Guerrero, Guy José
A43: PHI | B43: Philippines | D43: 1 | F43: Simplina, Arthur
A44: UKR | B44: Ukraine | E44: 1 | F44: Horodyskyi, Oleh
A45: LTU | B45: Lithuania | D45: 1 | F45: Chocenka, Dmitrijus
A46: ARG | B46: Argentina | E46: 1 | F46: Gonçalves, Claudio Javier
A47: NZL | B47: New Zealand | E47: 1 | F47: Freeman, Michael Roy
A48: SCO | B48: Scotland | D48: 1 | F48: MacMillen, Andrew N.
A49: EST | B49: Estonia | E49: 1 | F49: Kuusik, Jüri
A50: GUA | B50: Guatemala | E50: 1 | F50: Blanco Gramajo, César Augusto
A51: SVK | B51: Slovakia | D51: 1 | F51: Gaži, Miroslav
A52: BEL | B52: Belgium | E52: 1 | F52: Clement, Paul
A53: PAN | B53: Panama | E53: 1 | F53: Rösch M., Hermann V.
A54: ISL | B54: Iceland | C54: 1 | F54: Necchi, Sandro
A55: LUX | B55: Luxembourg | E55: 1 | F55: Klauner, Thed
C57: For | D57: Against | E57: Abstain
B58: Total | C58: =SUM(C3:C56) -> 11 | D58: =SUM(D3:D56) -> 22 | E58: =SUM(E3:E56) -> 20

Sheet 2026-041
A1: 2026-041 Assign a New Budget for Modernising the Website | B1: 2026-041 Assign a New Budget for Modernising the Website | C1: 2026-041 Assign a New Budget for Modernising the Website | D1: 2026-041 Assign a New Budget for Modernising the Website | E1: 2026-041 Assign a New Budget for Modernising the Website | F1: 2026-041 Assign a New Budget for Modernising the Website
A2: Code | B2: Member Federation | C2: For | D2: Against | E2: Abstain | F2: Voting Member
A3: AUS | B3: Australia | C3: 1 | F3: Gray, Garvin
A4: HUN | B4: Hungary | C4: 1 | F4: Csiba, Tibor
A5: JPN | B5: Japan | E5: 1 | F5: Hayashi, Koji
A6: ECU | B6: Ecuador | E6: 1 | F6: Bjazevic, Pavao
A7: IND | B7: India | D7: 1 | F7: Chatterjee, Ambar
A8: SWE | B8: Sweden | D8: 1 | F8: Söderberg, Per
A9: GRE | B9: Greece | C9: 1 | F9: Arbis, Fotis
A10: NZL | B10: New Zealand | C10: 1 | F10: Freeman, Michael Roy
A11: TUR | B11: Türkiye | C11: 1 | F11: Kural, Aziz Serhat
A12: ISL | B12: Iceland | D12: 1 | F12: Necchi, Sandro
A13: ENG | B13: England | C13: 1 | F13: Beckett, Phillip J.
A14: NCA | B14: Nicaragua | E14: 1 | F14: Bendaña Guerrero, Guy José
A15: SVK | B15: Slovakia | D15: 1 | F15: Gaži, Miroslav
A16: FIN | B16: Finland | D16: 1 | F16: Sundqvist, Christer
A17: CAN | B17: Canada | D17: 1 | F17: Demian, Valer-Eugen
A18: POL | B18: Poland | D18: 1 | F18: Wojnar, Mariusz
A19: CRO | B19: Croatia | C19: 1 | F19: Ivec, Ivan
A20: PHI | B20: Philippines | C20: 1 | F20: Simplina, Arthur
A21: USA | B21: U.S.A. | C21: 1 | F21: Bokar, Jason
A22: WLS | B22: Wales | C22: 1 | F22: Lockwood, Austin
A23: NOR | B23: Norway | D23: 1 | F23: Løvås, Roger
A24: BUL | B24: Bulgaria | D24: 1 | F24: Marinov, Petyo
A25: FRA | B25: France | C25: 1 | F25: Ruch, Eric
A26: SUI | B26: Switzerland | D26: 1 | F26: Baumgartner, Ulrich
A27: ISR | B27: Israel | E27: 1 | F27: Dothan, Yoav
A28: BRA | B28: Brazil | D28: 1 | F28: Neves, Bianor de Oliveira
A29: SCO | B29: Scotland | C29: 1 | F29: MacMillen, Andrew N.
A30: ESP | B30: Spain | E30: 1 | F30: de Andrés Senra, Sergio Iván
A31: INA | B31: Indonesia | E31: 1 | F31: Sitorus, Yosua
A32: RSA | B32: South Africa | C32: 1 | F32: Knol, Everdinand
A33: ITA | B33: Italy | E33: 1 | F33: Ruggeri Laderchi, Giorgio
A34: PER | B34: Peru | D34: 1 | F34: Acevedo Villalba, Angel
A35: UKR | B35: Ukraine | E35: 1 | F35: Horodyskyi, Oleh
A36: LUX | B36: Luxembourg | E36: 1 | F36: Klauner, Thed
A37: PAN | B37: Panama | E37: 1 | F37: Rösch M., Hermann V.
A38: AUT | B38: Austria | C38: 1 | F38: Hamarat, Tunc
A39: IRL | B39: Ireland | C39: 1 | F39: Salter, David
A40: MEX | B40: Mexico | C40: 1 | F40: Mercader Martínez, Juan Gustavo
A41: CUB | B41: Cuba | D41: 1 | F41: Menéndez Rodríguez, Giraldo
A42: NED | B42: Netherlands | D42: 1 | F42: Jansen, Joop
A43: BEL | B43: Belgium | E43: 1 | F43: Clement, Paul
A44: EST | B44: Estonia | E44: 1 | F44: Kuusik, Jüri
A45: GER | B45: Germany | E45: 1 | F45: Scheiba, Manfred
A46: SLO | B46: Slovenia | C46: 1 | F46: Šemrl, Marjan
A47: CZE | B47: Czechia | C47: 1 | F47: Mrkvička, Filip
A48: LTU | B48: Lithuania | D48: 1 | F48: Chocenka, Dmitrijus
A49: CHI | B49: Chile | D49: 1 | F49: Toro Solís de Ovando, Guillermo F.
A50: POR | B50: Portugal | D50: 1 | F50: Martins, Sérgio A.
A51: LAT | B51: Latvia | C51: 1 | F51: Gaujens, Artis
A52: GUA | B52: Guatemala | E52: 1 | F52: Blanco Gramajo, César Augusto
A53: ROU | B53: Romania | C53: 1 | F53: Andreica-Navruc, Sebastian
A54: DEN | B54: Denmark | C54: 1 | F54: Ottesen, Søren Rud
A55: ARG | B55: Argentina | E55: 1 | F55: Gonçalves, Claudio Javier
C57: For | D57: Against | E57: Abstain
B58: Total | C58: =SUM(C3:C56) -> 21 | D58: =SUM(D3:D56) -> 17 | E58: =SUM(E3:E56) -> 15

Sheet 2026-042
A1: 2026-042 Develop a New Chess Board for the ICCF Website | B1: 2026-042 Develop a New Chess Board for the ICCF Website | C1: 2026-042 Develop a New Chess Board for the ICCF Website | D1: 2026-042 Develop a New Chess Board for the ICCF Website | E1: 2026-042 Develop a New Chess Board for the ICCF Website | F1: 2026-042 Develop a New Chess Board for the ICCF Website
A2: Code | B2: Member Federation | C2: For | D2: Against | E2: Abstain | F2: Voting Member
A3: PER | B3: Peru | D3: 1 | F3: Acevedo Villalba, Angel
A4: GRE | B4: Greece | C4: 1 | F4: Arbis, Fotis
A5: NCA | B5: Nicaragua | E5: 1 | F5: Bendaña Guerrero, Guy José
A6: CRO | B6: Croatia | C6: 1 | F6: Ivec, Ivan
A7: POR | B7: Portugal | D7: 1 | F7: Martins, Sérgio A.
A8: CAN | B8: Canada | D8: 1 | F8: Demian, Valer-Eugen
A9: NZL | B9: New Zealand | D9: 1 | F9: Freeman, Michael Roy
A10: BUL | B10: Bulgaria | C10: 1 | F10: Marinov, Petyo
A11: CHI | B11: Chile | D11: 1 | F11: Toro Solís de Ovando, Guillermo F.
A12: USA | B12: U.S.A. | C12: 1 | F12: Bokar, Jason
A13: AUS | B13: Australia | C13: 1 | F13: Gray, Garvin
A14: EST | B14: Estonia | E14: 1 | F14: Kuusik, Jüri
A15: ROU | B15: Romania | C15: 1 | F15: Andreica-Navruc, Sebastian
A16: DEN | B16: Denmark | C16: 1 | F16: Ottesen, Søren Rud
A17: HUN | B17: Hungary | C17: 1 | F17: Csiba, Tibor
A18: PHI | B18: Philippines | C18: 1 | F18: Simplina, Arthur
A19: RSA | B19: South Africa | C19: 1 | F19: Knol, Everdinand
A20: POL | B20: Poland | D20: 1 | F20: Wojnar, Mariusz
A21: ESP | B21: Spain | E21: 1 | F21: de Andrés Senra, Sergio Iván
A22: BRA | B22: Brazil | D22: 1 | F22: Neves, Bianor de Oliveira
A23: SCO | B23: Scotland | C23: 1 | F23: MacMillen, Andrew N.
A24: BEL | B24: Belgium | E24: 1 | F24: Clement, Paul
A25: WLS | B25: Wales | C25: 1 | F25: Lockwood, Austin
A26: GUA | B26: Guatemala | E26: 1 | F26: Blanco Gramajo, César Augusto
A27: ARG | B27: Argentina | E27: 1 | F27: Gonçalves, Claudio Javier
A28: FIN | B28: Finland | D28: 1 | F28: Sundqvist, Christer
A29: JPN | B29: Japan | C29: 1 | F29: Hayashi, Koji
A30: ITA | B30: Italy | E30: 1 | F30: Ruggeri Laderchi, Giorgio
A31: AUT | B31: Austria | C31: 1 | F31: Hamarat, Tunc
A32: GER | B32: Germany | E32: 1 | F32: Scheiba, Manfred
A33: INA | B33: Indonesia | E33: 1 | F33: Sitorus, Yosua
A34: ISL | B34: Iceland | D34: 1 | F34: Necchi, Sandro
A35: UKR | B35: Ukraine | E35: 1 | F35: Horodyskyi, Oleh
A36: LAT | B36: Latvia | C36: 1 | F36: Gaujens, Artis
A37: SWE | B37: Sweden | C37: 1 | F37: Söderberg, Per
A38: IRL | B38: Ireland | C38: 1 | F38: Salter, David
A39: NOR | B39: Norway | D39: 1 | F39: Løvås, Roger
A40: CUB | B40: Cuba | D40: 1 | F40: Menéndez Rodríguez, Giraldo
A41: NED | B41: Netherlands | D41: 1 | F41: Jansen, Joop
A42: MEX | B42: Mexico | C42: 1 | F42: Mercader Martínez, Juan Gustavo
A43: PAN | B43: Panama | E43: 1 | F43: Rösch M., Hermann V.
A44: LUX | B44: Luxembourg | E44: 1 | F44: Klauner, Thed
A45: TUR | B45: Türkiye | D45: 1 | F45: Kural, Aziz Serhat
A46: ENG | B46: England | C46: 1 | F46: Beckett, Phillip J.
A47: ISR | B47: Israel | E47: 1 | F47: Dothan, Yoav
A48: FRA | B48: France | C48: 1 | F48: Ruch, Eric
A49: IND | B49: India | D49: 1 | F49: Chatterjee, Ambar
A50: LTU | B50: Lithuania | D50: 1 | F50: Chocenka, Dmitrijus
A51: CZE | B51: Czechia | C51: 1 | F51: Mrkvička, Filip
A52: SUI | B52: Switzerland | D52: 1 | F52: Baumgartner, Ulrich
A53: SLO | B53: Slovenia | C53: 1 | F53: Šemrl, Marjan
A54: ECU | B54: Ecuador | E54: 1 | F54: Bjazevic, Pavao
A55: SVK | B55: Slovakia | D55: 1 | F55: Gaži, Miroslav
C57: For | D57: Against | E57: Abstain
B58: Total | C58: =SUM(C3:C56) -> 22 | D58: =SUM(D3:D56) -> 17 | E58: =SUM(E3:E56) -> 14

Sheet 2026-043
A1: 2026-043 Transformative Financial Stewardship Initiative | B1: 2026-043 Transformative Financial Stewardship Initiative | C1: 2026-043 Transformative Financial Stewardship Initiative | D1: 2026-043 Transformative Financial Stewardship Initiative | E1: 2026-043 Transformative Financial Stewardship Initiative | F1: 2026-043 Transformative Financial Stewardship Initiative
A2: Code | B2: Member Federation | C2: For | D2: Against | E2: Abstain | F2: Voting Member
A3: FIN | B3: Finland | D3: 1 | F3: Sundqvist, Christer
A4: IRL | B4: Ireland | C4: 1 | F4: Salter, David
A5: BEL | B5: Belgium | D5: 1 | F5: Clement, Paul
A6: IND | B6: India | D6: 1 | F6: Chatterjee, Ambar
A7: CAN | B7: Canada | D7: 1 | F7: Demian, Valer-Eugen
A8: CZE | B8: Czechia | D8: 1 | F8: Mrkvička, Filip
A9: NCA | B9: Nicaragua | E9: 1 | F9: Bendaña Guerrero, Guy José
A10: HUN | B10: Hungary | C10: 1 | F10: Csiba, Tibor
A11: INA | B11: Indonesia | E11: 1 | F11: Sitorus, Yosua
A12: ISR | B12: Israel | E12: 1 | F12: Dothan, Yoav
A13: SVK | B13: Slovakia | D13: 1 | F13: Gaži, Miroslav
A14: CUB | B14: Cuba | D14: 1 | F14: Menéndez Rodríguez, Giraldo
A15: EST | B15: Estonia | E15: 1 | F15: Kuusik, Jüri
A16: ISL | B16: Iceland | D16: 1 | F16: Necchi, Sandro
A17: NED | B17: Netherlands | D17: 1 | F17: Jansen, Joop
A18: ESP | B18: Spain | E18: 1 | F18: de Andrés Senra, Sergio Iván
A19: UKR | B19: Ukraine | E19: 1 | F19: Horodyskyi, Oleh
A20: SLO | B20: Slovenia | C20: 1 | F20: Šemrl, Marjan
A21: BUL | B21: Bulgaria | D21: 1 | F21: Marinov, Petyo
A22: SCO | B22: Scotland | D22: 1 | F22: MacMillen, Andrew N.
A23: PAN | B23: Panama | E23: 1 | F23: Rösch M., Hermann V.
A24: ITA | B24: Italy | E24: 1 | F24: Ruggeri Laderchi, Giorgio
A25: DEN | B25: Denmark | E25: 1 | F25: Ottesen, Søren Rud
A26: SUI | B26: Switzerland | D26: 1 | F26: Baumgartner, Ulrich
A27: AUT | B27: Austria | E27: 1 | F27: Hamarat, Tunc
A28: LAT | B28: Latvia | E28: 1 | F28: Gaujens, Artis
A29: CRO | B29: Croatia | D29: 1 | F29: Ivec, Ivan
A30: AUS | B30: Australia | D30: 1 | F30: Gray, Garvin
A31: NZL | B31: New Zealand | D31: 1 | F31: Freeman, Michael Roy
A32: USA | B32: U.S.A. | D32: 1 | F32: Bokar, Jason
A33: RSA | B33: South Africa | C33: 1 | F33: Knol, Everdinand
A34: GUA | B34: Guatemala | E34: 1 | F34: Blanco Gramajo, César Augusto
A35: WLS | B35: Wales | D35: 1 | F35: Lockwood, Austin
A36: LUX | B36: Luxembourg | E36: 1 | F36: Klauner, Thed
A37: CHI | B37: Chile | C37: 1 | F37: Toro Solís de Ovando, Guillermo F.
A38: POR | B38: Portugal | D38: 1 | F38: Martins, Sérgio A.
A39: BRA | B39: Brazil | D39: 1 | F39: Neves, Bianor de Oliveira
A40: LTU | B40: Lithuania | D40: 1 | F40: Chocenka, Dmitrijus
A41: POL | B41: Poland | D41: 1 | F41: Wojnar, Mariusz
A42: PHI | B42: Philippines | C42: 1 | F42: Simplina, Arthur
A43: GER | B43: Germany | D43: 1 | F43: Scheiba, Manfred
A44: ENG | B44: England | D44: 1 | F44: Beckett, Phillip J.
A45: PER | B45: Peru | C45: 1 | F45: Acevedo Villalba, Angel
A46: MEX | B46: Mexico | C46: 1 | F46: Mercader Martínez, Juan Gustavo
A47: NOR | B47: Norway | D47: 1 | F47: Løvås, Roger
A48: FRA | B48: France | E48: 1 | F48: Ruch, Eric
A49: ECU | B49: Ecuador | E49: 1 | F49: Bjazevic, Pavao
A50: GRE | B50: Greece | C50: 1 | F50: Arbis, Fotis
A51: TUR | B51: Türkiye | D51: 1 | F51: Kural, Aziz Serhat
A52: ROU | B52: Romania | D52: 1 | F52: Andreica-Navruc, Sebastian
A53: SWE | B53: Sweden | D53: 1 | F53: Söderberg, Per
A54: ARG | B54: Argentina | E54: 1 | F54: Gonçalves, Claudio Javier
A55: JPN | B55: Japan | C55: 1 | F55: Hayashi, Koji
C57: For | D57: Against | E57: Abstain
B58: Total | C58: =SUM(C3:C56) -> 10 | D58: =SUM(D3:D56) -> 27 | E58: =SUM(E3:E56) -> 16

Sheet 2026-050
A1: 2026-050 Developing and Using a Tournament Organization Committee | B1: 2026-050 Developing and Using a Tournament Organization Committee | C1: 2026-050 Developing and Using a Tournament Organization Committee | D1: 2026-050 Developing and Using a Tournament Organization Committee | E1: 2026-050 Developing and Using a Tournament Organization Committee | F1: 2026-050 Developing and Using a Tournament Organization Committee
A2: Code | B2: Member Federation | C2: For | D2: Against | E2: Abstain | F2: Voting Member
A3: RSA | B3: South Africa | C3: 1 | F3: Knol, Everdinand
A4: LUX | B4: Luxembourg | E4: 1 | F4: Klauner, Thed
A5: NOR | B5: Norway | D5: 1 | F5: Løvås, Roger
A6: HUN | B6: Hungary | D6: 1 | F6: Csiba, Tibor
A7: UKR | B7: Ukraine | D7: 1 | F7: Horodyskyi, Oleh
A8: SUI | B8: Switzerland | D8: 1 | F8: Baumgartner, Ulrich
A9: CRO | B9: Croatia | D9: 1 | F9: Ivec, Ivan
A10: PER | B10: Peru | D10: 1 | F10: Acevedo Villalba, Angel
A11: INA | B11: Indonesia | E11: 1 | F11: Sitorus, Yosua
A12: POR | B12: Portugal | D12: 1 | F12: Martins, Sérgio A.
A13: BRA | B13: Brazil | D13: 1 | F13: Neves, Bianor de Oliveira
A14: ROU | B14: Romania | D14: 1 | F14: Andreica-Navruc, Sebastian
A15: WLS | B15: Wales | C15: 1 | F15: Lockwood, Austin
A16: IRL | B16: Ireland | D16: 1 | F16: Salter, David
A17: USA | B17: U.S.A. | D17: 1 | F17: Bokar, Jason
A18: ITA | B18: Italy | E18: 1 | F18: Ruggeri Laderchi, Giorgio
A19: POL | B19: Poland | D19: 1 | F19: Wojnar, Mariusz
A20: IND | B20: India | C20: 1 | F20: Chatterjee, Ambar
A21: FRA | B21: France | C21: 1 | F21: Ruch, Eric
A22: EST | B22: Estonia | E22: 1 | F22: Kuusik, Jüri
A23: PAN | B23: Panama | E23: 1 | F23: Rösch M., Hermann V.
A24: NZL | B24: New Zealand | D24: 1 | F24: Freeman, Michael Roy
A25: ESP | B25: Spain | E25: 1 | F25: de Andrés Senra, Sergio Iván
A26: BUL | B26: Bulgaria | D26: 1 | F26: Marinov, Petyo
A27: CUB | B27: Cuba | D27: 1 | F27: Menéndez Rodríguez, Giraldo
A28: CHI | B28: Chile | C28: 1 | F28: Toro Solís de Ovando, Guillermo F.
A29: LAT | B29: Latvia | E29: 1 | F29: Gaujens, Artis
A30: NED | B30: Netherlands | D30: 1 | F30: Jansen, Joop
A31: SCO | B31: Scotland | D31: 1 | F31: MacMillen, Andrew N.
A32: CZE | B32: Czechia | D32: 1 | F32: Mrkvička, Filip
A33: GUA | B33: Guatemala | D33: 1 | F33: Blanco Gramajo, César Augusto
A34: CAN | B34: Canada | D34: 1 | F34: Demian, Valer-Eugen
A35: TUR | B35: Türkiye | D35: 1 | F35: Kural, Aziz Serhat
A36: GER | B36: Germany | D36: 1 | F36: Scheiba, Manfred
A37: ARG | B37: Argentina | E37: 1 | F37: Gonçalves, Claudio Javier
A38: NCA | B38: Nicaragua | E38: 1 | F38: Bendaña Guerrero, Guy José
A39: PHI | B39: Philippines | C39: 1 | F39: Simplina, Arthur
A40: LTU | B40: Lithuania | D40: 1 | F40: Chocenka, Dmitrijus
A41: DEN | B41: Denmark | D41: 1 | F41: Ottesen, Søren Rud
A42: MEX | B42: Mexico | C42: 1 | F42: Mercader Martínez, Juan Gustavo
A43: BEL | B43: Belgium | C43: 1 | F43: Clement, Paul
A44: ENG | B44: England | D44: 1 | F44: Beckett, Phillip J.
A45: ECU | B45: Ecuador | E45: 1 | F45: Bjazevic, Pavao
A46: FIN | B46: Finland | D46: 1 | F46: Sundqvist, Christer
A47: JPN | B47: Japan | D47: 1 | F47: Hayashi, Koji
A48: SLO | B48: Slovenia | D48: 1 | F48: Šemrl, Marjan
A49: ISR | B49: Israel | E49: 1 | F49: Dothan, Yoav
A50: AUT | B50: Austria | D50: 1 | F50: Hamarat, Tunc
A51: SVK | B51: Slovakia | D51: 1 | F51: Gaži, Miroslav
A52: GRE | B52: Greece | C52: 1 | F52: Arbis, Fotis
A53: ISL | B53: Iceland | D53: 1 | F53: Necchi, Sandro
A54: AUS | B54: Australia | D54: 1 | F54: Gray, Garvin
A55: SWE | B55: Sweden | D55: 1 | F55: Söderberg, Per
C57: For | D57: Against | E57: Abstain
B58: Total | C58: =SUM(C3:C56) -> 9 | D58: =SUM(D3:D56) -> 33 | E58: =SUM(E3:E56) -> 11

Sheet 2026-051
A1: 2026-051 Delete "typically" from ICCF Rules section 3.17.5 | B1: 2026-051 Delete "typically" from ICCF Rules section 3.17.5 | C1: 2026-051 Delete "typically" from ICCF Rules section 3.17.5 | D1: 2026-051 Delete "typically" from ICCF Rules section 3.17.5 | E1: 2026-051 Delete "typically" from ICCF Rules section 3.17.5 | F1: 2026-051 Delete "typically" from ICCF Rules section 3.17.5
A2: Code | B2: Member Federation | C2: For | D2: Against | E2: Abstain | F2: Voting Member
A3: FIN | B3: Finland | C3: 1 | F3: Sundqvist, Christer
A4: AUS | B4: Australia | C4: 1 | F4: Gray, Garvin
A5: CHI | B5: Chile | C5: 1 | F5: Toro Solís de Ovando, Guillermo F.
A6: CRO | B6: Croatia | C6: 1 | F6: Ivec, Ivan
A7: GUA | B7: Guatemala | C7: 1 | F7: Blanco Gramajo, César Augusto
A8: BUL | B8: Bulgaria | C8: 1 | F8: Marinov, Petyo
A9: IRL | B9: Ireland | C9: 1 | F9: Salter, David
A10: AUT | B10: Austria | C10: 1 | F10: Hamarat, Tunc
A11: IND | B11: India | C11: 1 | F11: Chatterjee, Ambar
A12: BEL | B12: Belgium | C12: 1 | F12: Clement, Paul
A13: MEX | B13: Mexico | C13: 1 | F13: Mercader Martínez, Juan Gustavo
A14: SCO | B14: Scotland | C14: 1 | F14: MacMillen, Andrew N.
... A17: ENG | B17: England | C17: 1 | F17: Beckett, Phillip J.
A18: NCA | B18: Nicaragua | E18: 1 | F18: Bendaña Guerrero, Guy José
A19: CAN | B19: Canada | C19: 1 | F19: Demian, Valer-Eugen
A20: POL | B20: Poland | C20: 1 | F20: Wojnar, Mariusz
A21: USA | B21: U.S.A. | C21: 1 | F21: Bokar, Jason
A22: GRE | B22: Greece | C22: 1 | F22: Arbis, Fotis
A23: WLS | B23: Wales | C23: 1 | F23: Lockwood, Austin
A24: RSA | B24: South Africa | C24: 1 | F24: Knol, Everdinand
A25: PER | B25: Peru | C25: 1 | F25: Acevedo Villalba, Angel
A26: FRA | B26: France | C26: 1 | F26: Ruch, Eric
A27: CZE | B27: Czechia | C27: 1 | F27: Mrkvička, Filip
A28: SVK | B28: Slovakia | C28: 1 | F28: Gaži, Miroslav
A29: TUR | B29: Türkiye | C29: 1 | F29: Kural, Aziz Serhat
A30: NOR | B30: Norway | C30: 1 | F30: Løvås, Roger
... A32: LAT | B32: Latvia | C32: 1 | F32: Gaujens, Artis
A33: EST | B33: Estonia | E33: 1 | F33: Kuusik, Jüri
A34: HUN | B34: Hungary | C34: 1 | F34: Csiba, Tibor
A35: ITA | B35: Italy | E35: 1 | F35: Ruggeri Laderchi, Giorgio
A36: DEN | B36: Denmark | C36: 1 | F36: Ottesen, Søren Rud
A37: SWE | B37: Sweden | C37: 1 | F37: Söderberg, Per
A38: ESP | B38: Spain | E38: 1 | F38: de Andrés Senra, Sergio Iván
A39: UKR | B39: Ukraine | C39: 1 | F39: Horodyskyi, Oleh
A40: LTU | B40: Lithuania | C40: 1 | F40: Chocenka, Dmitrijus
A41: INA | B41: Indonesia | E41: 1 | F41: Sitorus, Yosua
A42: NED | B42: Netherlands | C42: 1 | F42: Jansen, Joop
A43: GER | B43: Germany | C43: 1 | F43: Scheiba, Manfred
A44: ISR | B44: Israel | E44: 1 | F44: Dothan, Yoav
A45: POR | B45: Portugal | C45: 1 | F45: Martins, Sérgio A.
A46: LUX | B46: Luxembourg | E46: 1 | F46: Klauner, Thed
A47: PAN | B47: Panama | E47: 1 | F47: Rösch M., Hermann V.
A48: ROU | B48: Romania | C48: 1 | F48: Andreica-Navruc, Sebastian
A49: ARG | B49: Argentina | E49: 1 | F49: Gonçalves, Claudio Javier
A50: BRA | B50: Brazil | C50: 1 | F50: Neves, Bianor de Oliveira
A51: ECU | B51: Ecuador | E51: 1 | F51: Bjazevic, Pavao
A52: SLO | B52: Slovenia | C52: 1 | F52: Šemrl, Marjan
A53: NZL | B53: New Zealand | C53: 1 | F53: Freeman, Michael Roy
A54: PHI | B54: Philippines | C54: 1 | F54: Simplina, Arthur
A55: CUB | B55: Cuba | C55: 1 | F55: Menéndez Rodríguez, Giraldo
C57: For | D57: Against | E57: Abstain
B58: Total | C58: =SUM(C3:C56) -> 43 | D58: =SUM(D3:D56) -> 0 | E58: =SUM(E3:E56) -> 10

Sheet 2026-052
A1: 2026-052 Duration of Registration Periods for Tournaments Using Direct Entry | B1: 2026-052 Duration of Registration Periods for Tournaments Using Direct Entry | C1: 2026-052 Duration of Registration Periods for Tournaments Using Direct Entry | D1: 2026-052 Duration of Registration Periods for Tournaments Using Direct Entry | E1: 2026-052 Duration of Registration Periods for Tournaments Using Direct Entry | F1: 2026-052 Duration of Registration Periods for Tournaments Using Direct Entry
A2: Code | B2: Member Federation | C2: For | D2: Against | E2: Abstain | F2: Voting Member
A3: ECU | B3: Ecuador | E3: 1 | F3: Bjazevic, Pavao
A4: GER | B4: Germany | E4: 1 | F4: Scheiba, Manfred
A5: FRA | B5: France | C5: 1 | F5: Ruch, Eric
A6: CAN | B6: Canada | C6: 1 | F6: Demian, Valer-Eugen
A7: FIN | B7: Finland | C7: 1 | F7: Sundqvist, Christer
A8: AUS | B8: Australia | C8: 1 | F8: Gray, Garvin
A9: TUR | B9: Türkiye | C9: 1 | F9: Kural, Aziz Serhat
A10: ITA | B10: Italy | E10: 1 | F10: Ruggeri Laderchi, Giorgio
A11: NED | B11: Netherlands | D11: 1 | F11: Jansen, Joop
A12: LUX | B12: Luxembourg | E12: 1 | F12: Klauner, Thed
A13: LTU | B13: Lithuania | D13: 1 | F13: Chocenka, Dmitrijus
A14: BEL | B14: Belgium | C14: 1 | F14: Clement, Paul
A15: HUN | B15: Hungary | C15: 1 | F15: Csiba, Tibor
A16: CRO | B16: Croatia | C16: 1 | F16: Ivec, Ivan
A17: WLS | B17: Wales | C17: 1 | F17: Lockwood, Austin
A18: LAT | B18: Latvia | C18: 1 | F18: Gaujens, Artis
A19: MEX | B19: Mexico | C19: 1 | F19: Mercader Martínez, Juan Gustavo
A20: ISR | B20: Israel | E20: 1 | F20: Dothan, Yoav
A21: NCA | B21: Nicaragua | E21: 1 | F21: Bendaña Guerrero, Guy José
A22: GUA | B22: Guatemala | C22: 1 | F22: Blanco Gramajo, César Augusto
A23: RSA | B23: South Africa | C23: 1 | F23: Knol, Everdinand
A24: ISL | B24: Iceland | D24: 1 | F24: Necchi, Sandro
A25: SUI | B25: Switzerland | D25: 1 | F25: Baumgartner, Ulrich
A26: NOR | B26: Norway | C26: 1 | F26: Løvås, Roger
A27: NZL | B27: New Zealand | C27: 1 | F27: Freeman, Michael Roy
A28: SWE | B28: Sweden | D28: 1 | F28: Söderberg, Per
A29: CHI | B29: Chile | C29: 1 | F29: Toro Solís de Ovando, Guillermo F.
A30: IND | B30: India | C30: 1 | F30: Chatterjee, Ambar
A31: UKR | B31: Ukraine | C31: 1 | F31: Horodyskyi, Oleh
A32: ROU | B32: Romania | C32: 1 | F32: Andreica-Navruc, Sebastian
A33: PER | B33: Peru | C33: 1 | F33: Acevedo Villalba, Angel
A34: BUL | B34: Bulgaria | C34: 1 | F34: Marinov, Petyo
A35: CZE | B35: Czechia | C35: 1 | F35: Mrkvička, Filip
A36: IRL | B36: Ireland | C36: 1 | F36: Salter, David
A37: SCO | B37: Scotland | C37: 1 | F37: MacMillen, Andrew N.
A38: BRA | B38: Brazil | C38: 1 | F38: Neves, Bianor de Oliveira
A39: JPN | B39: Japan | D39: 1 | F39: Hayashi, Koji
A40: CUB | B40: Cuba | C40: 1 | F40: Menéndez Rodríguez, Giraldo
A41: GRE | B41: Greece | C41: 1 | F41: Arbis, Fotis
A42: POL | B42: Poland | C42: 1 | F42: Wojnar, Mariusz
A43: INA | B43: Indonesia | E43: 1 | F43: Sitorus, Yosua
A44: ESP | B44: Spain | E44: 1 | F44: de Andrés Senra, Sergio Iván
A45: ARG | B45: Argentina | E45: 1 | F45: Gonçalves, Claudio Javier
A46: USA | B46: U.S.A. | C46: 1 | F46: Bokar, Jason
A47: ENG | B47: England | C47: 1 | F47: Beckett, Phillip J.
A48: PAN | B48: Panama | E48: 1 | F48: Rösch M., Hermann V.
A49: DEN | B49: Denmark | C49: 1 | F49: Ottesen, Søren Rud
A50: PHI | B50: Philippines | C50: 1 | F50: Simplina, Arthur
A51: POR | B51: Portugal | D51: 1 | F51: Martins, Sérgio A.
A52: EST | B52: Estonia | E52: 1 | F52: Kuusik, Jüri
A53: SLO | B53: Slovenia | D53: 1 | F53: Šemrl, Marjan
A54: SVK | B54: Slovakia | C54: 1 | F54: Gaži, Miroslav
A55: AUT | B55: Austria | D55: 1 | F55: Hamarat, Tunc
C57: For | D57: Against | E57: Abstain
B58: Total | C58: =SUM(C3:C56) -> 33 | D58: =SUM(D3:D56) -> 9 | E58: =SUM(E3:E56) -> 11

Sheet 2026-053
A1: 2026-053 Remove Inconsistency in Ratings Procedure | B1: 2026-053 Remove Inconsistency in Ratings Procedure | C1: 2026-053 Remove Inconsistency in Ratings Procedure | D1: 2026-053 Remove Inconsistency in Ratings Procedure | E1: 2026-053 Remove Inconsistency in Ratings Procedure | F1: 2026-053 Remove Inconsistency in Ratings Procedure
A2: Code | B2: Member Federation | C2: For | D2: Against | E2: Abstain | F2: Voting Member
A3: GUA | B3: Guatemala | C3: 1 | F3: Blanco Gramajo, César Augusto
A4: GRE | B4: Greece | C4: 1 | F4: Arbis, Fotis
A5: CUB | B5: Cuba | C5: 1 | F5: Menéndez Rodríguez, Giraldo
A6: SVK | B6: Slovakia | C6: 1 | F6: Gaži, Miroslav
A7: MEX | B7: Mexico | C7: 1 | F7: Mercader Martínez, Juan Gustavo
A8: HUN | B8: Hungary | C8: 1 | F8: Csiba, Tibor
A9: CHI | B9: Chile | C9: 1 | F9: Toro Solís de Ovando, Guillermo F.
A10: CZE | B10: Czechia | C10: 1 | F10: Mrkvička, Filip
A11: NED | B11: Netherlands | C11: 1 | F11: Jansen, Joop
A12: INA | B12: Indonesia | E12: 1 | F12: Sitorus, Yosua
A13: LTU | B13: Lithuania | C13: 1 | F13: Chocenka, Dmitrijus
A14: IND | B14: India | C14: 1 | F14: Chatterjee, Ambar
A15: BEL | B15: Belgium | C15: 1 | F15: Clement, Paul
A16: BRA | B16: Brazil | C16: 1 | F16: Neves, Bianor de Oliveira
A17: SWE | B17: Sweden | C17: 1 | F17: Söderberg, Per
A18: ROU | B18: Romania | C18: 1 | F18: Andreica-Navruc, Sebastian
A19: NZL | B19: New Zealand | C19: 1 | F19: Freeman, Michael Roy
A20: GER | B20: Germany | C20: 1 | F20: Scheiba, Manfred
A21: TUR | B21: Türkiye | D21: 1 | F21: Kural, Aziz Serhat
A22: FIN | B22: Finland | C22: 1 | F22: Sundqvist, Christer
A23: ECU | B23: Ecuador | E23: 1 | F23: Bjazevic, Pavao
A24: PER | B24: Peru | C24: 1 | F24: Acevedo Villalba, Angel
A25: ITA | B25: Italy | E25: 1 | F25: Ruggeri Laderchi, Giorgio
A26: UKR | B26: Ukraine | C26: 1 | F26: Horodyskyi, Oleh
A27: CRO | B27: Croatia | D27: 1 | F27: Ivec, Ivan
A28: AUT | B28: Austria | D28: 1 | F28: Hamarat, Tunc
A29: POL | B29: Poland | C29: 1 | F29: Wojnar, Mariusz
A30: ENG | B30: England | C30: 1 | F30: Beckett, Phillip J.
A31: IRL | B31: Ireland | C31: 1 | F31: Salter, David
A32: CAN | B32: Canada | C32: 1 | F32: Demian, Valer-Eugen
A33: RSA | B33: South Africa | C33: 1 | F33: Knol, Everdinand
A34: NOR | B34: Norway | C34: 1 | F34: Løvås, Roger
A35: ISL | B35: Iceland | D35: 1 | F35: Necchi, Sandro
A36: AUS | B36: Australia | C36: 1 | F36: Gray, Garvin
A37: DEN | B37: Denmark | C37: 1 | F37: Ottesen, Søren Rud
A38: LUX | B38: Luxembourg | E38: 1 | F38: Klauner, Thed
A39: ESP | B39: Spain | E39: 1 | F39: de Andrés Senra, Sergio Iván
A40: SCO | B40: Scotland | C40: 1 | F40: MacMillen, Andrew N.
A41: USA | B41: U.S.A. | C41: 1 | F41: Bokar, Jason
A42: EST | B42: Estonia | E42: 1 | F42: Kuusik, Jüri
A43: FRA | B43: France | C43: 1 | F43: Ruch, Eric
A44: JPN | B44: Japan | C44: 1 | F44: Hayashi, Koji
A45: POR | B45: Portugal | E45: 1 | F45: Martins, Sérgio A.
A46: BUL | B46: Bulgaria | E46: 1 | F46: Marinov, Petyo
A47: ARG | B47: Argentina | E47: 1 | F47: Gonçalves, Claudio Javier
A48: ISR | B48: Israel | E48: 1 | F48: Dothan, Yoav
A49: PAN | B49: Panama | E49: 1 | F49: Rösch M., Hermann V.
A50: WLS | B50: Wales | C50: 1 | F50: Lockwood, Austin
A51: LAT | B51: Latvia | C51: 1 | F51: Gaujens, Artis
A52: NCA | B52: Nicaragua | E52: 1 | F52: Bendaña Guerrero, Guy José
A53: SUI | B53: Switzerland | C53: 1 | F53: Baumgartner, Ulrich
A54: SLO | B54: Slovenia | C54: 1 | F54: Šemrl, Marjan
A55: PHI | B55: Philippines | C55: 1 | F55: Simplina, Arthur
C57: For | D57: Against | E57: Abstain
B58: Total | C58: =SUM(C3:C56) -> 37 | D58: =SUM(D3:D56) -> 4 | E58: =SUM(E3:E56) -> 12

Sheet 2026-054
A1: 2026-054 Committee to Investigate/Report on Viability for Running Engine Detection Software | B1: 2026-054 Committee to Investigate/Report on Viability for Running Engine Detection Software | C1: 2026-054 Committee to Investigate/Report on Viability for Running Engine Detection Software | D1: 2026-054 Committee to Investigate/Report on Viability for Running Engine Detection Software | E1: 2026-054 Committee to Investigate/Report on Viability for Running Engine Detection Software | F1: 2026-054 Committee to Investigate/Report on Viability for Running Engine Detection Software
A2: Code | B2: Member Federation | C2: For | D2: Against | E2: Abstain | F2: Voting Member
A3: POR | B3: Portugal | D3: 1 | F3: Martins, Sérgio A.
A4: TUR | B4: Türkiye | D4: 1 | F4: Kural, Aziz Serhat
A5: JPN | B5: Japan | C5: 1 | F5: Hayashi, Koji
A6: ARG | B6: Argentina | E6: 1 | F6: Gonçalves, Claudio Javier
A7: GRE | B7: Greece | D7: 1 | F7: Arbis, Fotis
A8: AUT | B8: Austria | D8: 1 | F8: Hamarat, Tunc
A9: NCA | B9: Nicaragua | E9: 1 | F9: Bendaña Guerrero, Guy José
A10: LAT | B10: Latvia | C10: 1 | F10: Gaujens, Artis
A11: CHI | B11: Chile | C11: 1 | F11: Toro Solís de Ovando, Guillermo F.
A12: PAN | B12: Panama | E12: 1 | F12: Rösch M., Hermann V.
A13: MEX | B13: Mexico | D13: 1 | F13: Mercader Martínez, Juan Gustavo
A14: IND | B14: India | C14: 1 | F14: Chatterjee, Ambar
A15: SUI | B15: Switzerland | D15: 1 | F15: Baumgartner, Ulrich
A16: IRL | B16: Ireland | C16: 1 | F16: Salter, David
A17: BRA | B17: Brazil | D17: 1 | F17: Neves, Bianor de Oliveira
A18: NED | B18: Netherlands | D18: 1 | F18: Jansen, Joop
A19: GER | B19: Germany | E19: 1 | F19: Scheiba, Manfred
A20: HUN | B20: Hungary | D20: 1 | F20: Csiba, Tibor
A21: AUS | B21: Australia | D21: 1 | F21: Gray, Garvin
A22: CRO | B22: Croatia | D22: 1 | F22: Ivec, Ivan
A23: ECU | B23: Ecuador | E23: 1 | F23: Bjazevic, Pavao
A24: DEN | B24: Denmark | C24: 1 | F24: Ottesen, Søren Rud
A25: ISL | B25: Iceland | D25: 1 | F25: Necchi, Sandro
A26: BEL | B26: Belgium | D26: 1 | F26: Clement, Paul
A27: NOR | B27: Norway | D27: 1 | F27: Løvås, Roger
A28: SVK | B28: Slovakia | D28: 1 | F28: Gaži, Miroslav
A29: CAN | B29: Canada | D29: 1 | F29: Demian, Valer-Eugen
A30: CZE | B30: Czechia | D30: 1 | F30: Mrkvička, Filip
A31: SLO | B31: Slovenia | D31: 1 | F31: Šemrl, Marjan
A32: ISR | B32: Israel | E32: 1 | F32: Dothan, Yoav
A33: LUX | B33: Luxembourg | E33: 1 | F33: Klauner, Thed
A34: SWE | B34: Sweden | D34: 1 | F34: Söderberg, Per
A35: POL | B35: Poland | D35: 1 | F35: Wojnar, Mariusz
A36: USA | B36: U.S.A. | C36: 1 | F36: Bokar, Jason
A37: BUL | B37: Bulgaria | E37: 1 | F37: Marinov, Petyo
A38: NZL | B38: New Zealand | C38: 1 | F38: Freeman, Michael Roy
A39: WLS | B39: Wales | C39: 1 | F39: Lockwood, Austin
A40: ENG | B40: England | C40: 1 | F40: Beckett, Phillip J.
A41: GUA | B41: Guatemala | D41: 1 | F41: Blanco Gramajo, César Augusto
A42: ESP | B42: Spain | E42: 1 | F42: de Andrés Senra, Sergio Iván
A43: UKR | B43: Ukraine | D43: 1 | F43: Horodyskyi, Oleh
A44: SCO | B44: Scotland | C44: 1 | F44: MacMillen, Andrew N.
A45: LTU | B45: Lithuania | D45: 1 | F45: Chocenka, Dmitrijus
A46: RSA | B46: South Africa | D46: 1 | F46: Knol, Everdinand
A47: PER | B47: Peru | D47: 1 | F47: Acevedo Villalba, Angel
A48: FIN | B48: Finland | D48: 1 | F48: Sundqvist, Christer
A49: EST | B49: Estonia | E49: 1 | F49: Kuusik, Jüri
A50: CUB | B50: Cuba | D50: 1 | F50: Menéndez Rodríguez, Giraldo
A51: ROU | B51: Romania | D51: 1 | F51: Andreica-Navruc, Sebastian
A52: FRA | B52: France | C52: 1 | F52: Ruch, Eric
A53: PHI | B53: Philippines | C53: 1 | F53: Simplina, Arthur
A54: ITA | B54: Italy | E54: 1 | F54: Ruggeri Laderchi, Giorgio
A55: INA | B55: Indonesia | E55: 1 | F55: Sitorus, Yosua
C57: For | D57: Against | E57: Abstain
B58: Total | C58: =SUM(C3:C56) -> 13 | D58: =SUM(D3:D56) -> 28 | E58: =SUM(E3:E56) -> 12

Sheet 2026-055
A1: 2026-055 New Commissioner Position [Conflicts with 2026-058] | B1: 2026-055 New Commissioner Position [Conflicts with 2026-058] | C1: 2026-055 New Commissioner Position [Conflicts with 2026-058] | D1: 2026-055 New Commissioner Position [Conflicts with 2026-058] | E1: 2026-055 New Commissioner Position [Conflicts with 2026-058] | F1: 2026-055 New Commissioner Position [Conflicts with 2026-058]
A2: Code | B2: Member Federation | C2: For | D2: Against | E2: Abstain | F2: Voting Member
A3: LTU | B3: Lithuania | D3: 1 | F3: Chocenka, Dmitrijus
A4: BUL | B4: Bulgaria | D4: 1 | F4: Marinov, Petyo
A5: EST | B5: Estonia | E5: 1 | F5: Kuusik, Jüri
A6: WLS | B6: Wales | C6: 1 | F6: Lockwood, Austin
A7: AUS | B7: Australia | D7: 1 | F7: Gray, Garvin
A8: HUN | B8: Hungary | E8: 1 | F8: Csiba, Tibor
A9: MEX | B9: Mexico | C9: 1 | F9: Mercader Martínez, Juan Gustavo
A10: UKR | B10: Ukraine | D10: 1 | F10: Horodyskyi, Oleh
A11: RSA | B11: South Africa | C11: 1 | F11: Knol, Everdinand
A12: CZE | B12: Czechia | D12: 1 | F12: Mrkvička, Filip
A13: FIN | B13: Finland | C13: 1 | F13: Sundqvist, Christer
A14: ROU | B14: Romania | D14: 1 | F14: Andreica-Navruc, Sebastian
A15: IND | B15: India | C15: 1 | F15: Chatterjee, Ambar
A16: LAT | B16: Latvia | D16: 1 | F16: Gaujens, Artis
A17: ITA | B17: Italy | E17: 1 | F17: Ruggeri Laderchi, Giorgio
A18: GUA | B18: Guatemala | D18: 1 | F18: Blanco Gramajo, César Augusto
A19: GER | B19: Germany | D19: 1 | F19: Scheiba, Manfred
A20: ECU | B20: Ecuador | E20: 1 | F20: Bjazevic, Pavao
A21: CHI | B21: Chile | C21: 1 | F21: Toro Solís de Ovando, Guillermo F.
A22: ISR | B22: Israel | E22: 1 | F22: Dothan, Yoav
A23: POR | B23: Portugal | D23: 1 | F23: Martins, Sérgio A.
A24: LUX | B24: Luxembourg | E24: 1 | F24: Klauner, Thed
A25: PAN | B25: Panama | E25: 1 | F25: Rösch M., Hermann V.
A26: CUB | B26: Cuba | D26: 1 | F26: Menéndez Rodríguez, Giraldo
A27: ESP | B27: Spain | E27: 1 | F27: de Andrés Senra, Sergio Iván
A28: NOR | B28: Norway | D28: 1 | F28: Løvås, Roger
A29: BRA | B29: Brazil | D29: 1 | F29: Neves, Bianor de Oliveira
A30: SWE | B30: Sweden | D30: 1 | F30: Söderberg, Per
A31: NZL | B31: New Zealand | C31: 1 | F31: Freeman, Michael Roy
A32: BEL | B32: Belgium | E32: 1 | F32: Clement, Paul
A33: SCO | B33: Scotland | D33: 1 | F33: MacMillen, Andrew N.
A34: DEN | B34: Denmark | D34: 1 | F34: Ottesen, Søren Rud
A35: FRA | B35: France | D35: 1 | F35: Ruch, Eric
A36: USA | B36: U.S.A. | D36: 1 | F36: Bokar, Jason
A37: JPN | B37: Japan | D37: 1 | F37: Hayashi, Koji
A38: ENG | B38: England | D38: 1 | F38: Beckett, Phillip J.
A39: AUT | B39: Austria | D39: 1 | F39: Hamarat, Tunc
A40: PHI | B40: Philippines | D40: 1 | F40: Simplina, Arthur
A41: SUI | B41: Switzerland | D41: 1 | F41: Baumgartner, Ulrich
A42: ISL | B42: Iceland | C42: 1 | F42: Necchi, Sandro
A43: NCA | B43: Nicaragua | E43: 1 | F43: Bendaña Guerrero, Guy José
A44: NED | B44: Netherlands | D44: 1 | F44: Jansen, Joop
A45: ARG | B45: Argentina | E45: 1 | F45: Gonçalves, Claudio Javier
A46: INA | B46: Indonesia | E46: 1 | F46: Sitorus, Yosua
A47: TUR | B47: Türkiye | D47: 1 | F47: Kural, Aziz Serhat
A48: CAN | B48: Canada | D48: 1 | F48: Demian, Valer-Eugen
A49: SVK | B49: Slovakia | C49: 1 | F49: Gaži, Miroslav
A50: POL | B50: Poland | D50: 1 | F50: Wojnar, Mariusz
A51: IRL | B51: Ireland | C51: 1 | F51: Salter, David
A52: GRE | B52: Greece | C52: 1 | F52: Arbis, Fotis
A53: SLO | B53: Slovenia | D53: 1 | F53: Šemrl, Marjan
A54: PER | B54: Peru | E54: 1 | F54: Acevedo Villalba, Angel
A55: CRO | B55: Croatia | D55: 1 | F55: Ivec, Ivan
B57: Total | C57: =SUM(C3:C56) -> 11 | D57: =SUM(D3:D56) -> 29 | E57: =SUM(E3:E56) -> 13

Sheet 2026-056
A1: 2026-056 Counting ETL Wins as Half-Points Specifically When It Comes to Earning Title Norms | B1: 2026-056 Counting ETL Wins as Half-Points Specifically When It Comes to Earning Title Norms | C1: 2026-056 Counting ETL Wins as Half-Points Specifically When It Comes to Earning Title Norms | D1: 2026-056 Counting ETL Wins as Half-Points Specifically When It Comes to Earning Title Norms | E1: 2026-056 Counting ETL Wins as Half-Points Specifically When It Comes to Earning Title Norms | F1: 2026-056 Counting ETL Wins as Half-Points Specifically When It Comes to Earning Title Norms
A2: Code | B2: Member Federation | C2: For | D2: Against | E2: Abstain | F2: Voting Member
A3: UKR | B3: Ukraine | D3: 1 | F3: Horodyskyi, Oleh
A4: SLO | B4: Slovenia | D4: 1 | F4: Šemrl, Marjan
A5: POL | B5: Poland | D5: 1 | F5: Wojnar, Mariusz
A6: EST | B6: Estonia | E6: 1 | F6: Kuusik, Jüri
A7: ISL | B7: Iceland | D7: 1 | F7: Necchi, Sandro
A8: WLS | B8: Wales | C8: 1 | F8: Lockwood, Austin
A9: NCA | B9: Nicaragua | E9: 1 | F9: Bendaña Guerrero, Guy José
A10: NED | B10: Netherlands | D10: 1 | F10: Jansen, Joop
A11: HUN | B11: Hungary | D11: 1 | F11: Csiba, Tibor
A12: ESP | B12: Spain | E12: 1 | F12: de Andrés Senra, Sergio Iván
A13: SWE | B13: Sweden | D13: 1 | F13: Söderberg, Per
A14: IND | B14: India | D14: 1 | F14: Chatterjee, Ambar
A15: INA | B15: Indonesia | E15: 1 | F15: Sitorus, Yosua
A16: SVK | B16: Slovakia | D16: 1 | F16: Gaži, Miroslav
A17: ARG | B17: Argentina | E17: 1 | F17: Gonçalves, Claudio Javier
A18: JPN | B18: Japan | D18: 1 | F18: Hayashi, Koji
A19: SCO | B19: Scotland | D19: 1 | F19: MacMillen, Andrew N.
A20: MEX | B20: Mexico | D20: 1 | F20: Mercader Martínez, Juan Gustavo
A21: NZL | B21: New Zealand | D21: 1 | F21: Freeman, Michael Roy
A22: CHI | B22: Chile | C22: 1 | F22: Toro Solís de Ovando, Guillermo F.
A23: ISR | B23: Israel | E23: 1 | F23: Dothan, Yoav
A24: RSA | B24: South Africa | D24: 1 | F24: Knol, Everdinand
A25: BEL | B25: Belgium | E25: 1 | F25: Clement, Paul
A26: AUS | B26: Australia | D26: 1 | F26: Gray, Garvin
A27: CAN | B27: Canada | D27: 1 | F27: Demian, Valer-Eugen
A28: TUR | B28: Türkiye | D28: 1 | F28: Kural, Aziz Serhat
A29: FIN | B29: Finland | C29: 1 | F29: Sundqvist, Christer
A30: NOR | B30: Norway | C30: 1 | F30: Løvås, Roger
A31: CZE | B31: Czechia | D31: 1 | F31: Mrkvička, Filip
A32: POR | B32: Portugal | D32: 1 | F32: Martins, Sérgio A.
A33: DEN | B33: Denmark | C33: 1 | F33: Ottesen, Søren Rud
A34: PER | B34: Peru | C34: 1 | F34: Acevedo Villalba, Angel
A35: CRO | B35: Croatia | D35: 1 | F35: Ivec, Ivan
A36: FRA | B36: France | D36: 1 | F36: Ruch, Eric
A37: SUI | B37: Switzerland | D37: 1 | F37: Baumgartner, Ulrich
A38: GRE | B38: Greece | C38: 1 | F38: Arbis, Fotis
A39: ECU | B39: Ecuador | E39: 1 | F39: Bjazevic, Pavao
A40: LAT | B40: Latvia | C40: 1 | F40: Gaujens, Artis
A41: IRL | B41: Ireland | C41: 1 | F41: Salter, David
A42: PHI | B42: Philippines | C42: 1 | F42: Simplina, Arthur
A43: LUX | B43: Luxembourg | E43: 1 | F43: Klauner, Thed
A44: ITA | B44: Italy | E44: 1 | F44: Ruggeri Laderchi, Giorgio
A45: BRA | B45: Brazil | D45: 1 | F45: Neves, Bianor de Oliveira
A46: CUB | B46: Cuba | D46: 1 | F46: Menéndez Rodríguez, Giraldo
A47: AUT | B47: Austria | D47: 1 | F47: Hamarat, Tunc
A48: BUL | B48: Bulgaria | C48: 1 | F48: Marinov, Petyo
A49: LTU | B49: Lithuania | D49: 1 | F49: Chocenka, Dmitrijus
A50: GUA | B50: Guatemala | D50: 1 | F50: Blanco Gramajo, César Augusto
A51: ROU | B51: Romania | D51: 1 | F51: Andreica-Navruc, Sebastian
A52: GER | B52: Germany | C52: 1 | F52: Scheiba, Manfred
A53: ENG | B53: England | D53: 1 | F53: Beckett, Phillip J.
A54: USA | B54: U.S.A. | D54: 1 | F54: Bokar, Jason
A55: PAN | B55: Panama | E55: 1 | F55: Rösch M., Hermann V.
C57: For | D57: Against | E57: Abstain
B58: Total | C58: =SUM(C3:C56) -> 12 | D58: =SUM(D3:D56) -> 30 | E58: =SUM(E3:E56) -> 11

Sheet 2026-057
A1: 2026-057 Create Open Events That Are Unrated and Bar the Use of Chess Engines | B1: 2026-057 Create Open Events That Are Unrated and Bar the Use of Chess Engines | C1: 2026-057 Create Open Events That Are Unrated and Bar the Use of Chess Engines | D1: 2026-057 Create Open Events That Are Unrated and Bar the Use of Chess Engines | E1: 2026-057 Create Open Events That Are Unrated and Bar the Use of Chess Engines | F1: 2026-057 Create Open Events That Are Unrated and Bar the Use of Chess Engines
A2: Code | B2: Member Federation | C2: For | D2: Against | E2: Abstain | F2: Voting Member
A3: GER | B3: Germany | E3: 1 | F3: Scheiba, Manfred
A4: BRA | B4: Brazil | D4: 1 | F4: Neves, Bianor de Oliveira
A5: WLS | B5: Wales | D5: 1 | F5: Lockwood, Austin
A6: PER | B6: Peru | D6: 1 | F6: Acevedo Villalba, Angel
A7: SLO | B7: Slovenia | C7: 1 | F7: Šemrl, Marjan
A8: INA | B8: Indonesia | E8: 1 | F8: Sitorus, Yosua
A9: BEL | B9: Belgium | D9: 1 | F9: Clement, Paul
A10: SCO | B10: Scotland | D10: 1 | F10: MacMillen, Andrew N.
A11: FRA | B11: France | C11: 1 | F11: Ruch, Eric
A12: SVK | B12: Slovakia | D12: 1 | F12: Gaži, Miroslav
A13: SWE | B13: Sweden | C13: 1 | F13: Söderberg, Per
A14: RSA | B14: South Africa | D14: 1 | F14: Knol, Everdinand
A15: CRO | B15: Croatia | D15: 1 | F15: Ivec, Ivan
A16: GUA | B16: Guatemala | D16: 1 | F16: Blanco Gramajo, César Augusto
A17: HUN | B17: Hungary | C17: 1 | F17: Csiba, Tibor
A18: PAN | B18: Panama | E18: 1 | F18: Rösch M., Hermann V.
A19: AUT | B19: Austria | D19: 1 | F19: Hamarat, Tunc
A20: PHI | B20: Philippines | C20: 1 | F20: Simplina, Arthur
A21: ARG | B21: Argentina | E21: 1 | F21: Gonçalves, Claudio Javier
A22: POR | B22: Portugal | D22: 1 | F22: Martins, Sérgio A.
A23: FIN | B23: Finland | D23: 1 | F23: Sundqvist, Christer
A24: CZE | B24: Czechia | C24: 1 | F24: Mrkvička, Filip
A25: UKR | B25: Ukraine | D25: 1 | F25: Horodyskyi, Oleh
A26: BUL | B26: Bulgaria | C26: 1 | F26: Marinov, Petyo
A27: NOR | B27: Norway | C27: 1 | F27: Løvås, Roger
A28: ECU | B28: Ecuador | E28: 1 | F28: Bjazevic, Pavao
A29: ESP | B29: Spain | E29: 1 | F29: de Andrés Senra, Sergio Iván
A30: TUR | B30: Türkiye | D30: 1 | F30: Kural, Aziz Serhat
A31: JPN | B31: Japan | C31: 1 | F31: Hayashi, Koji
A32: MEX | B32: Mexico | C32: 1 | F32: Mercader Martínez, Juan Gustavo
A33: CAN | B33: Canada | D33: 1 | F33: Demian, Valer-Eugen
A34: CUB | B34: Cuba | D34: 1 | F34: Menéndez Rodríguez, Giraldo
A35: DEN | B35: Denmark | D35: 1 | F35: Ottesen, Søren Rud
A36: LUX | B36: Luxembourg | E36: 1 | F36: Klauner, Thed
A37: NZL | B37: New Zealand | C37: 1 | F37: Freeman, Michael Roy
A38: ENG | B38: England | C38: 1 | F38: Beckett, Phillip J.
A39: NCA | B39: Nicaragua | E39: 1 | F39: Bendaña Guerrero, Guy José
A40: AUS | B40: Australia | D40: 1 | F40: Gray, Garvin
A41: USA | B41: U.S.A. | C41: 1 | F41: Bokar, Jason
A42: SUI | B42: Switzerland | D42: 1 | F42: Baumgartner, Ulrich
A43: ROU | B43: Romania | C43: 1 | F43: Andreica-Navruc, Sebastian
A44: LTU | B44: Lithuania | D44: 1 | F44: Chocenka, Dmitrijus
A45: NED | B45: Netherlands | D45: 1 | F45: Jansen, Joop
A46: EST | B46: Estonia | E46: 1 | F46: Kuusik, Jüri
A47: ISR | B47: Israel | E47: 1 | F47: Dothan, Yoav
A48: POL | B48: Poland | D48: 1 | F48: Wojnar, Mariusz
A49: IND | B49: India | C49: 1 | F49: Chatterjee, Ambar
A50: IRL | B50: Ireland | C50: 1 | F50: Salter, David
A51: GRE | B51: Greece | C51: 1 | F51: Arbis, Fotis
A52: ISL | B52: Iceland | D52: 1 | F52: Necchi, Sandro
A53: CHI | B53: Chile | C53: 1 | F53: Toro Solís de Ovando, Guillermo F.
A54: LAT | B54: Latvia | D54: 1 | F54: Gaujens, Artis
A55: ITA | B55: Italy | E55: 1 | F55: Ruggeri Laderchi, Giorgio
C57: For | D57: Against | E57: Abstain
B58: Total | C58: =SUM(C3:C56) -> 18 | D58: =SUM(D3:D56) -> 24 | E58: =SUM(E3:E56) -> 11

Sheet 2026-058
A1: 2026-058 ICCF Assistance to Federations Deficient in Serving Their Own Players [Statute Change - 2/3] [Conflicts with 2026-055] | B1: 2026-058 ICCF Assistance to Federations Deficient in Serving Their Own Players [Statute Change - 2/3] [Conflicts with 2026-055] | C1: 2026-058 ICCF Assistance to Federations Deficient in Serving Their Own Players [Statute Change - 2/3] [Conflicts with 2026-055] | D1: 2026-058 ICCF Assistance to Federations Deficient in Serving Their Own Players [Statute Change - 2/3] [Conflicts with 2026-055] | E1: 2026-058 ICCF Assistance to Federations Deficient in Serving Their Own Players [Statute Change - 2/3] [Conflicts with 2026-055] | F1: 2026-058 ICCF Assistance to Federations Deficient in Serving Their Own Players [Statute Change - 2/3] [Conflicts with 2026-055]
A2: Code | B2: Member Federation | C2: For | D2: Against | E2: Abstain | F2: Voting Member
A3: TUR | B3: Türkiye | D3: 1 | F3: Kural, Aziz Serhat
A4: PHI | B4: Philippines | C4: 1 | F4: Simplina, Arthur
A5: EST | B5: Estonia | E5: 1 | F5: Kuusik, Jüri
A6: ITA | B6: Italy | E6: 1 | F6: Ruggeri Laderchi, Giorgio
A7: GER | B7: Germany | D7: 1 | F7: Scheiba, Manfred
A8: ROU | B8: Romania | C8: 1 | F8: Andreica-Navruc, Sebastian
A9: BRA | B9: Brazil | D9: 1 | F9: Neves, Bianor de Oliveira
A10: SLO | B10: Slovenia | D10: 1 | F10: Šemrl, Marjan
A11: JPN | B11: Japan | D11: 1 | F11: Hayashi, Koji
A12: NED | B12: Netherlands | D12: 1 | F12: Jansen, Joop
A13: LTU | B13: Lithuania | D13: 1 | F13: Chocenka, Dmitrijus
A14: BEL | B14: Belgium | D14: 1 | F14: Clement, Paul
A15: NOR | B15: Norway | D15: 1 | F15: Løvås, Roger
A16: PAN | B16: Panama | E16: 1 | F16: Rösch M., Hermann V.
A17: GRE | B17: Greece | C17: 1 | F17: Arbis, Fotis
A18: CRO | B18: Croatia | D18: 1 | F18: Ivec, Ivan
A19: POR | B19: Portugal | D19: 1 | F19: Martins, Sérgio A.
A20: CZE | B20: Czechia | D20: 1 | F20: Mrkvička, Filip
A21: MEX | B21: Mexico | D21: 1 | F21: Mercader Martínez, Juan Gustavo
A22: SVK | B22: Slovakia | C22: 1 | F22: Gaži, Miroslav
A23: FRA | B23: France | C23: 1 | F23: Ruch, Eric
A24: AUT | B24: Austria | D24: 1 | F24: Hamarat, Tunc
A25: ESP | B25: Spain | E25: 1 | F25: de Andrés Senra, Sergio Iván
A26: ENG | B26: England | D26: 1 | F26: Beckett, Phillip J.
A27: CHI | B27: Chile | C27: 1 | F27: Toro Solís de Ovando, Guillermo F.
A28: ARG | B28: Argentina | E28: 1 | F28: Gonçalves, Claudio Javier
A29: GUA | B29: Guatemala | D29: 1 | F29: Blanco Gramajo, César Augusto
A30: LAT | B30: Latvia | D30: 1 | F30: Gaujens, Artis
A31: NZL | B31: New Zealand | D31: 1 | F31: Freeman, Michael Roy
A32: HUN | B32: Hungary | E32: 1 | F32: Csiba, Tibor
A33: IRL | B33: Ireland | C33: 1 | F33: Salter, David
A34: WLS | B34: Wales | D34: 1 | F34: Lockwood, Austin
A35: CAN | B35: Canada | D35: 1 | F35: Demian, Valer-Eugen
A36: USA | B36: U.S.A. | C36: 1 | F36: Bokar, Jason
A37: NCA | B37: Nicaragua | E37: 1 | F37: Bendaña Guerrero, Guy José
A38: DEN | B38: Denmark | C38: 1 | F38: Ottesen, Søren Rud
A39: UKR | B39: Ukraine | D39: 1 | F39: Horodyskyi, Oleh
A40: SWE | B40: Sweden | C40: 1 | F40: Söderberg, Per
A41: FIN | B41: Finland | C41: 1 | F41: Sundqvist, Christer
A42: PER | B42: Peru | D42: 1 | F42: Acevedo Villalba, Angel
A43: AUS | B43: Australia | D43: 1 | F43: Gray, Garvin
A44: ECU | B44: Ecuador | E44: 1 | F44: Bjazevic, Pavao
A45: ISL | B45: Iceland | E45: 1 | F45: Necchi, Sandro
A46: SCO | B46: Scotland | D46: 1 | F46: MacMillen, Andrew N.
A47: RSA | B47: South Africa | D47: 1 | F47: Knol, Everdinand
A48: BUL | B48: Bulgaria | D48: 1 | F48: Marinov, Petyo
A49: IND | B49: India | D49: 1 | F49: Chatterjee, Ambar
A50: ISR | B50: Israel | E50: 1 | F50: Dothan, Yoav
A51: SUI | B51: Switzerland | D51: 1 | F51: Baumgartner, Ulrich
A52: POL | B52: Poland | D52: 1 | F52: Wojnar, Mariusz
A53: LUX | B53: Luxembourg | E53: 1 | F53: Klauner, Thed
A54: CUB | B54: Cuba | D54: 1 | F54: Menéndez Rodríguez, Giraldo
A55: INA | B55: Indonesia | E55: 1 | F55: Sitorus, Yosua
B57: Total | C57: =SUM(C3:C56) -> 11 | D57: =SUM(D3:D56) -> 30 | E57: =SUM(E3:E56) -> 12

Sheet 2026-059
A1: 2026-059 Minimum Number of Tournaments Directed for the ICCF-IA Title | B1: 2026-059 Minimum Number of Tournaments Directed for the ICCF-IA Title | C1: 2026-059 Minimum Number of Tournaments Directed for the ICCF-IA Title | D1: 2026-059 Minimum Number of Tournaments Directed for the ICCF-IA Title | E1: 2026-059 Minimum Number of Tournaments Directed for the ICCF-IA Title | F1: 2026-059 Minimum Number of Tournaments Directed for the ICCF-IA Title
A2: Code | B2: Member Federation | C2: For | D2: Against | E2: Abstain | F2: Voting Member
A3: DEN | B3: Denmark | C3: 1 | F3: Ottesen, Søren Rud
A4: ESP | B4: Spain | E4: 1 | F4: de Andrés Senra, Sergio Iván
A5: PER | B5: Peru | C5: 1 | F5: Acevedo Villalba, Angel
A6: FRA | B6: France | C6: 1 | F6: Ruch, Eric
A7: LAT | B7: Latvia | C7: 1 | F7: Gaujens, Artis
A8: AUT | B8: Austria | D8: 1 | F8: Hamarat, Tunc
A9: POR | B9: Portugal | C9: 1 | F9: Martins, Sérgio A.
A10: BUL | B10: Bulgaria | D10: 1 | F10: Marinov, Petyo
A11: ECU | B11: Ecuador | E11: 1 | F11: Bjazevic, Pavao
A12: BRA | B12: Brazil | D12: 1 | F12: Neves, Bianor de Oliveira
A13: ROU | B13: Romania | C13: 1 | F13: Andreica-Navruc, Sebastian
A14: CZE | B14: Czechia | D14: 1 | F14: Mrkvička, Filip
A15: AUS | B15: Australia | D15: 1 | F15: Gray, Garvin
A16: BEL | B16: Belgium | D16: 1 | F16: Clement, Paul
A17: NZL | B17: New Zealand | D17: 1 | F17: Freeman, Michael Roy
A18: WLS | B18: Wales | C18: 1 | F18: Lockwood, Austin
A19: SCO | B19: Scotland | C19: 1 | F19: MacMillen, Andrew N.
A20: EST | B20: Estonia | E20: 1 | F20: Kuusik, Jüri
A21: PAN | B21: Panama | E21: 1 | F21: Rösch M., Hermann V.
A22: CUB | B22: Cuba | C22: 1 | F22: Menéndez Rodríguez, Giraldo
A23: SVK | B23: Slovakia | D23: 1 | F23: Gaži, Miroslav
A24: CRO | B24: Croatia | D24: 1 | F24: Ivec, Ivan
A25: ITA | B25: Italy | E25: 1 | F25: Ruggeri Laderchi, Giorgio
A26: TUR | B26: Türkiye | D26: 1 | F26: Kural, Aziz Serhat
A27: POL | B27: Poland | D27: 1 | F27: Wojnar, Mariusz
A28: IND | B28: India | C28: 1 | F28: Chatterjee, Ambar
A29: ISR | B29: Israel | E29: 1 | F29: Dothan, Yoav
A30: CAN | B30: Canada | D30: 1 | F30: Demian, Valer-Eugen
A31: MEX | B31: Mexico | C31: 1 | F31: Mercader Martínez, Juan Gustavo
A32: LUX | B32: Luxembourg | E32: 1 | F32: Klauner, Thed
A33: SWE | B33: Sweden | D33: 1 | F33: Söderberg, Per
A34: SLO | B34: Slovenia | E34: 1 | F34: Šemrl, Marjan
A35: INA | B35: Indonesia | E35: 1 | F35: Sitorus, Yosua
A36: NOR | B36: Norway | C36: 1 | F36: Løvås, Roger
A37: CHI | B37: Chile | C37: 1 | F37: Toro Solís de Ovando, Guillermo F.
A38: IRL | B38: Ireland | C38: 1 | F38: Salter, David
A39: ARG | B39: Argentina | E39: 1 | F39: Gonçalves, Claudio Javier
A40: GRE | B40: Greece | C40: 1 | F40: Arbis, Fotis
A41: RSA | B41: South Africa | C41: 1 | F41: Knol, Everdinand
A42: ENG | B42: England | C42: 1 | F42: Beckett, Phillip J.
A43: ISL | B43: Iceland | D43: 1 | F43: Necchi, Sandro
A44: NED | B44: Netherlands | D44: 1 | F44: Jansen, Joop
A45: JPN | B45: Japan | C45: 1 | F45: Hayashi, Koji
A46: GUA | B46: Guatemala | E46: 1 | F46: Blanco Gramajo, César Augusto
A47: SUI | B47: Switzerland | D47: 1 | F47: Baumgartner, Ulrich
A48: PHI | B48: Philippines | C48: 1 | F48: Simplina, Arthur
A49: HUN | B49: Hungary | C49: 1 | F49: Csiba, Tibor
A50: UKR | B50: Ukraine | D50: 1 | F50: Horodyskyi, Oleh
A51: USA | B51: U.S.A. | D51: 1 | F51: Bokar, Jason
A52: GER | B52: Germany | D52: 1 | F52: Scheiba, Manfred
A53: FIN | B53: Finland | D53: 1 | F53: Sundqvist, Christer
A54: LTU | B54: Lithuania | D54: 1 | F54: Chocenka, Dmitrijus
A55: NCA | B55: Nicaragua | E55: 1 | F55: Bendaña Guerrero, Guy José
C57: For | D57: Against | E57: Abstain
B58: Total | C58: =SUM(C3:C56) -> 20 | D58: =SUM(D3:D56) -> 21 | E58: =SUM(E3:E56) -> 12

Sheet 2026-060
A1: 2026-060 Replacement of National Federation Voting Delegates in Exceptional Personal Circumstances | B1: 2026-060 Replacement of National Federation Voting Delegates in Exceptional Personal Circumstances | C1: 2026-060 Replacement of National Federation Voting Delegates in Exceptional Personal Circumstances | D1: 2026-060 Replacement of National Federation Voting Delegates in Exceptional Personal Circumstances | E1: 2026-060 Replacement of National Federation Voting Delegates in Exceptional Personal Circumstances | F1: 2026-060 Replacement of National Federation Voting Delegates in Exceptional Personal Circumstances
A2: Code | B2: Member Federation | C2: For | D2: Against | E2: Abstain | F2: Voting Member
A3: FRA | B3: France | C3: 1 | F3: Ruch, Eric
A4: CHI | B4: Chile | C4: 1 | F4: Toro Solís de Ovando, Guillermo F.
A5: WLS | B5: Wales | C5: 1 | F5: Lockwood, Austin
A6: SUI | B6: Switzerland | C6: 1 | F6: Baumgartner, Ulrich
A7: ISL | B7: Iceland | C7: 1 | F7: Necchi, Sandro
A8: NZL | B8: New Zealand | C8: 1 | F8: Freeman, Michael Roy
A9: CAN | B9: Canada | C9: 1 | F9: Demian, Valer-Eugen
A10: POR | B10: Portugal | C10: 1 | F10: Martins, Sérgio A.
A11: GUA | B11: Guatemala | C11: 1 | F11: Blanco Gramajo, César Augusto
A12: ESP | B12: Spain | E12: 1 | F12: de Andrés Senra, Sergio Iván
A13: LUX | B13: Luxembourg | E13: 1 | F13: Klauner, Thed
A14: AUS | B14: Australia | D14: 1 | F14: Gray, Garvin
A15: NCA | B15: Nicaragua | E15: 1 | F15: Bendaña Guerrero, Guy José
A16: CRO | B16: Croatia | C16: 1 | F16: Ivec, Ivan
A17: SCO | B17: Scotland | C17: 1 | F17: MacMillen, Andrew N.
A18: DEN | B18: Denmark | C18: 1 | F18: Ottesen, Søren Rud
A19: NOR | B19: Norway | C19: 1 | F19: Løvås, Roger
A20: TUR | B20: Türkiye | D20: 1 | F20: Kural, Aziz Serhat
A21: INA | B21: Indonesia | E21: 1 | F21: Sitorus, Yosua
A22: CZE | B22: Czechia | C22: 1 | F22: Mrkvička, Filip
A23: PHI | B23: Philippines | C23: 1 | F23: Simplina, Arthur
A24: LAT | B24: Latvia | C24: 1 | F24: Gaujens, Artis
A25: ITA | B25: Italy | E25: 1 | F25: Ruggeri Laderchi, Giorgio
A26: ECU | B26: Ecuador | E26: 1 | F26: Bjazevic, Pavao
A27: BRA | B27: Brazil | C27: 1 | F27: Neves, Bianor de Oliveira
A28: AUT | B28: Austria | C28: 1 | F28: Hamarat, Tunc
A29: NED | B29: Netherlands | C29: 1 | F29: Jansen, Joop
A30: RSA | B30: South Africa | C30: 1 | F30: Knol, Everdinand
A31: CUB | B31: Cuba | C31: 1 | F31: Menéndez Rodríguez, Giraldo
A32: ISR | B32: Israel | E32: 1 | F32: Dothan, Yoav
A33: BEL | B33: Belgium | C33: 1 | F33: Clement, Paul
A34: ROU | B34: Romania | C34: 1 | F34: Andreica-Navruc, Sebastian
A35: USA | B35: U.S.A. | C35: 1 | F35: Bokar, Jason
A36: LTU | B36: Lithuania | C36: 1 | F36: Chocenka, Dmitrijus
A37: SWE | B37: Sweden | C37: 1 | F37: Söderberg, Per
A38: GER | B38: Germany | C38: 1 | F38: Scheiba, Manfred
A39: FIN | B39: Finland | C39: 1 | F39: Sundqvist, Christer
A40: HUN | B40: Hungary | E40: 1 | F40: Csiba, Tibor
A41: SLO | B41: Slovenia | C41: 1 | F41: Šemrl, Marjan
A42: BUL | B42: Bulgaria | C42: 1 | F42: Marinov, Petyo
A43: JPN | B43: Japan | C43: 1 | F43: Hayashi, Koji
A44: PER | B44: Peru | C44: 1 | F44: Acevedo Villalba, Angel
A45: MEX | B45: Mexico | C45: 1 | F45: Mercader Martínez, Juan Gustavo
A46: UKR | B46: Ukraine | C46: 1 | F46: Horodyskyi, Oleh
A47: GRE | B47: Greece | C47: 1 | F47: Arbis, Fotis
A48: IND | B48: India | C48: 1 | F48: Chatterjee, Ambar
A49: ENG | B49: England | C49: 1 | F49: Beckett, Phillip J.
A50: SVK | B50: Slovakia | C50: 1 | F50: Gaži, Miroslav
A51: EST | B51: Estonia | E51: 1 | F51: Kuusik, Jüri
A52: IRL | B52: Ireland | C52: 1 | F52: Salter, David
A53: POL | B53: Poland | C53: 1 | F53: Wojnar, Mariusz
A54: ARG | B54: Argentina | E54: 1 | F54: Gonçalves, Claudio Javier
A55: PAN | B55: Panama | E55: 1 | F55: Rösch M., Hermann V.
C57: For | D57: Against | E57: Abstain
B58: Total | C58: =SUM(C3:C56) -> 40 | D58: =SUM(D3:D56) -> 2 | E58: =SUM(E3:E56) -> 11

Sheet 2026-061
A1: 2026-061 New Type of Player Membership | B1: 2026-061 New Type of Player Membership | C1: 2026-061 New Type of Player Membership | D1: 2026-061 New Type of Player Membership | E1: 2026-061 New Type of Player Membership | F1: 2026-061 New Type of Player Membership
A2: Code | B2: Member Federation | C2: For | D2: Against | E2: Abstain | F2: Voting Member
A3: GUA | B3: Guatemala | E3: 1 | F3: Blanco Gramajo, César Augusto
A4: WLS | B4: Wales | C4: 1 | F4: Lockwood, Austin
A5: FIN | B5: Finland | D5: 1 | F5: Sundqvist, Christer
A6: USA | B6: U.S.A. | C6: 1 | F6: Bokar, Jason
A7: JPN | B7: Japan | C7: 1 | F7: Hayashi, Koji
A8: PHI | B8: Philippines | C8: 1 | F8: Simplina, Arthur
A9: NZL | B9: New Zealand | D9: 1 | F9: Freeman, Michael Roy
A10: CRO | B10: Croatia | D10: 1 | F10: Ivec, Ivan
A11: CHI | B11: Chile | C11: 1 | F11: Toro Solís de Ovando, Guillermo F.
A12: TUR | B12: Türkiye | D12: 1 | F12: Kural, Aziz Serhat
A13: SWE | B13: Sweden | D13: 1 | F13: Söderberg, Per
A14: MEX | B14: Mexico | D14: 1 | F14: Mercader Martínez, Juan Gustavo
A15: BEL | B15: Belgium | E15: 1 | F15: Clement, Paul
A16: RSA | B16: South Africa | C16: 1 | F16: Knol, Everdinand
A17: NOR | B17: Norway | D17: 1 | F17: Løvås, Roger
A18: ENG | B18: England | C18: 1 | F18: Beckett, Phillip J.
A19: GER | B19: Germany | D19: 1 | F19: Scheiba, Manfred
A20: AUT | B20: Austria | D20: 1 | F20: Hamarat, Tunc
A21: FRA | B21: France | C21: 1 | F21: Ruch, Eric
A22: IND | B22: India | C22: 1 | F22: Chatterjee, Ambar
A23: IRL | B23: Ireland | C23: 1 | F23: Salter, David
A24: CZE | B24: Czechia | D24: 1 | F24: Mrkvička, Filip
A25: ITA | B25: Italy | E25: 1 | F25: Ruggeri Laderchi, Giorgio
A26: HUN | B26: Hungary | C26: 1 | F26: Csiba, Tibor
A27: INA | B27: Indonesia | E27: 1 | F27: Sitorus, Yosua
A28: SVK | B28: Slovakia | C28: 1 | F28: Gaži, Miroslav
A29: ECU | B29: Ecuador | E29: 1 | F29: Bjazevic, Pavao
A30: BRA | B30: Brazil | C30: 1 | F30: Neves, Bianor de Oliveira
A31: PAN | B31: Panama | E31: 1 | F31: Rösch M., Hermann V.
A32: ROU | B32: Romania | D32: 1 | F32: Andreica-Navruc, Sebastian
A33: LUX | B33: Luxembourg | E33: 1 | F33: Klauner, Thed
A34: SLO | B34: Slovenia | D34: 1 | F34: Šemrl, Marjan
A35: GRE | B35: Greece | C35: 1 | F35: Arbis, Fotis
A36: ISR | B36: Israel | E36: 1 | F36: Dothan, Yoav
A37: POL | B37: Poland | D37: 1 | F37: Wojnar, Mariusz
A38: LAT | B38: Latvia | D38: 1 | F38: Gaujens, Artis
A39: NED | B39: Netherlands | D39: 1 | F39: Jansen, Joop
A40: LTU | B40: Lithuania | D40: 1 | F40: Chocenka, Dmitrijus
A41: ISL | B41: Iceland | D41: 1 | F41: Necchi, Sandro
A42: CAN | B42: Canada | D42: 1 | F42: Demian, Valer-Eugen
A43: DEN | B43: Denmark | C43: 1 | F43: Ottesen, Søren Rud
A44: SUI | B44: Switzerland | D44: 1 | F44: Baumgartner, Ulrich
A45: ARG | B45: Argentina | E45: 1 | F45: Gonçalves, Claudio Javier
A46: UKR | B46: Ukraine | D46: 1 | F46: Horodyskyi, Oleh
A47: CUB | B47: Cuba | D47: 1 | F47: Menéndez Rodríguez, Giraldo
A48: BUL | B48: Bulgaria | D48: 1 | F48: Marinov, Petyo
A49: EST | B49: Estonia | E49: 1 | F49: Kuusik, Jüri
A50: AUS | B50: Australia | D50: 1 | F50: Gray, Garvin
A51: SCO | B51: Scotland | D51: 1 | F51: MacMillen, Andrew N.
A52: ESP | B52: Spain | E52: 1 | F52: de Andrés Senra, Sergio Iván
A53: NCA | B53: Nicaragua | E53: 1 | F53: Bendaña Guerrero, Guy José
A54: PER | B54: Peru | E54: 1 | F54: Acevedo Villalba, Angel
A55: POR | B55: Portugal | D55: 1 | F55: Martins, Sérgio A.
C57: For | D57: Against | E57: Abstain
B58: Total | C58: =SUM(C3:C56) -> 15 | D58: =SUM(D3:D56) -> 25 | E58: =SUM(E3:E56) -> 13

Sheet 2026-062
A1: 2026-062 Shorten Standards for Time Controls | B1: 2026-062 Shorten Standards for Time Controls | C1: 2026-062 Shorten Standards for Time Controls | D1: 2026-062 Shorten Standards for Time Controls | E1: 2026-062 Shorten Standards for Time Controls | F1: 2026-062 Shorten Standards for Time Controls
A2: Code | B2: Member Federation | C2: For | D2: Against | E2: Abstain | F2: Voting Member
A3: BEL | B3: Belgium | D3: 1 | F3: Clement, Paul
A4: ISR | B4: Israel | E4: 1 | F4: Dothan, Yoav
A5: BRA | B5: Brazil | C5: 1 | F5: Neves, Bianor de Oliveira
A6: CAN | B6: Canada | D6: 1 | F6: Demian, Valer-Eugen
A7: ECU | B7: Ecuador | E7: 1 | F7: Bjazevic, Pavao
A8: ITA | B8: Italy | E8: 1 | F8: Ruggeri Laderchi, Giorgio
A9: DEN | B9: Denmark | C9: 1 | F9: Ottesen, Søren Rud
A10: PAN | B10: Panama | E10: 1 | F10: Rösch M., Hermann V.
A11: WLS | B11: Wales | D11: 1 | F11: Lockwood, Austin
A12: NCA | B12: Nicaragua | E12: 1 | F12: Bendaña Guerrero, Guy José
A13: TUR | B13: Türkiye | D13: 1 | F13: Kural, Aziz Serhat
A14: PHI | B14: Philippines | D14: 1 | F14: Simplina, Arthur
A15: CZE | B15: Czechia | D15: 1 | F15: Mrkvička, Filip
A16: ROU | B16: Romania | C16: 1 | F16: Andreica-Navruc, Sebastian
A17: SUI | B17: Switzerland | D17: 1 | F17: Baumgartner, Ulrich
A18: NZL | B18: New Zealand | D18: 1 | F18: Freeman, Michael Roy
A19: LAT | B19: Latvia | D19: 1 | F19: Gaujens, Artis
A20: HUN | B20: Hungary | D20: 1 | F20: Csiba, Tibor
A21: ISL | B21: Iceland | C21: 1 | F21: Necchi, Sandro
A22: NOR | B22: Norway | D22: 1 | F22: Løvås, Roger
A23: NED | B23: Netherlands | D23: 1 | F23: Jansen, Joop
A24: GUA | B24: Guatemala | D24: 1 | F24: Blanco Gramajo, César Augusto
A25: ESP | B25: Spain | E25: 1 | F25: de Andrés Senra, Sergio Iván
A26: LTU | B26: Lithuania | C26: 1 | F26: Chocenka, Dmitrijus
A27: CHI | B27: Chile | D27: 1 | F27: Toro Solís de Ovando, Guillermo F.
A28: EST | B28: Estonia | E28: 1 | F28: Kuusik, Jüri
A29: AUS | B29: Australia | D29: 1 | F29: Gray, Garvin
A30: LUX | B30: Luxembourg | E30: 1 | F30: Klauner, Thed
A31: IRL | B31: Ireland | C31: 1 | F31: Salter, David
A32: GRE | B32: Greece | C32: 1 | F32: Arbis, Fotis
A33: CRO | B33: Croatia | D33: 1 | F33: Ivec, Ivan
A34: SWE | B34: Sweden | D34: 1 | F34: Söderberg, Per
A35: INA | B35: Indonesia | E35: 1 | F35: Sitorus, Yosua
A36: AUT | B36: Austria | D36: 1 | F36: Hamarat, Tunc
A37: CUB | B37: Cuba | C37: 1 | F37: Menéndez Rodríguez, Giraldo
A38: ARG | B38: Argentina | E38: 1 | F38: Gonçalves, Claudio Javier
A39: POL | B39: Poland | D39: 1 | F39: Wojnar, Mariusz
A40: POR | B40: Portugal | D40: 1 | F40: Martins, Sérgio A.
A41: IND | B41: India | C41: 1 | F41: Chatterjee, Ambar
A42: JPN | B42: Japan | C42: 1 | F42: Hayashi, Koji
A43: GER | B43: Germany | D43: 1 | F43: Scheiba, Manfred
A44: PER | B44: Peru | C44: 1 | F44: Acevedo Villalba, Angel
A45: FIN | B45: Finland | C45: 1 | F45: Sundqvist, Christer
A46: UKR | B46: Ukraine | D46: 1 | F46: Horodyskyi, Oleh
A47: MEX | B47: Mexico | C47: 1 | F47: Mercader Martínez, Juan Gustavo
A48: USA | B48: U.S.A. | D48: 1 | F48: Bokar, Jason
A49: SCO | B49: Scotland | C49: 1 | F49: MacMillen, Andrew N.
A50: RSA | B50: South Africa | C50: 1 | F50: Knol, Everdinand
A51: FRA | B51: France | C51: 1 | F51: Ruch, Eric
A52: SVK | B52: Slovakia | D52: 1 | F52: Gaži, Miroslav
A53: SLO | B53: Slovenia | D53: 1 | F53: Šemrl, Marjan
A54: BUL | B54: Bulgaria | D54: 1 | F54: Marinov, Petyo
A55: ENG | B55: England | C55: 1 | F55: Beckett, Phillip J.
C57: For | D57: Against | E57: Abstain
B58: Total | C58: =SUM(C3:C56) -> 17 | D58: =SUM(D3:D56) -> 26 | E58: =SUM(E3:E56) -> 10

Sheet 2026-065
A1: 2026-065 Introduction of Blitz Tournaments | B1: 2026-065 Introduction of Blitz Tournaments | C1: 2026-065 Introduction of Blitz Tournaments | D1: 2026-065 Introduction of Blitz Tournaments | E1: 2026-065 Introduction of Blitz Tournaments | F1: 2026-065 Introduction of Blitz Tournaments
A2: Code | B2: Member Federation | C2: For | D2: Against | E2: Abstain | F2: Voting Member
A3: POR | B3: Portugal | D3: 1 | F3: Martins, Sérgio A.
A4: GRE | B4: Greece | C4: 1 | F4: Arbis, Fotis
A5: WLS | B5: Wales | D5: 1 | F5: Lockwood, Austin
A6: ENG | B6: England | C6: 1 | F6: Beckett, Phillip J.
A7: BRA | B7: Brazil | D7: 1 | F7: Neves, Bianor de Oliveira
A8: USA | B8: U.S.A. | D8: 1 | F8: Bokar, Jason
A9: IND | B9: India | C9: 1 | F9: Chatterjee, Ambar
A10: AUT | B10: Austria | C10: 1 | F10: Hamarat, Tunc
A11: INA | B11: Indonesia | E11: 1 | F11: Sitorus, Yosua
A12: LAT | B12: Latvia | C12: 1 | F12: Gaujens, Artis
A13: FRA | B13: France | D13: 1 | F13: Ruch, Eric
A14: TUR | B14: Türkiye | D14: 1 | F14: Kural, Aziz Serhat
A15: JPN | B15: Japan | C15: 1 | F15: Hayashi, Koji
A16: SLO | B16: Slovenia | D16: 1 | F16: Šemrl, Marjan
A17: PAN | B17: Panama | E17: 1 | F17: Rösch M., Hermann V.
A18: GUA | B18: Guatemala | E18: 1 | F18: Blanco Gramajo, César Augusto
A19: ROU | B19: Romania | D19: 1 | F19: Andreica-Navruc, Sebastian
A20: NZL | B20: New Zealand | D20: 1 | F20: Freeman, Michael Roy
A21: SCO | B21: Scotland | D21: 1 | F21: MacMillen, Andrew N.
A22: ISL | B22: Iceland | C22: 1 | F22: Necchi, Sandro
A23: EST | B23: Estonia | E23: 1 | F23: Kuusik, Jüri
A24: IRL | B24: Ireland | C24: 1 | F24: Salter, David
A25: BEL | B25: Belgium | D25: 1 | F25: Clement, Paul
A26: UKR | B26: Ukraine | D26: 1 | F26: Horodyskyi, Oleh
A27: CZE | B27: Czechia | D27: 1 | F27: Mrkvička, Filip
A28: ARG | B28: Argentina | E28: 1 | F28: Gonçalves, Claudio Javier
A29: FIN | B29: Finland | C29: 1 | F29: Sundqvist, Christer
A30: LUX | B30: Luxembourg | E30: 1 | F30: Klauner, Thed
A31: CRO | B31: Croatia | D31: 1 | F31: Ivec, Ivan
A32: CUB | B32: Cuba | C32: 1 | F32: Menéndez Rodríguez, Giraldo
A33: NCA | B33: Nicaragua | E33: 1 | F33: Bendaña Guerrero, Guy José
A34: PER | B34: Peru | C34: 1 | F34: Acevedo Villalba, Angel
A35: ESP | B35: Spain | E35: 1 | F35: de Andrés Senra, Sergio Iván
A36: SUI | B36: Switzerland | C36: 1 | F36: Baumgartner, Ulrich
A37: CHI | B37: Chile | C37: 1 | F37: Toro Solís de Ovando, Guillermo F.
A38: AUS | B38: Australia | D38: 1 | F38: Gray, Garvin
A39: NOR | B39: Norway | C39: 1 | F39: Løvås, Roger
A40: DEN | B40: Denmark | D40: 1 | F40: Ottesen, Søren Rud
A41: MEX | B41: Mexico | C41: 1 | F41: Mercader Martínez, Juan Gustavo
A42: ITA | B42: Italy | E42: 1 | F42: Ruggeri Laderchi, Giorgio
A43: PHI | B43: Philippines | D43: 1 | F43: Simplina, Arthur
A44: POL | B44: Poland | D44: 1 | F44: Wojnar, Mariusz
A45: GER | B45: Germany | E45: 1 | F45: Scheiba, Manfred
A46: ECU | B46: Ecuador | E46: 1 | F46: Bjazevic, Pavao
A47: HUN | B47: Hungary | C47: 1 | F47: Csiba, Tibor
A48: BUL | B48: Bulgaria | E48: 1 | F48: Marinov, Petyo
A49: SVK | B49: Slovakia | C49: 1 | F49: Gaži, Miroslav
A50: LTU | B50: Lithuania | D50: 1 | F50: Chocenka, Dmitrijus
A51: RSA | B51: South Africa | C51: 1 | F51: Knol, Everdinand
A52: CAN | B52: Canada | D52: 1 | F52: Demian, Valer-Eugen
A53: SWE | B53: Sweden | C53: 1 | F53: Söderberg, Per
A54: ISR | B54: Israel | E54: 1 | F54: Dothan, Yoav
A55: NED | B55: Netherlands | C55: 1 | F55: Jansen, Joop
B57: Total | C57: =SUM(C3:C56) -> 20 | D57: =SUM(D3:D56) -> 20 | E57: =SUM(E3:E56) -> 13

Sheet 2026-066
A1: 2026-066 Format of Blitz Tournaments (Only Considered if 2026-065 is Approved) | B1: 2026-066 Format of Blitz Tournaments (Only Considered if 2026-065 is Approved) | C1: 2026-066 Format of Blitz Tournaments (Only Considered if 2026-065 is Approved) | D1: 2026-066 Format of Blitz Tournaments (Only Considered if 2026-065 is Approved) | E1: 2026-066 Format of Blitz Tournaments (Only Considered if 2026-065 is Approved) | F1: 2026-066 Format of Blitz Tournaments (Only Considered if 2026-065 is Approved) | G1: 2026-066 Format of Blitz Tournaments (Only Considered if 2026-065 is Approved) | H1: 2026-066 Format of Blitz Tournaments (Only Considered if 2026-065 is Approved)
A2: Code | B2: Member Federation | C2: For | D2: Against | E2: Vote at Congress | F2: Proxy/Designee | G2: Abstain | H2: Voting Member
A4: 2026-065 was not approved. This proposal is moot and not voted upon because 2026-065 was Not approved.

Sheet 2026-067
A1: 2026-067 Creation of a New Position: Chess 960 Officer | B1: 2026-067 Creation of a New Position: Chess 960 Officer | C1: 2026-067 Creation of a New Position: Chess 960 Officer | D1: 2026-067 Creation of a New Position: Chess 960 Officer | E1: 2026-067 Creation of a New Position: Chess 960 Officer | F1: 2026-067 Creation of a New Position: Chess 960 Officer
A2: Code | B2: Member Federation | C2: For | D2: Against | E2: Abstain | F2: Voting Member
A3: POR | B3: Portugal | D3: 1 | F3: Martins, Sérgio A.
A4: FRA | B4: France | D4: 1 | F4: Ruch, Eric
A5: IND | B5: India | C5: 1 | F5: Chatterjee, Ambar
A6: TUR | B6: Türkiye | D6: 1 | F6: Kural, Aziz Serhat
A7: NOR | B7: Norway | D7: 1 | F7: Løvås, Roger
A8: ISR | B8: Israel | E8: 1 | F8: Dothan, Yoav
A9: UKR | B9: Ukraine | D9: 1 | F9: Horodyskyi, Oleh
A10: INA | B10: Indonesia | E10: 1 | F10: Sitorus, Yosua
A11: FIN | B11: Finland | C11: 1 | F11: Sundqvist, Christer
A12: ARG | B12: Argentina | E12: 1 | F12: Gonçalves, Claudio Javier
A13: PER | B13: Peru | E13: 1 | F13: Acevedo Villalba, Angel
A14: ROU | B14: Romania | C14: 1 | F14: Andreica-Navruc, Sebastian
A15: JPN | B15: Japan | D15: 1 | F15: Hayashi, Koji
A16: CRO | B16: Croatia | D16: 1 | F16: Ivec, Ivan
A17: SWE | B17: Sweden | D17: 1 | F17: Söderberg, Per
A18: LTU | B18: Lithuania | D18: 1 | F18: Chocenka, Dmitrijus
A19: MEX | B19: Mexico | C19: 1 | F19: Mercader Martínez, Juan Gustavo
A20: RSA | B20: South Africa | C20: 1 | F20: Knol, Everdinand
A21: EST | B21: Estonia | E21: 1 | F21: Kuusik, Jüri
A22: BUL | B22: Bulgaria | D22: 1 | F22: Marinov, Petyo
A23: PHI | B23: Philippines | D23: 1 | F23: Simplina, Arthur
A24: NCA | B24: Nicaragua | E24: 1 | F24: Bendaña Guerrero, Guy José
A25: POL | B25: Poland | D25: 1 | F25: Wojnar, Mariusz
A26: SCO | B26: Scotland | D26: 1 | F26: MacMillen, Andrew N.
A27: USA | B27: U.S.A. | D27: 1 | F27: Bokar, Jason
A28: LAT | B28: Latvia | E28: 1 | F28: Gaujens, Artis
A29: SUI | B29: Switzerland | D29: 1 | F29: Baumgartner, Ulrich
A30: CZE | B30: Czechia | D30: 1 | F30: Mrkvička, Filip
A31: CAN | B31: Canada | D31: 1 | F31: Demian, Valer-Eugen
A32: NED | B32: Netherlands | D32: 1 | F32: Jansen, Joop
A33: IRL | B33: Ireland | D33: 1 | F33: Salter, David
A34: ISL | B34: Iceland | C34: 1 | F34: Necchi, Sandro
A35: ENG | B35: England | D35: 1 | F35: Beckett, Phillip J.
A36: GRE | B36: Greece | C36: 1 | F36: Arbis, Fotis
A37: ECU | B37: Ecuador | E37: 1 | F37: Bjazevic, Pavao
A38: GER | B38: Germany | D38: 1 | F38: Scheiba, Manfred
A39: BRA | B39: Brazil | D39: 1 | F39: Neves, Bianor de Oliveira
A40: HUN | B40: Hungary | C40: 1 | F40: Csiba, Tibor
A41: DEN | B41: Denmark | D41: 1 | F41: Ottesen, Søren Rud
A42: SVK | B42: Slovakia | C42: 1 | F42: Gaži, Miroslav
A43: GUA | B43: Guatemala | D43: 1 | F43: Blanco Gramajo, César Augusto
A44: SLO | B44: Slovenia | D44: 1 | F44: Šemrl, Marjan
A45: LUX | B45: Luxembourg | E45: 1 | F45: Klauner, Thed
A46: ESP | B46: Spain | E46: 1 | F46: de Andrés Senra, Sergio Iván
A47: WLS | B47: Wales | D47: 1 | F47: Lockwood, Austin
A48: AUS | B48: Australia | D48: 1 | F48: Gray, Garvin
A49: CUB | B49: Cuba | C49: 1 | F49: Menéndez Rodríguez, Giraldo
A50: BEL | B50: Belgium | E50: 1 | F50: Clement, Paul
A51: NZL | B51: New Zealand | D51: 1 | F51: Freeman, Michael Roy
A52: CHI | B52: Chile | C52: 1 | F52: Toro Solís de Ovando, Guillermo F.
A53: PAN | B53: Panama | E53: 1 | F53: Rösch M., Hermann V.
A54: ITA | B54: Italy | E54: 1 | F54: Ruggeri Laderchi, Giorgio
A55: AUT | B55: Austria | E55: 1 | F55: Hamarat, Tunc
C57: For | D57: Against | E57: Abstain
B58: Total | C58: =SUM(C3:C56) -> 11 | D58: =SUM(D3:D56) -> 28 | E58: =SUM(E3:E56) -> 14

Sheet 2026-068
A1: 2026-068 Creation of a New Position: Blitz Officer (Only Considered if 2026-065 is Approved) | B1: 2026-068 Creation of a New Position: Blitz Officer (Only Considered if 2026-065 is Approved) | C1: 2026-068 Creation of a New Position: Blitz Officer (Only Considered if 2026-065 is Approved) | D1: 2026-068 Creation of a New Position: Blitz Officer (Only Considered if 2026-065 is Approved) | E1: 2026-068 Creation of a New Position: Blitz Officer (Only Considered if 2026-065 is Approved) | F1: 2026-068 Creation of a New Position: Blitz Officer (Only Considered if 2026-065 is Approved) | G1: 2026-068 Creation of a New Position: Blitz Officer (Only Considered if 2026-065 is Approved) | H1: 2026-068 Creation of a New Position: Blitz Officer (Only Considered if 2026-065 is Approved)
A2: Code | B2: Member Federation | C2: For | D2: Against | E2: Vote at Congress | F2: Proxy/Designee | G2: Abstain | H2: Voting Member
A4: 2026-065 was not approved. This proposal is moot and not voted upon because 2026-065 was Not approved.

Sheet 2026-069
A1: 2026-069 Trial Period for the Rutar Tiebreak System | B1: 2026-069 Trial Period for the Rutar Tiebreak System | C1: 2026-069 Trial Period for the Rutar Tiebreak System | D1: 2026-069 Trial Period for the Rutar Tiebreak System | E1: 2026-069 Trial Period for the Rutar Tiebreak System | F1: 2026-069 Trial Period for the Rutar Tiebreak System | G1: 2026-069 Trial Period for the Rutar Tiebreak System | H1: 2026-069 Trial Period for the Rutar Tiebreak System
A2: Code | B2: Member Federation | C2: For | D2: Against | E2: Vote at Congress | F2: Proxy/Designee | G2: Abstain | H2: Voting Member
A4: This proposal was withdrawn at the request of the proposer.

Sheet 2026-070
A1: 2026-070 Team Silli System | B1: 2026-070 Team Silli System | C1: 2026-070 Team Silli System | D1: 2026-070 Team Silli System | E1: 2026-070 Team Silli System | F1: 2026-070 Team Silli System
A2: Code | B2: Member Federation | C2: For | D2: Against | E2: Abstain | F2: Voting Member
A3: DEN | B3: Denmark | C3: 1 | F3: Ottesen, Søren Rud
A4: POR | B4: Portugal | D4: 1 | F4: Martins, Sérgio A.
A5: LAT | B5: Latvia | C5: 1 | F5: Gaujens, Artis
A6: BUL | B6: Bulgaria | E6: 1 | F6: Marinov, Petyo
A7: ECU | B7: Ecuador | E7: 1 | F7: Bjazevic, Pavao
A8: ISR | B8: Israel | E8: 1 | F8: Dothan, Yoav
A9: HUN | B9: Hungary | C9: 1 | F9: Csiba, Tibor
A10: PAN | B10: Panama | E10: 1 | F10: Rösch M., Hermann V.
A11: AUT | B11: Austria | E11: 1 | F11: Hamarat, Tunc
A12: PER | B12: Peru | E12: 1 | F12: Acevedo Villalba, Angel
A13: TUR | B13: Türkiye | E13: 1 | F13: Kural, Aziz Serhat
A14: ROU | B14: Romania | E14: 1 | F14: Andreica-Navruc, Sebastian
A15: ITA | B15: Italy | E15: 1 | F15: Ruggeri Laderchi, Giorgio
A16: CHI | B16: Chile | C16: 1 | F16: Toro Solís de Ovando, Guillermo F.
A17: SUI | B17: Switzerland | C17: 1 | F17: Baumgartner, Ulrich
A18: EST | B18: Estonia | E18: 1 | F18: Kuusik, Jüri
A19: FRA | B19: France | C19: 1 | F19: Ruch, Eric
A20: AUS | B20: Australia | C20: 1 | F20: Gray, Garvin
A21: CUB | B21: Cuba | C21: 1 | F21: Menéndez Rodríguez, Giraldo
A22: BEL | B22: Belgium | C22: 1 | F22: Clement, Paul
A23: NCA | B23: Nicaragua | E23: 1 | F23: Bendaña Guerrero, Guy José
A24: CAN | B24: Canada | D24: 1 | F24: Demian, Valer-Eugen
A25: LUX | B25: Luxembourg | E25: 1 | F25: Klauner, Thed
A26: GUA | B26: Guatemala | E26: 1 | F26: Blanco Gramajo, César Augusto
A27: JPN | B27: Japan | C27: 1 | F27: Hayashi, Koji
A28: POL | B28: Poland | C28: 1 | F28: Wojnar, Mariusz
A29: MEX | B29: Mexico | C29: 1 | F29: Mercader Martínez, Juan Gustavo
A30: GER | B30: Germany | D30: 1 | F30: Scheiba, Manfred
A31: CRO | B31: Croatia | C31: 1 | F31: Ivec, Ivan
A32: SWE | B32: Sweden | C32: 1 | F32: Söderberg, Per
A33: SVK | B33: Slovakia | C33: 1 | F33: Gaži, Miroslav
A34: IND | B34: India | C34: 1 | F34: Chatterjee, Ambar
A35: SLO | B35: Slovenia | C35: 1 | F35: Šemrl, Marjan
A36: ESP | B36: Spain | E36: 1 | F36: de Andrés Senra, Sergio Iván
A37: UKR | B37: Ukraine | C37: 1 | F37: Horodyskyi, Oleh
A38: RSA | B38: South Africa | C38: 1 | F38: Knol, Everdinand
A39: ISL | B39: Iceland | C39: 1 | F39: Necchi, Sandro
A40: BRA | B40: Brazil | D40: 1 | F40: Neves, Bianor de Oliveira
A41: ARG | B41: Argentina | E41: 1 | F41: Gonçalves, Claudio Javier
A42: NED | B42: Netherlands | C42: 1 | F42: Jansen, Joop
A43: USA | B43: U.S.A. | C43: 1 | F43: Bokar, Jason
A44: SCO | B44: Scotland | C44: 1 | F44: MacMillen, Andrew N.
A45: NZL | B45: New Zealand | C45: 1 | F45: Freeman, Michael Roy
A46: ENG | B46: England | C46: 1 | F46: Beckett, Phillip J.
A47: NOR | B47: Norway | C47: 1 | F47: Løvås, Roger
A48: IRL | B48: Ireland | C48: 1 | F48: Salter, David
A49: FIN | B49: Finland | C49: 1 | F49: Sundqvist, Christer
A50: INA | B50: Indonesia | E50: 1 | F50: Sitorus, Yosua
A51: GRE | B51: Greece | C51: 1 | F51: Arbis, Fotis
A52: LTU | B52: Lithuania | D52: 1 | F52: Chocenka, Dmitrijus
A53: PHI | B53: Philippines | C53: 1 | F53: Simplina, Arthur
A54: CZE | B54: Czechia | C54: 1 | F54: Mrkvička, Filip
A55: WLS | B55: Wales | C55: 1 | F55: Lockwood, Austin
C57: For | D57: Against | E57: Abstain
B58: Total | C58: =SUM(C3:C56) -> 32 | D58: =SUM(D3:D56) -> 5 | E58: =SUM(E3:E56) -> 16

Sheet 2026-071
A1: 2026-071 Tournament Results and Team Standings | B1: 2026-071 Tournament Results and Team Standings | C1: 2026-071 Tournament Results and Team Standings | D1: 2026-071 Tournament Results and Team Standings | E1: 2026-071 Tournament Results and Team Standings | F1: 2026-071 Tournament Results and Team Standings
A2: Code | B2: Member Federation | C2: For | D2: Against | E2: Abstain | F2: Voting Member
A3: CHI | B3: Chile | C3: 1 | F3: Toro Solís de Ovando, Guillermo F.
A4: SLO | B4: Slovenia | C4: 1 | F4: Šemrl, Marjan
A5: NZL | B5: New Zealand | C5: 1 | F5: Freeman, Michael Roy
A6: LUX | B6: Luxembourg | E6: 1 | F6: Klauner, Thed
A7: ISL | B7: Iceland | D7: 1 | F7: Necchi, Sandro
A8: PER | B8: Peru | C8: 1 | F8: Acevedo Villalba, Angel
A9: LTU | B9: Lithuania | C9: 1 | F9: Chocenka, Dmitrijus
A10: AUT | B10: Austria | E10: 1 | F10: Hamarat, Tunc
A11: SVK | B11: Slovakia | D11: 1 | F11: Gaži, Miroslav
A12: MEX | B12: Mexico | E12: 1 | F12: Mercader Martínez, Juan Gustavo
A13: CAN | B13: Canada | C13: 1 | F13: Demian, Valer-Eugen
A14: GRE | B14: Greece | C14: 1 | F14: Arbis, Fotis
A15: ESP | B15: Spain | E15: 1 | F15: de Andrés Senra, Sergio Iván
A16: ARG | B16: Argentina | E16: 1 | F16: Gonçalves, Claudio Javier
A17: CUB | B17: Cuba | D17: 1 | F17: Menéndez Rodríguez, Giraldo
A18: RSA | B18: South Africa | D18: 1 | F18: Knol, Everdinand
A19: SUI | B19: Switzerland | C19: 1 | F19: Baumgartner, Ulrich
A20: PHI | B20: Philippines | C20: 1 | F20: Simplina, Arthur
A21: TUR | B21: Türkiye | E21: 1 | F21: Kural, Aziz Serhat
A22: HUN | B22: Hungary | C22: 1 | F22: Csiba, Tibor
A23: EST | B23: Estonia | E23: 1 | F23: Kuusik, Jüri
A24: NED | B24: Netherlands | C24: 1 | F24: Jansen, Joop
A25: WLS | B25: Wales | C25: 1 | F25: Lockwood, Austin
A26: CZE | B26: Czechia | C26: 1 | F26: Mrkvička, Filip
A27: BUL | B27: Bulgaria | E27: 1 | F27: Marinov, Petyo
A28: PAN | B28: Panama | E28: 1 | F28: Rösch M., Hermann V.
A29: NCA | B29: Nicaragua | E29: 1 | F29: Bendaña Guerrero, Guy José
A30: GUA | B30: Guatemala | C30: 1 | F30: Blanco Gramajo, César Augusto
A31: POL | B31: Poland | C31: 1 | F31: Wojnar, Mariusz
A32: ROU | B32: Romania | D32: 1 | F32: Andreica-Navruc, Sebastian
A33: FRA | B33: France | C33: 1 | F33: Ruch, Eric
A34: SCO | B34: Scotland | C34: 1 | F34: MacMillen, Andrew N.
A35: INA | B35: Indonesia | E35: 1 | F35: Sitorus, Yosua
A36: JPN | B36: Japan | C36: 1 | F36: Hayashi, Koji
A37: LAT | B37: Latvia | C37: 1 | F37: Gaujens, Artis
A38: IRL | B38: Ireland | C38: 1 | F38: Salter, David
A39: USA | B39: U.S.A. | C39: 1 | F39: Bokar, Jason
A40: BEL | B40: Belgium | C40: 1 | F40: Clement, Paul
A41: UKR | B41: Ukraine | C41: 1 | F41: Horodyskyi, Oleh
A42: IND | B42: India | C42: 1 | F42: Chatterjee, Ambar
A43: ITA | B43: Italy | E43: 1 | F43: Ruggeri Laderchi, Giorgio
A44: GER | B44: Germany | E44: 1 | F44: Scheiba, Manfred
A45: FIN | B45: Finland | C45: 1 | F45: Sundqvist, Christer
A46: POR | B46: Portugal | E46: 1 | F46: Martins, Sérgio A.
A47: ENG | B47: England | C47: 1 | F47: Beckett, Phillip J.
A48: SWE | B48: Sweden | C48: 1 | F48: Söderberg, Per
A49: AUS | B49: Australia | D49: 1 | F49: Gray, Garvin
A50: CRO | B50: Croatia | C50: 1 | F50: Ivec, Ivan
A51: NOR | B51: Norway | D51: 1 | F51: Løvås, Roger
A52: DEN | B52: Denmark | C52: 1 | F52: Ottesen, Søren Rud
A53: ISR | B53: Israel | E53: 1 | F53: Dothan, Yoav
A54: BRA | B54: Brazil | C54: 1 | F54: Neves, Bianor de Oliveira
A55: ECU | B55: Ecuador | E55: 1 | F55: Bjazevic, Pavao
C57: For | D57: Against | E57: Abstain
B58: Total | C58: =SUM(C3:C56) -> 30 | D58: =SUM(D3:D56) -> 7 | E58: =SUM(E3:E56) -> 16

Sheet 2026-072
A1: 2026-072 Optional Use of the PCS system in all Types of ICCF Tournaments | B1: 2026-072 Optional Use of the PCS system in all Types of ICCF Tournaments | C1: 2026-072 Optional Use of the PCS system in all Types of ICCF Tournaments | D1: 2026-072 Optional Use of the PCS system in all Types of ICCF Tournaments | E1: 2026-072 Optional Use of the PCS system in all Types of ICCF Tournaments | F1: 2026-072 Optional Use of the PCS system in all Types of ICCF Tournaments
A2: Code | B2: Member Federation | C2: For | D2: Against | E2: Abstain | F2: Voting Member
A3: NED | B3: Netherlands | D3: 1 | F3: Jansen, Joop
A4: SUI | B4: Switzerland | D4: 1 | F4: Baumgartner, Ulrich
A5: POR | B5: Portugal | D5: 1 | F5: Martins, Sérgio A.
A6: CHI | B6: Chile | C6: 1 | F6: Toro Solís de Ovando, Guillermo F.
A7: LAT | B7: Latvia | C7: 1 | F7: Gaujens, Artis
A8: USA | B8: U.S.A. | C8: 1 | F8: Bokar, Jason
A9: ISL | B9: Iceland | D9: 1 | F9: Necchi, Sandro
A10: IND | B10: India | D10: 1 | F10: Chatterjee, Ambar
A11: CRO | B11: Croatia | C11: 1 | F11: Ivec, Ivan
A12: CZE | B12: Czechia | D12: 1 | F12: Mrkvička, Filip
A13: FIN | B13: Finland | D13: 1 | F13: Sundqvist, Christer
A14: BUL | B14: Bulgaria | C14: 1 | F14: Marinov, Petyo
A15: JPN | B15: Japan | C15: 1 | F15: Hayashi, Koji
A16: PHI | B16: Philippines | C16: 1 | F16: Simplina, Arthur
A17: CAN | B17: Canada | C17: 1 | F17: Demian, Valer-Eugen
A18: RSA | B18: South Africa | C18: 1 | F18: Knol, Everdinand
A19: ISR | B19: Israel | E19: 1 | F19: Dothan, Yoav
A20: NOR | B20: Norway | D20: 1 | F20: Løvås, Roger
A21: AUS | B21: Australia | D21: 1 | F21: Gray, Garvin
A22: LTU | B22: Lithuania | D22: 1 | F22: Chocenka, Dmitrijus
A23: DEN | B23: Denmark | C23: 1 | F23: Ottesen, Søren Rud
A24: IRL | B24: Ireland | C24: 1 | F24: Salter, David
A25: POL | B25: Poland | C25: 1 | F25: Wojnar, Mariusz
A26: CUB | B26: Cuba | C26: 1 | F26: Menéndez Rodríguez, Giraldo
A27: SCO | B27: Scotland | D27: 1 | F27: MacMillen, Andrew N.
A28: ARG | B28: Argentina | E28: 1 | F28: Gonçalves, Claudio Javier
A29: ROU | B29: Romania | C29: 1 | F29: Andreica-Navruc, Sebastian
A30: SVK | B30: Slovakia | C30: 1 | F30: Gaži, Miroslav
A31: BEL | B31: Belgium | E31: 1 | F31: Clement, Paul
A32: ESP | B32: Spain | E32: 1 | F32: de Andrés Senra, Sergio Iván
A33: HUN | B33: Hungary | D33: 1 | F33: Csiba, Tibor
A34: MEX | B34: Mexico | C34: 1 | F34: Mercader Martínez, Juan Gustavo
A35: PAN | B35: Panama | E35: 1 | F35: Rösch M., Hermann V.
A36: TUR | B36: Türkiye | D36: 1 | F36: Kural, Aziz Serhat
A37: INA | B37: Indonesia | E37: 1 | F37: Sitorus, Yosua
A38: NZL | B38: New Zealand | C38: 1 | F38: Freeman, Michael Roy
A39: GER | B39: Germany | C39: 1 | F39: Scheiba, Manfred
A40: ECU | B40: Ecuador | E40: 1 | F40: Bjazevic, Pavao
A41: LUX | B41: Luxembourg | E41: 1 | F41: Klauner, Thed
A42: GUA | B42: Guatemala | C42: 1 | F42: Blanco Gramajo, César Augusto
A43: FRA | B43: France | D43: 1 | F43: Ruch, Eric
A44: AUT | B44: Austria | E44: 1 | F44: Hamarat, Tunc
A45: SLO | B45: Slovenia | C45: 1 | F45: Šemrl, Marjan
A46: PER | B46: Peru | C46: 1 | F46: Acevedo Villalba, Angel
A47: ENG | B47: England | D47: 1 | F47: Beckett, Phillip J.
A48: EST | B48: Estonia | E48: 1 | F48: Kuusik, Jüri
A49: BRA | B49: Brazil | D49: 1 | F49: Neves, Bianor de Oliveira
A50: ITA | B50: Italy | E50: 1 | F50: Ruggeri Laderchi, Giorgio
A51: SWE | B51: Sweden | C51: 1 | F51: Söderberg, Per
A52: WLS | B52: Wales | C52: 1 | F52: Lockwood, Austin
A53: GRE | B53: Greece | C53: 1 | F53: Arbis, Fotis
A54: UKR | B54: Ukraine | D54: 1 | F54: Horodyskyi, Oleh
A55: NCA | B55: Nicaragua | E55: 1 | F55: Bendaña Guerrero, Guy José
C57: For | D57: Against | E57: Abstain
B58: Total | C58: =SUM(C3:C56) -> 24 | D58: =SUM(D3:D56) -> 17 | E58: =SUM(E3:E56) -> 12

Sheet 2026-073
A1: 2026-073 Adding 'Overall Points' to the Prediction Criterion System | B1: 2026-073 Adding 'Overall Points' to the Prediction Criterion System | C1: 2026-073 Adding 'Overall Points' to the Prediction Criterion System | D1: 2026-073 Adding 'Overall Points' to the Prediction Criterion System | E1: 2026-073 Adding 'Overall Points' to the Prediction Criterion System | F1: 2026-073 Adding 'Overall Points' to the Prediction Criterion System
A2: Code | B2: Member Federation | C2: For | D2: Against | E2: Abstain | F2: Voting Member
A3: FIN | B3: Finland | C3: 1 | F3: Sundqvist, Christer
A4: SWE | B4: Sweden | D4: 1 | F4: Söderberg, Per
A5: GER | B5: Germany | C5: 1 | F5: Scheiba, Manfred
A6: POR | B6: Portugal | D6: 1 | F6: Martins, Sérgio A.
A7: ISR | B7: Israel | E7: 1 | F7: Dothan, Yoav
A8: HUN | B8: Hungary | D8: 1 | F8: Csiba, Tibor
A9: BRA | B9: Brazil | C9: 1 | F9: Neves, Bianor de Oliveira
A10: GUA | B10: Guatemala | C10: 1 | F10: Blanco Gramajo, César Augusto
A11: POL | B11: Poland | C11: 1 | F11: Wojnar, Mariusz
A12: EST | B12: Estonia | E12: 1 | F12: Kuusik, Jüri
A13: ENG | B13: England | D13: 1 | F13: Beckett, Phillip J.
A14: UKR | B14: Ukraine | D14: 1 | F14: Horodyskyi, Oleh
A15: NOR | B15: Norway | D15: 1 | F15: Løvås, Roger
A16: SLO | B16: Slovenia | C16: 1 | F16: Šemrl, Marjan
A17: SVK | B17: Slovakia | C17: 1 | F17: Gaži, Miroslav
A18: MEX | B18: Mexico | D18: 1 | F18: Mercader Martínez, Juan Gustavo
A19: CZE | B19: Czechia | D19: 1 | F19: Mrkvička, Filip
A20: LTU | B20: Lithuania | D20: 1 | F20: Chocenka, Dmitrijus
A21: PHI | B21: Philippines | C21: 1 | F21: Simplina, Arthur
A22: GRE | B22: Greece | C22: 1 | F22: Arbis, Fotis
A23: AUT | B23: Austria | E23: 1 | F23: Hamarat, Tunc
A24: ROU | B24: Romania | C24: 1 | F24: Andreica-Navruc, Sebastian
A25: CAN | B25: Canada | C25: 1 | F25: Demian, Valer-Eugen
A26: ARG | B26: Argentina | E26: 1 | F26: Gonçalves, Claudio Javier
A27: ESP | B27: Spain | E27: 1 | F27: de Andrés Senra, Sergio Iván
A28: AUS | B28: Australia | D28: 1 | F28: Gray, Garvin
A29: PER | B29: Peru | E29: 1 | F29: Acevedo Villalba, Angel
A30: FRA | B30: France | D30: 1 | F30: Ruch, Eric
A31: USA | B31: U.S.A. | C31: 1 | F31: Bokar, Jason
A32: DEN | B32: Denmark | C32: 1 | F32: Ottesen, Søren Rud
A33: LAT | B33: Latvia | C33: 1 | F33: Gaujens, Artis
A34: RSA | B34: South Africa | C34: 1 | F34: Knol, Everdinand
A35: ISL | B35: Iceland | D35: 1 | F35: Necchi, Sandro
A36: LUX | B36: Luxembourg | E36: 1 | F36: Klauner, Thed
A37: NZL | B37: New Zealand | C37: 1 | F37: Freeman, Michael Roy
A38: ECU | B38: Ecuador | E38: 1 | F38: Bjazevic, Pavao
A39: ITA | B39: Italy | E39: 1 | F39: Ruggeri Laderchi, Giorgio
A40: CRO | B40: Croatia | C40: 1 | F40: Ivec, Ivan
A41: WLS | B41: Wales | C41: 1 | F41: Lockwood, Austin
A42: SUI | B42: Switzerland | D42: 1 | F42: Baumgartner, Ulrich
A43: IRL | B43: Ireland | D43: 1 | F43: Salter, David
A44: JPN | B44: Japan | C44: 1 | F44: Hayashi, Koji
A45: INA | B45: Indonesia | E45: 1 | F45: Sitorus, Yosua
A46: BEL | B46: Belgium | E46: 1 | F46: Clement, Paul
A47: CUB | B47: Cuba | C47: 1 | F47: Menéndez Rodríguez, Giraldo
A48: TUR | B48: Türkiye | D48: 1 | F48: Kural, Aziz Serhat
A49: IND | B49: India | E49: 1 | F49: Chatterjee, Ambar
A50: BUL | B50: Bulgaria | C50: 1 | F50: Marinov, Petyo
A51: NCA | B51: Nicaragua | E51: 1 | F51: Bendaña Guerrero, Guy José
A52: CHI | B52: Chile | C52: 1 | F52: Toro Solís de Ovando, Guillermo F.
A53: PAN | B53: Panama | E53: 1 | F53: Rösch M., Hermann V.
A54: NED | B54: Netherlands | D54: 1 | F54: Jansen, Joop
A55: SCO | B55: Scotland | C55: 1 | F55: MacMillen, Andrew N.
C57: For | D57: Against | E57: Abstain
B58: Total | C58: =SUM(C3:C56) -> 23 | D58: =SUM(D3:D56) -> 16 | E58: =SUM(E3:E56) -> 14

Sheet 2026-074
A1: 2026-074 Allow a Limited Trial of Rated and Title Unbalanced Opening Tournaments | B1: 2026-074 Allow a Limited Trial of Rated and Title Unbalanced Opening Tournaments | C1: 2026-074 Allow a Limited Trial of Rated and Title Unbalanced Opening Tournaments | D1: 2026-074 Allow a Limited Trial of Rated and Title Unbalanced Opening Tournaments | E1: 2026-074 Allow a Limited Trial of Rated and Title Unbalanced Opening Tournaments | F1: 2026-074 Allow a Limited Trial of Rated and Title Unbalanced Opening Tournaments
A2: Code | B2: Member Federation | C2: For | D2: Against | E2: Abstain | F2: Voting Member
A3: EST | B3: Estonia | E3: 1 | F3: Kuusik, Jüri
A4: CRO | B4: Croatia | C4: 1 | F4: Ivec, Ivan
A5: RSA | B5: South Africa | C5: 1 | F5: Knol, Everdinand
A6: CHI | B6: Chile | E6: 1 | F6: Toro Solís de Ovando, Guillermo F.
A7: LAT | B7: Latvia | C7: 1 | F7: Gaujens, Artis
A8: BRA | B8: Brazil | D8: 1 | F8: Neves, Bianor de Oliveira
A9: GUA | B9: Guatemala | C9: 1 | F9: Blanco Gramajo, César Augusto
A10: INA | B10: Indonesia | E10: 1 | F10: Sitorus, Yosua
A11: CAN | B11: Canada | D11: 1 | F11: Demian, Valer-Eugen
A12: NCA | B12: Nicaragua | E12: 1 | F12: Bendaña Guerrero, Guy José
A13: NED | B13: Netherlands | D13: 1 | F13: Jansen, Joop
A14: UKR | B14: Ukraine | C14: 1 | F14: Horodyskyi, Oleh
A15: ISR | B15: Israel | E15: 1 | F15: Dothan, Yoav
A16: SWE | B16: Sweden | C16: 1 | F16: Söderberg, Per
A17: GER | B17: Germany | C17: 1 | F17: Scheiba, Manfred
A18: TUR | B18: Türkiye | D18: 1 | F18: Kural, Aziz Serhat
A19: BUL | B19: Bulgaria | C19: 1 | F19: Marinov, Petyo
A20: DEN | B20: Denmark | E20: 1 | F20: Ottesen, Søren Rud
A21: PAN | B21: Panama | E21: 1 | F21: Rösch M., Hermann V.
A22: FRA | B22: France | C22: 1 | F22: Ruch, Eric
A23: POL | B23: Poland | C23: 1 | F23: Wojnar, Mariusz
A24: ENG | B24: England | C24: 1 | F24: Beckett, Phillip J.
A25: NZL | B25: New Zealand | C25: 1 | F25: Freeman, Michael Roy
A26: BEL | B26: Belgium | E26: 1 | F26: Clement, Paul
A27: AUT | B27: Austria | E27: 1 | F27: Hamarat, Tunc
A28: LUX | B28: Luxembourg | E28: 1 | F28: Klauner, Thed
A29: IRL | B29: Ireland | C29: 1 | F29: Salter, David
A30: PHI | B30: Philippines | C30: 1 | F30: Simplina, Arthur
A31: IND | B31: India | E31: 1 | F31: Chatterjee, Ambar
A32: ARG | B32: Argentina | E32: 1 | F32: Gonçalves, Claudio Javier
A33: LTU | B33: Lithuania | C33: 1 | F33: Chocenka, Dmitrijus
A34: MEX | B34: Mexico | D34: 1 | F34: Mercader Martínez, Juan Gustavo
A35: POR | B35: Portugal | E35: 1 | F35: Martins, Sérgio A.
A36: ITA | B36: Italy | E36: 1 | F36: Ruggeri Laderchi, Giorgio
A37: FIN | B37: Finland | C37: 1 | F37: Sundqvist, Christer
A38: ECU | B38: Ecuador | E38: 1 | F38: Bjazevic, Pavao
A39: SUI | B39: Switzerland | C39: 1 | F39: Baumgartner, Ulrich
A40: AUS | B40: Australia | D40: 1 | F40: Gray, Garvin
A41: GRE | B41: Greece | C41: 1 | F41: Arbis, Fotis
A42: ESP | B42: Spain | E42: 1 | F42: de Andrés Senra, Sergio Iván
A43: USA | B43: U.S.A. | C43: 1 | F43: Bokar, Jason
A44: PER | B44: Peru | E44: 1 | F44: Acevedo Villalba, Angel
A45: NOR | B45: Norway | D45: 1 | F45: Løvås, Roger
A46: CZE | B46: Czechia | C46: 1 | F46: Mrkvička, Filip
A47: WLS | B47: Wales | C47: 1 | F47: Lockwood, Austin
A48: ROU | B48: Romania | D48: 1 | F48: Andreica-Navruc, Sebastian
A49: SCO | B49: Scotland | C49: 1 | F49: MacMillen, Andrew N.
A50: ISL | B50: Iceland | D50: 1 | F50: Necchi, Sandro
A51: SVK | B51: Slovakia | C51: 1 | F51: Gaži, Miroslav
A52: JPN | B52: Japan | C52: 1 | F52: Hayashi, Koji
A53: SLO | B53: Slovenia | C53: 1 | F53: Šemrl, Marjan
A54: CUB | B54: Cuba | D54: 1 | F54: Menéndez Rodríguez, Giraldo
A55: HUN | B55: Hungary | C55: 1 | F55: Csiba, Tibor
C57: For | D57: Against | E57: Abstain
B58: Total | C58: =SUM(C3:C56) -> 26 | D58: =SUM(D3:D56) -> 10 | E58: =SUM(E3:E56) -> 17

Sheet 2026-075
A1: 2026-075 Shorter Triple Block Time Controls | B1: 2026-075 Shorter Triple Block Time Controls | C1: 2026-075 Shorter Triple Block Time Controls | D1: 2026-075 Shorter Triple Block Time Controls | E1: 2026-075 Shorter Triple Block Time Controls | F1: 2026-075 Shorter Triple Block Time Controls
A2: Code | B2: Member Federation | C2: For | D2: Against | E2: Abstain | F2: Voting Member
A3: NED | B3: Netherlands | D3: 1 | F3: Jansen, Joop
A4: CHI | B4: Chile | C4: 1 | F4: Toro Solís de Ovando, Guillermo F.
A5: ARG | B5: Argentina | E5: 1 | F5: Gonçalves, Claudio Javier
A6: CUB | B6: Cuba | C6: 1 | F6: Menéndez Rodríguez, Giraldo
A7: SVK | B7: Slovakia | D7: 1 | F7: Gaži, Miroslav
A8: WLS | B8: Wales | D8: 1 | F8: Lockwood, Austin
A9: PHI | B9: Philippines | D9: 1 | F9: Simplina, Arthur
A10: ESP | B10: Spain | E10: 1 | F10: de Andrés Senra, Sergio Iván
A11: ITA | B11: Italy | E11: 1 | F11: Ruggeri Laderchi, Giorgio
A12: ISR | B12: Israel | E12: 1 | F12: Dothan, Yoav
A13: ENG | B13: England | C13: 1 | F13: Beckett, Phillip J.
A14: USA | B14: U.S.A. | C14: 1 | F14: Bokar, Jason
A15: INA | B15: Indonesia | E15: 1 | F15: Sitorus, Yosua
A16: BUL | B16: Bulgaria | D16: 1 | F16: Marinov, Petyo
A17: SWE | B17: Sweden | D17: 1 | F17: Söderberg, Per
A18: GER | B18: Germany | D18: 1 | F18: Scheiba, Manfred
A19: FIN | B19: Finland | C19: 1 | F19: Sundqvist, Christer
A20: NZL | B20: New Zealand | D20: 1 | F20: Freeman, Michael Roy
A21: PER | B21: Peru | C21: 1 | F21: Acevedo Villalba, Angel
A22: ROU | B22: Romania | C22: 1 | F22: Andreica-Navruc, Sebastian
A23: NCA | B23: Nicaragua | E23: 1 | F23: Bendaña Guerrero, Guy José
A24: IRL | B24: Ireland | C24: 1 | F24: Salter, David
A25: LUX | B25: Luxembourg | E25: 1 | F25: Klauner, Thed
A26: IND | B26: India | C26: 1 | F26: Chatterjee, Ambar
A27: CZE | B27: Czechia | D27: 1 | F27: Mrkvička, Filip
A28: SUI | B28: Switzerland | D28: 1 | F28: Baumgartner, Ulrich
A29: EST | B29: Estonia | E29: 1 | F29: Kuusik, Jüri
A30: CRO | B30: Croatia | C30: 1 | F30: Ivec, Ivan
A31: NOR | B31: Norway | D31: 1 | F31: Løvås, Roger
A32: HUN | B32: Hungary | C32: 1 | F32: Csiba, Tibor
A33: JPN | B33: Japan | C33: 1 | F33: Hayashi, Koji
A34: AUS | B34: Australia | D34: 1 | F34: Gray, Garvin
A35: GUA | B35: Guatemala | C35: 1 | F35: Blanco Gramajo, César Augusto
A36: LTU | B36: Lithuania | C36: 1 | F36: Chocenka, Dmitrijus
A37: TUR | B37: Türkiye | D37: 1 | F37: Kural, Aziz Serhat
A38: FRA | B38: France | D38: 1 | F38: Ruch, Eric
A39: BEL | B39: Belgium | E39: 1 | F39: Clement, Paul
A40: PAN | B40: Panama | E40: 1 | F40: Rösch M., Hermann V.
A41: RSA | B41: South Africa | D41: 1 | F41: Knol, Everdinand
A42: SCO | B42: Scotland | C42: 1 | F42: MacMillen, Andrew N.
A43: LAT | B43: Latvia | C43: 1 | F43: Gaujens, Artis
A44: GRE | B44: Greece | C44: 1 | F44: Arbis, Fotis
A45: POL | B45: Poland | C45: 1 | F45: Wojnar, Mariusz
A46: BRA | B46: Brazil | C46: 1 | F46: Neves, Bianor de Oliveira
A47: ECU | B47: Ecuador | E47: 1 | F47: Bjazevic, Pavao
A48: CAN | B48: Canada | D48: 1 | F48: Demian, Valer-Eugen
A49: AUT | B49: Austria | E49: 1 | F49: Hamarat, Tunc
A50: UKR | B50: Ukraine | C50: 1 | F50: Horodyskyi, Oleh
A51: ISL | B51: Iceland | C51: 1 | F51: Necchi, Sandro
A52: SLO | B52: Slovenia | D52: 1 | F52: Šemrl, Marjan
A53: POR | B53: Portugal | E53: 1 | F53: Martins, Sérgio A.
A54: MEX | B54: Mexico | C54: 1 | F54: Mercader Martínez, Juan Gustavo
A55: DEN | B55: Denmark | C55: 1 | F55: Ottesen, Søren Rud
C57: For | D57: Against | E57: Abstain
B58: Total | C58: =SUM(C3:C56) -> 23 | D58: =SUM(D3:D56) -> 17 | E58: =SUM(E3:E56) -> 13

Sheet 2026-077
A1: 2026-077 Lifting the Suspension of the Russian Federation as a Member of ICCF | B1: 2026-077 Lifting the Suspension of the Russian Federation as a Member of ICCF | C1: 2026-077 Lifting the Suspension of the Russian Federation as a Member of ICCF | D1: 2026-077 Lifting the Suspension of the Russian Federation as a Member of ICCF | E1: 2026-077 Lifting the Suspension of the Russian Federation as a Member of ICCF | F1: 2026-077 Lifting the Suspension of the Russian Federation as a Member of ICCF
A2: Code | B2: Member Federation | C2: For | D2: Against | E2: Abstain | F2: Voting Member
A3: SWE | B3: Sweden | D3: 1 | F3: Söderberg, Per
A4: BEL | B4: Belgium | D4: 1 | F4: Clement, Paul
A5: INA | B5: Indonesia | E5: 1 | F5: Sitorus, Yosua
A6: CHI | B6: Chile | C6: 1 | F6: Toro Solís de Ovando, Guillermo F.
A7: SVK | B7: Slovakia | C7: 1 | F7: Gaži, Miroslav
A8: HUN | B8: Hungary | C8: 1 | F8: Csiba, Tibor
A9: AUT | B9: Austria | E9: 1 | F9: Hamarat, Tunc
A10: NZL | B10: New Zealand | D10: 1 | F10: Freeman, Michael Roy
A11: FRA | B11: France | D11: 1 | F11: Ruch, Eric
A12: WLS | B12: Wales | D12: 1 | F12: Lockwood, Austin
A13: CUB | B13: Cuba | C13: 1 | F13: Menéndez Rodríguez, Giraldo
A14: AUS | B14: Australia | D14: 1 | F14: Gray, Garvin
A15: DEN | B15: Denmark | D15: 1 | F15: Ottesen, Søren Rud
A16: ROU | B16: Romania | D16: 1 | F16: Andreica-Navruc, Sebastian
A17: PHI | B17: Philippines | C17: 1 | F17: Simplina, Arthur
A18: ARG | B18: Argentina | E18: 1 | F18: Gonçalves, Claudio Javier
A19: ESP | B19: Spain | E19: 1 | F19: de Andrés Senra, Sergio Iván
A20: ITA | B20: Italy | E20: 1 | F20: Ruggeri Laderchi, Giorgio
A21: SCO | B21: Scotland | D21: 1 | F21: MacMillen, Andrew N.
A22: TUR | B22: Türkiye | C22: 1 | F22: Kural, Aziz Serhat
A23: LTU | B23: Lithuania | D23: 1 | F23: Chocenka, Dmitrijus
A24: LUX | B24: Luxembourg | D24: 1 | F24: Klauner, Thed
A25: IRL | B25: Ireland | D25: 1 | F25: Salter, David
A26: MEX | B26: Mexico | C26: 1 | F26: Mercader Martínez, Juan Gustavo
A27: UKR | B27: Ukraine | D27: 1 | F27: Horodyskyi, Oleh
A28: RSA | B28: South Africa | D28: 1 | F28: Knol, Everdinand
A29: EST | B29: Estonia | E29: 1 | F29: Kuusik, Jüri
A30: FIN | B30: Finland | D30: 1 | F30: Sundqvist, Christer
A31: NCA | B31: Nicaragua | E31: 1 | F31: Bendaña Guerrero, Guy José
A32: LAT | B32: Latvia | D32: 1 | F32: Gaujens, Artis
A33: NED | B33: Netherlands | D33: 1 | F33: Jansen, Joop
A34: SUI | B34: Switzerland | E34: 1 | F34: Baumgartner, Ulrich
A35: GUA | B35: Guatemala | E35: 1 | F35: Blanco Gramajo, César Augusto
A36: NOR | B36: Norway | D36: 1 | F36: Løvås, Roger
A37: POR | B37: Portugal | D37: 1 | F37: Martins, Sérgio A.
A38: BRA | B38: Brazil | D38: 1 | F38: Neves, Bianor de Oliveira
A39: IND | B39: India | E39: 1 | F39: Chatterjee, Ambar
A40: PAN | B40: Panama | E40: 1 | F40: Rösch M., Hermann V.
A41: CAN | B41: Canada | D41: 1 | F41: Demian, Valer-Eugen
A42: PER | B42: Peru | D42: 1 | F42: Acevedo Villalba, Angel
A43: CRO | B43: Croatia | C43: 1 | F43: Ivec, Ivan
A44: ISR | B44: Israel | E44: 1 | F44: Dothan, Yoav
A45: ISL | B45: Iceland | C45: 1 | F45: Necchi, Sandro
A46: ECU | B46: Ecuador | E46: 1 | F46: Bjazevic, Pavao
A47: ENG | B47: England | D47: 1 | F47: Beckett, Phillip J.
A48: USA | B48: U.S.A. | C48: 1 | F48: Bokar, Jason
A49: POL | B49: Poland | D49: 1 | F49: Wojnar, Mariusz
A50: GRE | B50: Greece | E50: 1 | F50: Arbis, Fotis
A51: CZE | B51: Czechia | D51: 1 | F51: Mrkvička, Filip
A52: SLO | B52: Slovenia | E52: 1 | F52: Šemrl, Marjan
A53: JPN | B53: Japan | C53: 1 | F53: Hayashi, Koji
A54: BUL | B54: Bulgaria | C54: 1 | F54: Marinov, Petyo
A55: GER | B55: Germany | D55: 1 | F55: Scheiba, Manfred
C57: For | D57: Against | E57: Abstain
B58: Total | C58: =SUM(C3:C56) -> 12 | D58: =SUM(D3:D56) -> 26 | E58: =SUM(E3:E56) -> 15

Sheet 2026-078
A1: 2026-078 Lifting the Suspension of the Belarus Federation as a Member of ICCF | B1: 2026-078 Lifting the Suspension of the Belarus Federation as a Member of ICCF | C1: 2026-078 Lifting the Suspension of the Belarus Federation as a Member of ICCF | D1: 2026-078 Lifting the Suspension of the Belarus Federation as a Member of ICCF | E1: 2026-078 Lifting the Suspension of the Belarus Federation as a Member of ICCF | F1: 2026-078 Lifting the Suspension of the Belarus Federation as a Member of ICCF
A2: Code | B2: Member Federation | C2: For | D2: Against | E2: Abstain | F2: Voting Member
A3: NCA | B3: Nicaragua | E3: 1 | F3: Bendaña Guerrero, Guy José
A4: ECU | B4: Ecuador | E4: 1 | F4: Bjazevic, Pavao
A5: BEL | B5: Belgium | D5: 1 | F5: Clement, Paul
A6: INA | B6: Indonesia | E6: 1 | F6: Sitorus, Yosua
A7: POL | B7: Poland | D7: 1 | F7: Wojnar, Mariusz
A8: EST | B8: Estonia | E8: 1 | F8: Kuusik, Jüri
A9: ROU | B9: Romania | D9: 1 | F9: Andreica-Navruc, Sebastian
A10: HUN | B10: Hungary | C10: 1 | F10: Csiba, Tibor
A11: LTU | B11: Lithuania | D11: 1 | F11: Chocenka, Dmitrijus
A12: CUB | B12: Cuba | C12: 1 | F12: Menéndez Rodríguez, Giraldo
A13: IND | B13: India | C13: 1 | F13: Chatterjee, Ambar
A14: BRA | B14: Brazil | D14: 1 | F14: Neves, Bianor de Oliveira
A15: CAN | B15: Canada | D15: 1 | F15: Demian, Valer-Eugen
A16: PER | B16: Peru | D16: 1 | F16: Acevedo Villalba, Angel
A17: SUI | B17: Switzerland | E17: 1 | F17: Baumgartner, Ulrich
A18: GRE | B18: Greece | E18: 1 | F18: Arbis, Fotis
A19: CZE | B19: Czechia | D19: 1 | F19: Mrkvička, Filip
A20: FIN | B20: Finland | D20: 1 | F20: Sundqvist, Christer
A21: GUA | B21: Guatemala | E21: 1 | F21: Blanco Gramajo, César Augusto
A22: PAN | B22: Panama | E22: 1 | F22: Rösch M., Hermann V.
A23: ENG | B23: England | D23: 1 | F23: Beckett, Phillip J.
A24: AUT | B24: Austria | E24: 1 | F24: Hamarat, Tunc
A25: ARG | B25: Argentina | E25: 1 | F25: Gonçalves, Claudio Javier
A26: FRA | B26: France | D26: 1 | F26: Ruch, Eric
A27: MEX | B27: Mexico | C27: 1 | F27: Mercader Martínez, Juan Gustavo
A28: DEN | B28: Denmark | D28: 1 | F28: Ottesen, Søren Rud
A29: PHI | B29: Philippines | C29: 1 | F29: Simplina, Arthur
A30: CHI | B30: Chile | C30: 1 | F30: Toro Solís de Ovando, Guillermo F.
A31: SVK | B31: Slovakia | C31: 1 | F31: Gaži, Miroslav
A32: TUR | B32: Türkiye | C32: 1 | F32: Kural, Aziz Serhat
A33: NED | B33: Netherlands | D33: 1 | F33: Jansen, Joop
A34: POR | B34: Portugal | D34: 1 | F34: Martins, Sérgio A.
A35: IRL | B35: Ireland | D35: 1 | F35: Salter, David
A36: NZL | B36: New Zealand | C36: 1 | F36: Freeman, Michael Roy
A37: LUX | B37: Luxembourg | D37: 1 | F37: Klauner, Thed
A38: ISR | B38: Israel | E38: 1 | F38: Dothan, Yoav
A39: WLS | B39: Wales | D39: 1 | F39: Lockwood, Austin
A40: UKR | B40: Ukraine | D40: 1 | F40: Horodyskyi, Oleh
A41: SCO | B41: Scotland | D41: 1 | F41: MacMillen, Andrew N.
A42: USA | B42: U.S.A. | C42: 1 | F42: Bokar, Jason
A43: GER | B43: Germany | D43: 1 | F43: Scheiba, Manfred
A44: AUS | B44: Australia | D44: 1 | F44: Gray, Garvin
A45: JPN | B45: Japan | C45: 1 | F45: Hayashi, Koji
A46: ESP | B46: Spain | E46: 1 | F46: de Andrés Senra, Sergio Iván
A47: SWE | B47: Sweden | D47: 1 | F47: Söderberg, Per
A48: RSA | B48: South Africa | D48: 1 | F48: Knol, Everdinand
A49: SLO | B49: Slovenia | E49: 1 | F49: Šemrl, Marjan
A50: CRO | B50: Croatia | C50: 1 | F50: Ivec, Ivan
A51: ITA | B51: Italy | E51: 1 | F51: Ruggeri Laderchi, Giorgio
A52: ISL | B52: Iceland | C52: 1 | F52: Necchi, Sandro
A53: BUL | B53: Bulgaria | C53: 1 | F53: Marinov, Petyo
A54: LAT | B54: Latvia | D54: 1 | F54: Gaujens, Artis
A55: NOR | B55: Norway | D55: 1 | F55: Løvås, Roger
C57: For | D57: Against | E57: Abstain
B58: Total | C58: =SUM(C3:C56) -> 14 | D58: =SUM(D3:D56) -> 25 | E58: =SUM(E3:E56) -> 14

Sheet 2026-080
A1: 2026-080 Amendments to the Triple Block Time Control System (TBS) | B1: 2026-080 Amendments to the Triple Block Time Control System (TBS) | C1: 2026-080 Amendments to the Triple Block Time Control System (TBS) | D1: 2026-080 Amendments to the Triple Block Time Control System (TBS) | E1: 2026-080 Amendments to the Triple Block Time Control System (TBS) | F1: 2026-080 Amendments to the Triple Block Time Control System (TBS)
A2: Code | B2: Member Federation | C2: For | D2: Against | E2: Abstain | F2: Voting Member
A3: UKR | B3: Ukraine | D3: 1 | F3: Horodyskyi, Oleh
A4: TUR | B4: Türkiye | C4: 1 | F4: Kural, Aziz Serhat
A5: LTU | B5: Lithuania | D5: 1 | F5: Chocenka, Dmitrijus
A6: ESP | B6: Spain | E6: 1 | F6: de Andrés Senra, Sergio Iván
A7: ISR | B7: Israel | E7: 1 | F7: Dothan, Yoav
A8: NED | B8: Netherlands | D8: 1 | F8: Jansen, Joop
A9: POR | B9: Portugal | D9: 1 | F9: Martins, Sérgio A.
A10: HUN | B10: Hungary | D10: 1 | F10: Csiba, Tibor
A11: DEN | B11: Denmark | D11: 1 | F11: Ottesen, Søren Rud
A12: BRA | B12: Brazil | D12: 1 | F12: Neves, Bianor de Oliveira
A13: FIN | B13: Finland | D13: 1 | F13: Sundqvist, Christer
A14: BEL | B14: Belgium | E14: 1 | F14: Clement, Paul
A15: BUL | B15: Bulgaria | D15: 1 | F15: Marinov, Petyo
A16: CZE | B16: Czechia | D16: 1 | F16: Mrkvička, Filip
A17: AUS | B17: Australia | D17: 1 | F17: Gray, Garvin
A18: PER | B18: Peru | E18: 1 | F18: Acevedo Villalba, Angel
A19: INA | B19: Indonesia | E19: 1 | F19: Sitorus, Yosua
A20: SWE | B20: Sweden | D20: 1 | F20: Söderberg, Per
A21: GUA | B21: Guatemala | E21: 1 | F21: Blanco Gramajo, César Augusto
A22: ENG | B22: England | E22: 1 | F22: Beckett, Phillip J.
A23: WLS | B23: Wales | D23: 1 | F23: Lockwood, Austin
A24: CRO | B24: Croatia | C24: 1 | F24: Ivec, Ivan
A25: POL | B25: Poland | D25: 1 | F25: Wojnar, Mariusz
A26: NOR | B26: Norway | C26: 1 | F26: Løvås, Roger
A27: ITA | B27: Italy | E27: 1 | F27: Ruggeri Laderchi, Giorgio
A28: ARG | B28: Argentina | E28: 1 | F28: Gonçalves, Claudio Javier
A29: PAN | B29: Panama | E29: 1 | F29: Rösch M., Hermann V.
A30: IND | B30: India | D30: 1 | F30: Chatterjee, Ambar
A31: GRE | B31: Greece | C31: 1 | F31: Arbis, Fotis
A32: SLO | B32: Slovenia | D32: 1 | F32: Šemrl, Marjan
A33: NZL | B33: New Zealand | D33: 1 | F33: Freeman, Michael Roy
A34: USA | B34: U.S.A. | D34: 1 | F34: Bokar, Jason
A35: MEX | B35: Mexico | C35: 1 | F35: Mercader Martínez, Juan Gustavo
A36: SUI | B36: Switzerland | D36: 1 | F36: Baumgartner, Ulrich
A37: GER | B37: Germany | D37: 1 | F37: Scheiba, Manfred
A38: CUB | B38: Cuba | D38: 1 | F38: Menéndez Rodríguez, Giraldo
A39: LUX | B39: Luxembourg | E39: 1 | F39: Klauner, Thed
A40: IRL | B40: Ireland | D40: 1 | F40: Salter, David
A41: AUT | B41: Austria | E41: 1 | F41: Hamarat, Tunc
A42: FRA | B42: France | D42: 1 | F42: Ruch, Eric
A43: ROU | B43: Romania | D43: 1 | F43: Andreica-Navruc, Sebastian
A44: SVK | B44: Slovakia | D44: 1 | F44: Gaži, Miroslav
A45: LAT | B45: Latvia | C45: 1 | F45: Gaujens, Artis
A46: CHI | B46: Chile | C46: 1 | F46: Toro Solís de Ovando, Guillermo F.
A47: NCA | B47: Nicaragua | E47: 1 | F47: Bendaña Guerrero, Guy José
A48: EST | B48: Estonia | E48: 1 | F48: Kuusik, Jüri
A49: SCO | B49: Scotland | D49: 1 | F49: MacMillen, Andrew N.
A50: ISL | B50: Iceland | D50: 1 | F50: Necchi, Sandro
A51: CAN | B51: Canada | D51: 1 | F51: Demian, Valer-Eugen
A52: ECU | B52: Ecuador | E52: 1 | F52: Bjazevic, Pavao
A53: JPN | B53: Japan | D53: 1 | F53: Hayashi, Koji
A54: RSA | B54: South Africa | D54: 1 | F54: Knol, Everdinand
A55: PHI | B55: Philippines | E55: 1 | F55: Simplina, Arthur
C57: For | D57: Against | E57: Abstain
B58: Total | C58: =SUM(C3:C56) -> 7 | D58: =SUM(D3:D56) -> 30 | E58: =SUM(E3:E56) -> 16

Sheet 2026-081
A1: 2026-081 Suspension of ICCF Players Representing Russia | B1: 2026-081 Suspension of ICCF Players Representing Russia | C1: 2026-081 Suspension of ICCF Players Representing Russia | D1: 2026-081 Suspension of ICCF Players Representing Russia | E1: 2026-081 Suspension of ICCF Players Representing Russia | F1: 2026-081 Suspension of ICCF Players Representing Russia
A2: Code | B2: Member Federation | C2: For | D2: Against | E2: Abstain | F2: Voting Member
A3: FIN | B3: Finland | C3: 1 | F3: Sundqvist, Christer
A4: LTU | B4: Lithuania | D4: 1 | F4: Chocenka, Dmitrijus
A5: SWE | B5: Sweden | D5: 1 | F5: Söderberg, Per
A6: POL | B6: Poland | E6: 1 | F6: Wojnar, Mariusz
A7: GUA | B7: Guatemala | D7: 1 | F7: Blanco Gramajo, César Augusto
A8: CUB | B8: Cuba | D8: 1 | F8: Menéndez Rodríguez, Giraldo
A9: AUS | B9: Australia | D9: 1 | F9: Gray, Garvin
A10: SLO | B10: Slovenia | D10: 1 | F10: Šemrl, Marjan
A11: FRA | B11: France | D11: 1 | F11: Ruch, Eric
A12: GER | B12: Germany | D12: 1 | F12: Scheiba, Manfred
A13: ENG | B13: England | D13: 1 | F13: Beckett, Phillip J.
A14: ARG | B14: Argentina | E14: 1 | F14: Gonçalves, Claudio Javier
A15: ESP | B15: Spain | E15: 1 | F15: de Andrés Senra, Sergio Iván
A16: MEX | B16: Mexico | D16: 1 | F16: Mercader Martínez, Juan Gustavo
A17: POR | B17: Portugal | D17: 1 | F17: Martins, Sérgio A.
A18: CAN | B18: Canada | D18: 1 | F18: Demian, Valer-Eugen
A19: BRA | B19: Brazil | D19: 1 | F19: Neves, Bianor de Oliveira
A20: UKR | B20: Ukraine | C20: 1 | F20: Horodyskyi, Oleh
A21: TUR | B21: Türkiye | D21: 1 | F21: Kural, Aziz Serhat
A22: CZE | B22: Czechia | D22: 1 | F22: Mrkvička, Filip
A23: ISL | B23: Iceland | D23: 1 | F23: Necchi, Sandro
A24: ISR | B24: Israel | E24: 1 | F24: Dothan, Yoav
A25: BUL | B25: Bulgaria | D25: 1 | F25: Marinov, Petyo
A26: EST | B26: Estonia | E26: 1 | F26: Kuusik, Jüri
A27: IND | B27: India | D27: 1 | F27: Chatterjee, Ambar
A28: ITA | B28: Italy | E28: 1 | F28: Ruggeri Laderchi, Giorgio
A29: ROU | B29: Romania | D29: 1 | F29: Andreica-Navruc, Sebastian
A30: GRE | B30: Greece | E30: 1 | F30: Arbis, Fotis
A31: INA | B31: Indonesia | E31: 1 | F31: Sitorus, Yosua
A32: BEL | B32: Belgium | D32: 1 | F32: Clement, Paul
A33: LUX | B33: Luxembourg | D33: 1 | F33: Klauner, Thed
A34: SUI | B34: Switzerland | D34: 1 | F34: Baumgartner, Ulrich
A35: PER | B35: Peru | D35: 1 | F35: Acevedo Villalba, Angel
A36: LAT | B36: Latvia | D36: 1 | F36: Gaujens, Artis
A37: NED | B37: Netherlands | C37: 1 | F37: Jansen, Joop
A38: PAN | B38: Panama | E38: 1 | F38: Rösch M., Hermann V.
A39: IRL | B39: Ireland | C39: 1 | F39: Salter, David
A40: RSA | B40: South Africa | D40: 1 | F40: Knol, Everdinand
A41: WLS | B41: Wales | D41: 1 | F41: Lockwood, Austin
A42: SVK | B42: Slovakia | D42: 1 | F42: Gaži, Miroslav
A43: NOR | B43: Norway | D43: 1 | F43: Løvås, Roger
A44: ECU | B44: Ecuador | E44: 1 | F44: Bjazevic, Pavao
A45: USA | B45: U.S.A. | D45: 1 | F45: Bokar, Jason
A46: NZL | B46: New Zealand | D46: 1 | F46: Freeman, Michael Roy
A47: NCA | B47: Nicaragua | E47: 1 | F47: Bendaña Guerrero, Guy José
A48: HUN | B48: Hungary | D48: 1 | F48: Csiba, Tibor
A49: CHI | B49: Chile | D49: 1 | F49: Toro Solís de Ovando, Guillermo F.
A50: SCO | B50: Scotland | D50: 1 | F50: MacMillen, Andrew N.
A51: CRO | B51: Croatia | D51: 1 | F51: Ivec, Ivan
A52: JPN | B52: Japan | D52: 1 | F52: Hayashi, Koji
A53: PHI | B53: Philippines | D53: 1 | F53: Simplina, Arthur
A54: DEN | B54: Denmark | E54: 1 | F54: Ottesen, Søren Rud
A55: AUT | B55: Austria | E55: 1 | F55: Hamarat, Tunc
C57: For | D57: Against | E57: Abstain
B58: Total | C58: =SUM(C3:C56) -> 4 | D58: =SUM(D3:D56) -> 36 | E58: =SUM(E3:E56) -> 13

Sheet 2026-082
A1: 2026-082 Suspension of ICCF Players Representing Belarus | B1: 2026-082 Suspension of ICCF Players Representing Belarus | C1: 2026-082 Suspension of ICCF Players Representing Belarus | D1: 2026-082 Suspension of ICCF Players Representing Belarus | E1: 2026-082 Suspension of ICCF Players Representing Belarus | F1: 2026-082 Suspension of ICCF Players Representing Belarus
A2: Code | B2: Member Federation | C2: For | D2: Against | E2: Abstain | F2: Voting Member
A3: ROU | B3: Romania | E3: 1 | F3: Andreica-Navruc, Sebastian
A4: BRA | B4: Brazil | D4: 1 | F4: Neves, Bianor de Oliveira
A5: CRO | B5: Croatia | D5: 1 | F5: Ivec, Ivan
A6: UKR | B6: Ukraine | C6: 1 | F6: Horodyskyi, Oleh
A7: PER | B7: Peru | D7: 1 | F7: Acevedo Villalba, Angel
A8: AUT | B8: Austria | E8: 1 | F8: Hamarat, Tunc
A9: BEL | B9: Belgium | D9: 1 | F9: Clement, Paul
A10: CZE | B10: Czechia | D10: 1 | F10: Mrkvička, Filip
A11: AUS | B11: Australia | D11: 1 | F11: Gray, Garvin
A12: CAN | B12: Canada | D12: 1 | F12: Demian, Valer-Eugen
A13: MEX | B13: Mexico | D13: 1 | F13: Mercader Martínez, Juan Gustavo
A14: ESP | B14: Spain | E14: 1 | F14: de Andrés Senra, Sergio Iván
A15: IND | B15: India | D15: 1 | F15: Chatterjee, Ambar
A16: EST | B16: Estonia | E16: 1 | F16: Kuusik, Jüri
A17: INA | B17: Indonesia | E17: 1 | F17: Sitorus, Yosua
A18: POL | B18: Poland | E18: 1 | F18: Wojnar, Mariusz
A19: SCO | B19: Scotland | D19: 1 | F19: MacMillen, Andrew N.
A20: WLS | B20: Wales | D20: 1 | F20: Lockwood, Austin
A21: ECU | B21: Ecuador | E21: 1 | F21: Bjazevic, Pavao
A22: GUA | B22: Guatemala | D22: 1 | F22: Blanco Gramajo, César Augusto
A23: SUI | B23: Switzerland | E23: 1 | F23: Baumgartner, Ulrich
A24: JPN | B24: Japan | D24: 1 | F24: Hayashi, Koji
A25: PHI | B25: Philippines | D25: 1 | F25: Simplina, Arthur
A26: GER | B26: Germany | D26: 1 | F26: Scheiba, Manfred
A27: NZL | B27: New Zealand | D27: 1 | F27: Freeman, Michael Roy
A28: HUN | B28: Hungary | D28: 1 | F28: Csiba, Tibor
A29: FIN | B29: Finland | C29: 1 | F29: Sundqvist, Christer
A30: GRE | B30: Greece | E30: 1 | F30: Arbis, Fotis
A31: SWE | B31: Sweden | D31: 1 | F31: Söderberg, Per
A32: ARG | B32: Argentina | E32: 1 | F32: Gonçalves, Claudio Javier
A33: USA | B33: U.S.A. | D33: 1 | F33: Bokar, Jason
A34: CHI | B34: Chile | D34: 1 | F34: Toro Solís de Ovando, Guillermo F.
A35: ENG | B35: England | D35: 1 | F35: Beckett, Phillip J.
A36: LUX | B36: Luxembourg | D36: 1 | F36: Klauner, Thed
A37: DEN | B37: Denmark | E37: 1 | F37: Ottesen, Søren Rud
A38: LTU | B38: Lithuania | D38: 1 | F38: Chocenka, Dmitrijus
A39: TUR | B39: Türkiye | D39: 1 | F39: Kural, Aziz Serhat
A40: ISR | B40: Israel | E40: 1 | F40: Dothan, Yoav
A41: IRL | B41: Ireland | C41: 1 | F41: Salter, David
A42: CUB | B42: Cuba | D42: 1 | F42: Menéndez Rodríguez, Giraldo
A43: LAT | B43: Latvia | C43: 1 | F43: Gaujens, Artis
A44: NOR | B44: Norway | D44: 1 | F44: Løvås, Roger
A45: POR | B45: Portugal | D45: 1 | F45: Martins, Sérgio A.
A46: FRA | B46: France | D46: 1 | F46: Ruch, Eric
A47: PAN | B47: Panama | E47: 1 | F47: Rösch M., Hermann V.
A48: SVK | B48: Slovakia | D48: 1 | F48: Gaži, Miroslav
A49: ITA | B49: Italy | E49: 1 | F49: Ruggeri Laderchi, Giorgio
A50: NED | B50: Netherlands | C50: 1 | F50: Jansen, Joop
A51: ISL | B51: Iceland | D51: 1 | F51: Necchi, Sandro
A52: NCA | B52: Nicaragua | E52: 1 | F52: Bendaña Guerrero, Guy José
A53: RSA | B53: South Africa | E53: 1 | F53: Knol, Everdinand
A54: BUL | B54: Bulgaria | D54: 1 | F54: Marinov, Petyo
A55: SLO | B55: Slovenia | D55: 1 | F55: Šemrl, Marjan
C57: For | D57: Against | E57: Abstain
B58: Total | C58: =SUM(C3:C56) -> 5 | D58: =SUM(D3:D56) -> 32 | E58: =SUM(E3:E56) -> 16

Sheet 2026-090
A1: 2026-090 Offer to Host the 2027 ICCF Congress in Manila, Philippines [conflicts with 2026-091] | B1: 2026-090 Offer to Host the 2027 ICCF Congress in Manila, Philippines [conflicts with 2026-091] | C1: 2026-090 Offer to Host the 2027 ICCF Congress in Manila, Philippines [conflicts with 2026-091] | D1: 2026-090 Offer to Host the 2027 ICCF Congress in Manila, Philippines [conflicts with 2026-091] | E1: 2026-090 Offer to Host the 2027 ICCF Congress in Manila, Philippines [conflicts with 2026-091] | F1: 2026-090 Offer to Host the 2027 ICCF Congress in Manila, Philippines [conflicts with 2026-091]
A2: Code | B2: Member Federation | C2: For | D2: Against | E2: Abstain | F2: Voting Member
A3: BUL | B3: Bulgaria | C3: 1 | F3: Marinov, Petyo
A4: BRA | B4: Brazil | E4: 1 | F4: Neves, Bianor de Oliveira
A5: AUT | B5: Austria | E5: 1 | F5: Hamarat, Tunc
A6: ECU | B6: Ecuador | E6: 1 | F6: Bjazevic, Pavao
A7: RSA | B7: South Africa | E7: 1 | F7: Knol, Everdinand
A8: NOR | B8: Norway | D8: 1 | F8: Løvås, Roger
A9: POR | B9: Portugal | D9: 1 | F9: Martins, Sérgio A.
A10: ISR | B10: Israel | E10: 1 | F10: Dothan, Yoav
A11: GER | B11: Germany | E11: 1 | F11: Scheiba, Manfred
A12: LUX | B12: Luxembourg | E12: 1 | F12: Klauner, Thed
A13: PER | B13: Peru | D13: 1 | F13: Acevedo Villalba, Angel
A14: HUN | B14: Hungary | E14: 1 | F14: Csiba, Tibor
A15: GRE | B15: Greece | C15: 1 | F15: Arbis, Fotis
A16: ISL | B16: Iceland | C16: 1 | F16: Necchi, Sandro
A17: POL | B17: Poland | C17: 1 | F17: Wojnar, Mariusz
A18: JPN | B18: Japan | C18: 1 | F18: Hayashi, Koji
A19: SLO | B19: Slovenia | D19: 1 | F19: Šemrl, Marjan
A20: WLS | B20: Wales | D20: 1 | F20: Lockwood, Austin
A21: TUR | B21: Türkiye | C21: 1 | F21: Kural, Aziz Serhat
A22: ARG | B22: Argentina | E22: 1 | F22: Gonçalves, Claudio Javier
A23: BEL | B23: Belgium | E23: 1 | F23: Clement, Paul
A24: INA | B24: Indonesia | E24: 1 | F24: Sitorus, Yosua
A25: IND | B25: India | C25: 1 | F25: Chatterjee, Ambar
A26: EST | B26: Estonia | E26: 1 | F26: Kuusik, Jüri
A27: DEN | B27: Denmark | D27: 1 | F27: Ottesen, Søren Rud
A28: FRA | B28: France | C28: 1 | F28: Ruch, Eric
A29: ITA | B29: Italy | E29: 1 | F29: Ruggeri Laderchi, Giorgio
A30: CRO | B30: Croatia | D30: 1 | F30: Ivec, Ivan
A31: IRL | B31: Ireland | E31: 1 | F31: Salter, David
A32: NZL | B32: New Zealand | C32: 1 | F32: Freeman, Michael Roy
A33: ROU | B33: Romania | D33: 1 | F33: Andreica-Navruc, Sebastian
A34: PHI | B34: Philippines | C34: 1 | F34: Simplina, Arthur
A35: ESP | B35: Spain | E35: 1 | F35: de Andrés Senra, Sergio Iván
A36: AUS | B36: Australia | C36: 1 | F36: Gray, Garvin
A37: SWE | B37: Sweden | D37: 1 | F37: Söderberg, Per
A38: UKR | B38: Ukraine | D38: 1 | F38: Horodyskyi, Oleh
A39: CAN | B39: Canada | D39: 1 | F39: Demian, Valer-Eugen
A40: SVK | B40: Slovakia | E40: 1 | F40: Gaži, Miroslav
A41: MEX | B41: Mexico | D41: 1 | F41: Mercader Martínez, Juan Gustavo
A42: CHI | B42: Chile | E42: 1 | F42: Toro Solís de Ovando, Guillermo F.
A43: GUA | B43: Guatemala | E43: 1 | F43: Blanco Gramajo, César Augusto
A44: LTU | B44: Lithuania | D44: 1 | F44: Chocenka, Dmitrijus
A45: CZE | B45: Czechia | D45: 1 | F45: Mrkvička, Filip
A46: FIN | B46: Finland | C46: 1 | F46: Sundqvist, Christer
A47: PAN | B47: Panama | E47: 1 | F47: Rösch M., Hermann V.
A48: LAT | B48: Latvia | C48: 1 | F48: Gaujens, Artis
A49: SUI | B49: Switzerland | C49: 1 | F49: Baumgartner, Ulrich
A50: USA | B50: U.S.A. | D50: 1 | F50: Bokar, Jason
A51: CUB | B51: Cuba | D51: 1 | F51: Menéndez Rodríguez, Giraldo
A52: SCO | B52: Scotland | D52: 1 | F52: MacMillen, Andrew N.
A53: NCA | B53: Nicaragua | E53: 1 | F53: Bendaña Guerrero, Guy José
A54: NED | B54: Netherlands | C54: 1 | F54: Jansen, Joop
A55: ENG | B55: England | C55: 1 | F55: Beckett, Phillip J.
C57: For | D57: Against | E57: Abstain
B58: Total | C58: =SUM(C3:C56) -> 16 | D58: =SUM(D3:D56) -> 17 | E58: =SUM(E3:E56) -> 20

Sheet 2026-091
A1: 2026-091 Offer to Host the 2027 ICCF Congress in Plzeň, Czech Republic [Conflicts with 2026-090] | B1: 2026-091 Offer to Host the 2027 ICCF Congress in Plzeň, Czech Republic [Conflicts with 2026-090] | C1: 2026-091 Offer to Host the 2027 ICCF Congress in Plzeň, Czech Republic [Conflicts with 2026-090] | D1: 2026-091 Offer to Host the 2027 ICCF Congress in Plzeň, Czech Republic [Conflicts with 2026-090] | E1: 2026-091 Offer to Host the 2027 ICCF Congress in Plzeň, Czech Republic [Conflicts with 2026-090] | F1: 2026-091 Offer to Host the 2027 ICCF Congress in Plzeň, Czech Republic [Conflicts with 2026-090]
A2: Code | B2: Member Federation | C2: For | D2: Against | E2: Abstain | F2: Voting Member
A3: CHI | B3: Chile | C3: 1 | F3: Toro Solís de Ovando, Guillermo F.
A4: NED | B4: Netherlands | C4: 1 | F4: Jansen, Joop
A5: SCO | B5: Scotland | C5: 1 | F5: MacMillen, Andrew N.
A6: USA | B6: U.S.A. | C6: 1 | F6: Bokar, Jason
A7: SWE | B7: Sweden | C7: 1 | F7: Söderberg, Per
A8: DEN | B8: Denmark | C8: 1 | F8: Ottesen, Søren Rud
A9: BEL | B9: Belgium | E9: 1 | F9: Clement, Paul
A10: LUX | B10: Luxembourg | E10: 1 | F10: Klauner, Thed
A11: GER | B11: Germany | C11: 1 | F11: Scheiba, Manfred
A12: NOR | B12: Norway | C12: 1 | F12: Løvås, Roger
A13: CAN | B13: Canada | C13: 1 | F13: Demian, Valer-Eugen
A14: EST | B14: Estonia | E14: 1 | F14: Kuusik, Jüri
A15: ISR | B15: Israel | E15: 1 | F15: Dothan, Yoav
A16: POL | B16: Poland | C16: 1 | F16: Wojnar, Mariusz
A17: BRA | B17: Brazil | E17: 1 | F17: Neves, Bianor de Oliveira
A18: ENG | B18: England | C18: 1 | F18: Beckett, Phillip J.
A19: PHI | B19: Philippines | D19: 1 | F19: Simplina, Arthur
A20: FRA | B20: France | C20: 1 | F20: Ruch, Eric
A21: AUT | B21: Austria | E21: 1 | F21: Hamarat, Tunc
A22: PER | B22: Peru | C22: 1 | F22: Acevedo Villalba, Angel
A23: CUB | B23: Cuba | D23: 1 | F23: Menéndez Rodríguez, Giraldo
A24: ECU | B24: Ecuador | E24: 1 | F24: Bjazevic, Pavao
A25: RSA | B25: South Africa | E25: 1 | F25: Knol, Everdinand
A26: SVK | B26: Slovakia | C26: 1 | F26: Gaži, Miroslav
A27: AUS | B27: Australia | D27: 1 | F27: Gray, Garvin
A28: SLO | B28: Slovenia | C28: 1 | F28: Šemrl, Marjan
A29: GUA | B29: Guatemala | C29: 1 | F29: Blanco Gramajo, César Augusto
A30: ISL | B30: Iceland | C30: 1 | F30: Necchi, Sandro
A31: CRO | B31: Croatia | C31: 1 | F31: Ivec, Ivan
A32: NCA | B32: Nicaragua | E32: 1 | F32: Bendaña Guerrero, Guy José
A33: ARG | B33: Argentina | E33: 1 | F33: Gonçalves, Claudio Javier
A34: ROU | B34: Romania | C34: 1 | F34: Andreica-Navruc, Sebastian
A35: LTU | B35: Lithuania | C35: 1 | F35: Chocenka, Dmitrijus
A36: LAT | B36: Latvia | C36: 1 | F36: Gaujens, Artis
A37: PAN | B37: Panama | E37: 1 | F37: Rösch M., Hermann V.
A38: CZE | B38: Czechia | C38: 1 | F38: Mrkvička, Filip
A39: HUN | B39: Hungary | E39: 1 | F39: Csiba, Tibor
A40: TUR | B40: Türkiye | C40: 1 | F40: Kural, Aziz Serhat
A41: IND | B41: India | D41: 1 | F41: Chatterjee, Ambar
A42: IRL | B42: Ireland | E42: 1 | F42: Salter, David
A43: ITA | B43: Italy | E43: 1 | F43: Ruggeri Laderchi, Giorgio
A44: INA | B44: Indonesia | E44: 1 | F44: Sitorus, Yosua
A45: JPN | B45: Japan | D45: 1 | F45: Hayashi, Koji
A46: BUL | B46: Bulgaria | C46: 1 | F46: Marinov, Petyo
A47: SUI | B47: Switzerland | E47: 1 | F47: Baumgartner, Ulrich
A48: ESP | B48: Spain | E48: 1 | F48: de Andrés Senra, Sergio Iván
A49: WLS | B49: Wales | C49: 1 | F49: Lockwood, Austin
A50: MEX | B50: Mexico | C50: 1 | F50: Mercader Martínez, Juan Gustavo
A51: POR | B51: Portugal | D51: 1 | F51: Martins, Sérgio A.
A52: GRE | B52: Greece | C52: 1 | F52: Arbis, Fotis
A53: UKR | B53: Ukraine | C53: 1 | F53: Horodyskyi, Oleh
A54: FIN | B54: Finland | D54: 1 | F54: Sundqvist, Christer
A55: NZL | B55: New Zealand | D55: 1 | F55: Freeman, Michael Roy
C57: For | D57: Against | E57: Abstain
B58: Total | C58: =SUM(C3:C56) -> 28 | D58: =SUM(D3:D56) -> 8 | E58: =SUM(E3:E56) -> 17
